BEGIN:VCALENDAR
VERSION:2.0
PRODID:-//jEvents 2.0 for Joomla//EN
CALSCALE:GREGORIAN
METHOD:PUBLISH
BEGIN:VTIMEZONE
TZID:America/Toronto
BEGIN:STANDARD
DTSTART:20241103T010000
RDATE:20250309T030000
TZOFFSETFROM:-0400
TZOFFSETTO:-0500
TZNAME:America/Toronto EST
END:STANDARD
BEGIN:STANDARD
DTSTART:20251102T010000
RDATE:20260308T030000
TZOFFSETFROM:-0400
TZOFFSETTO:-0500
TZNAME:America/Toronto EST
END:STANDARD
BEGIN:STANDARD
DTSTART:20261101T010000
RDATE:20270314T030000
TZOFFSETFROM:-0400
TZOFFSETTO:-0500
TZNAME:America/Toronto EST
END:STANDARD
BEGIN:STANDARD
DTSTART:20271107T010000
RDATE:20280312T030000
TZOFFSETFROM:-0400
TZOFFSETTO:-0500
TZNAME:America/Toronto EST
END:STANDARD
BEGIN:STANDARD
DTSTART:20281105T010000
RDATE:20290311T030000
TZOFFSETFROM:-0400
TZOFFSETTO:-0500
TZNAME:America/Toronto EST
END:STANDARD
BEGIN:STANDARD
DTSTART:20291104T010000
RDATE:20300310T030000
TZOFFSETFROM:-0400
TZOFFSETTO:-0500
TZNAME:America/Toronto EST
END:STANDARD
BEGIN:STANDARD
DTSTART:20301103T010000
RDATE:20310309T030000
TZOFFSETFROM:-0400
TZOFFSETTO:-0500
TZNAME:America/Toronto EST
END:STANDARD
BEGIN:STANDARD
DTSTART:20311102T010000
RDATE:20320314T030000
TZOFFSETFROM:-0400
TZOFFSETTO:-0500
TZNAME:America/Toronto EST
END:STANDARD
BEGIN:DAYLIGHT
DTSTART:20240401T080000
RDATE:20241103T010000
TZOFFSETFROM:-0500
TZOFFSETTO:-0400
TZNAME:America/Toronto EDT
END:DAYLIGHT
BEGIN:DAYLIGHT
DTSTART:20250309T030000
RDATE:20251102T010000
TZOFFSETFROM:-0500
TZOFFSETTO:-0400
TZNAME:America/Toronto EDT
END:DAYLIGHT
BEGIN:DAYLIGHT
DTSTART:20260308T030000
RDATE:20261101T010000
TZOFFSETFROM:-0500
TZOFFSETTO:-0400
TZNAME:America/Toronto EDT
END:DAYLIGHT
BEGIN:DAYLIGHT
DTSTART:20270314T030000
RDATE:20271107T010000
TZOFFSETFROM:-0500
TZOFFSETTO:-0400
TZNAME:America/Toronto EDT
END:DAYLIGHT
BEGIN:DAYLIGHT
DTSTART:20280312T030000
RDATE:20281105T010000
TZOFFSETFROM:-0500
TZOFFSETTO:-0400
TZNAME:America/Toronto EDT
END:DAYLIGHT
BEGIN:DAYLIGHT
DTSTART:20290311T030000
RDATE:20291104T010000
TZOFFSETFROM:-0500
TZOFFSETTO:-0400
TZNAME:America/Toronto EDT
END:DAYLIGHT
BEGIN:DAYLIGHT
DTSTART:20300310T030000
RDATE:20301103T010000
TZOFFSETFROM:-0500
TZOFFSETTO:-0400
TZNAME:America/Toronto EDT
END:DAYLIGHT
BEGIN:DAYLIGHT
DTSTART:20310309T030000
RDATE:20311102T010000
TZOFFSETFROM:-0500
TZOFFSETTO:-0400
TZNAME:America/Toronto EDT
END:DAYLIGHT
END:VTIMEZONE
BEGIN:VEVENT
UID:b6837c412c14175b111e6313d05fba00
CATEGORIES:Durham Events
CREATED:20250402T133744
SUMMARY:Grace ~ Oshawa Mural & Art Walk
LOCATION:The Robert McLaughlin Gallery
DESCRIPTION:Oshawa Art Association's Oshawa Mural &amp; Art Walk presents "Grace" by Ma
 ry Anne Barkhouse ~ Sculptor.\nOn April 7, we will celebrate International 
 Beaver Day by sharing this bronze with you.\n"Grace" features three beavers
  cast in bronze, sitting on a piece of Canadian Shield granite from a quarr
 y in the Haliburton Highlands in front of the RMG. Mary Anne Barkhouse is a
  nationally acclaimed artist. She belongs to the Nimpkish band, Kwakiutl Fi
 rst Nation and currently resides in the Haliburton Highlands of Ontario.\nW
 e are sure that as you wander around downtown Oshawa, you will find some ta
 sty spots for a coffee and lunch.\nShare your photo with this or any of the
  other downtown murals or artforms on your social media and tag us @OshawaA
 rtAssociation.\nTo learn more about this and other downtown murals, visit O
 shawaArtAssociation.com/murals  (https://www.oshawaartassociation.com/mural
 s)and checkout our online map https://tinyurl.com/3ktkvbzu\nThe RMG is open
  Tuesday to Sunday, from 10 am to 4 pm (free parking on the weekends).\nTo 
 start your walk at the RMG from the Durham College Oshawa GO Station, take 
 bus 56 to Simcoe S &amp; Athol E (return Centre S &amp; Athol W to Durham C
 ollege Oshawa GO Station.\nhttps://www.oshawaartassociation.com/murals\nhtt
 ps://www.facebook.com/groups/oshawamuralwalk\nhttps://www.instagram.com/osh
 awa.art.association/\nonline map: https://tinyurl.com/3ktkvbzu\n
X-ALT-DESC;FMTTYPE=text/html:<p>Oshawa Art Association's Oshawa Mural &amp; Art Walk presents "Grace" by
  Mary Anne Barkhouse ~ Sculptor.</p><p>On April 7, we will celebrate Intern
 ational Beaver Day by sharing this bronze with you.</p><p>"Grace" features 
 three beavers cast in bronze, sitting on a piece of Canadian Shield granite
  from a quarry in the Haliburton Highlands in front of the RMG. Mary Anne B
 arkhouse is a nationally acclaimed artist. She belongs to the Nimpkish band
 , Kwakiutl First Nation and currently resides in the Haliburton Highlands o
 f Ontario.</p><p>We are sure that as you wander around downtown Oshawa, you
  will find some tasty spots for a coffee and lunch.</p><p>Share your photo 
 with this or any of the other downtown murals or artforms on your social me
 dia and tag us @OshawaArtAssociation.</p><p>To learn more about this and ot
 her downtown murals, visit <a href="https://www.oshawaartassociation.com/mu
 rals">OshawaArtAssociation.com/murals </a>and checkout our online map https
 ://tinyurl.com/3ktkvbzu</p><p>The RMG is open Tuesday to Sunday, from 10 am
  to 4 pm (free parking on the weekends).</p><p>To start your walk at the RM
 G from the Durham College Oshawa GO Station, take bus 56 to Simcoe S &amp; 
 Athol E (return Centre S &amp; Athol W to Durham College Oshawa GO Station.
 </p><p>https://www.oshawaartassociation.com/murals<br />https://www.faceboo
 k.com/groups/oshawamuralwalk<br />https://www.instagram.com/oshawa.art.asso
 ciation/<br />online map: https://tinyurl.com/3ktkvbzu</p>
CONTACT:This email address is being protected from spambots. You need JavaScript enabled to view it.
X-EXTRAINFO:This is one of a series of murals and artforms the Oshawa Art Association w
 ill be promoting in 2025.
DTSTAMP:20260420T142802
DTSTART;TZID=America/Toronto:20250402T080000
SEQUENCE:0
TRANSP:OPAQUE
END:VEVENT
END:VCALENDAR