BEGIN:VCALENDAR
VERSION:2.0
PRODID:-//jEvents 2.0 for Joomla//EN
CALSCALE:GREGORIAN
METHOD:PUBLISH
BEGIN:VTIMEZONE
TZID:America/Toronto
BEGIN:STANDARD
DTSTART:20231105T010000
RDATE:20240310T030000
TZOFFSETFROM:-0400
TZOFFSETTO:-0500
TZNAME:America/Toronto EST
END:STANDARD
BEGIN:STANDARD
DTSTART:20241103T010000
RDATE:20250309T030000
TZOFFSETFROM:-0400
TZOFFSETTO:-0500
TZNAME:America/Toronto EST
END:STANDARD
BEGIN:STANDARD
DTSTART:20251102T010000
RDATE:20260308T030000
TZOFFSETFROM:-0400
TZOFFSETTO:-0500
TZNAME:America/Toronto EST
END:STANDARD
BEGIN:STANDARD
DTSTART:20261101T010000
RDATE:20270314T030000
TZOFFSETFROM:-0400
TZOFFSETTO:-0500
TZNAME:America/Toronto EST
END:STANDARD
BEGIN:STANDARD
DTSTART:20271107T010000
RDATE:20280312T030000
TZOFFSETFROM:-0400
TZOFFSETTO:-0500
TZNAME:America/Toronto EST
END:STANDARD
BEGIN:STANDARD
DTSTART:20281105T010000
RDATE:20290311T030000
TZOFFSETFROM:-0400
TZOFFSETTO:-0500
TZNAME:America/Toronto EST
END:STANDARD
BEGIN:STANDARD
DTSTART:20291104T010000
RDATE:20300310T030000
TZOFFSETFROM:-0400
TZOFFSETTO:-0500
TZNAME:America/Toronto EST
END:STANDARD
BEGIN:STANDARD
DTSTART:20301103T010000
RDATE:20310309T030000
TZOFFSETFROM:-0400
TZOFFSETTO:-0500
TZNAME:America/Toronto EST
END:STANDARD
BEGIN:STANDARD
DTSTART:20311102T010000
RDATE:20320314T030000
TZOFFSETFROM:-0400
TZOFFSETTO:-0500
TZNAME:America/Toronto EST
END:STANDARD
BEGIN:DAYLIGHT
DTSTART:20230506T000000
RDATE:20231105T010000
TZOFFSETFROM:-0500
TZOFFSETTO:-0400
TZNAME:America/Toronto EDT
END:DAYLIGHT
BEGIN:DAYLIGHT
DTSTART:20240310T030000
RDATE:20241103T010000
TZOFFSETFROM:-0500
TZOFFSETTO:-0400
TZNAME:America/Toronto EDT
END:DAYLIGHT
BEGIN:DAYLIGHT
DTSTART:20250309T030000
RDATE:20251102T010000
TZOFFSETFROM:-0500
TZOFFSETTO:-0400
TZNAME:America/Toronto EDT
END:DAYLIGHT
BEGIN:DAYLIGHT
DTSTART:20260308T030000
RDATE:20261101T010000
TZOFFSETFROM:-0500
TZOFFSETTO:-0400
TZNAME:America/Toronto EDT
END:DAYLIGHT
BEGIN:DAYLIGHT
DTSTART:20270314T030000
RDATE:20271107T010000
TZOFFSETFROM:-0500
TZOFFSETTO:-0400
TZNAME:America/Toronto EDT
END:DAYLIGHT
BEGIN:DAYLIGHT
DTSTART:20280312T030000
RDATE:20281105T010000
TZOFFSETFROM:-0500
TZOFFSETTO:-0400
TZNAME:America/Toronto EDT
END:DAYLIGHT
BEGIN:DAYLIGHT
DTSTART:20290311T030000
RDATE:20291104T010000
TZOFFSETFROM:-0500
TZOFFSETTO:-0400
TZNAME:America/Toronto EDT
END:DAYLIGHT
BEGIN:DAYLIGHT
DTSTART:20300310T030000
RDATE:20301103T010000
TZOFFSETFROM:-0500
TZOFFSETTO:-0400
TZNAME:America/Toronto EDT
END:DAYLIGHT
BEGIN:DAYLIGHT
DTSTART:20310309T030000
RDATE:20311102T010000
TZOFFSETFROM:-0500
TZOFFSETTO:-0400
TZNAME:America/Toronto EDT
END:DAYLIGHT
END:VTIMEZONE
BEGIN:VEVENT
UID:b45b1aadc39de5157feb6914a11ca2a9
CATEGORIES:Durham Events
CREATED:20240506T111025
SUMMARY:Seeds for Eco Communities Rain Barrel Sale
LOCATION:Online Fundraiser
DESCRIPTION:Seeds For Communities have partnered with RainBarrel.ca for a fourth season
  as they hold their rain barrel and composter fundraiser sale for residents
  of Ajax, Pickering, Whitby, Oshawa and Prince Edward County. \nEach rain b
 arrel includes a leaf and mosquito filter basket, an overflow adaptor, a sp
 igot/tap and an overflow hose. Also included in our fundraising campaign ar
 e home composters for purchase.\nWith Spring in full swing, there are many 
 great reasons to use a rain barrel. Not only does harvesting rainwater help
  with your gardens, it can even help cut down on water bills! \nBarrels mus
 t be pre-ordered in advance online and will be scheduled for home delivery 
 in early June. For more information on rain barrels and our fundraiser, ple
 ase visit our fundraiser website here. (https://rainbarrel.ca/seedsforecoco
 mmunities/)\n
X-ALT-DESC;FMTTYPE=text/html:<p dir="ltr">Seeds For Communities have partnered with RainBarrel.ca for a 
 fourth season as they hold their rain barrel and composter fundraiser sale 
 for residents of Ajax, Pickering, Whitby, Oshawa and Prince Edward County.&
 nbsp;</p><p dir="ltr">Each rain barrel includes a leaf and mosquito filter 
 basket, an overflow adaptor, a spigot/tap and an overflow hose.&nbsp;Also i
 ncluded in our fundraising campaign are home composters for purchase.</p><p
 >With Spring in full swing, there are many great reasons to use a rain barr
 el. Not only does harvesting rainwater help with your gardens, it can even 
 help cut down on water bills!&nbsp;</p><p dir="ltr">Barrels must be pre-ord
 ered in advance online and will be scheduled for home delivery in early Jun
 e. For more information on rain barrels and our fundraiser, please visit&nb
 sp;<a href="https://rainbarrel.ca/seedsforecocommunities/" target="_blank" 
 rel="noopener noreferrer" data-auth="NotApplicable" data-linkindex="0">our 
 fundraiser website here.</a></p>
CONTACT:Lauren Harrison 
X-EXTRAINFO:https://rainbarrel.ca/seedsforecocommunities/
DTSTAMP:20260421T050739
DTSTART;TZID=America/Toronto;VALUE=DATE:20240506
DTEND;TZID=America/Toronto;VALUE=DATE:20240507
SEQUENCE:0
TRANSP:OPAQUE
END:VEVENT
END:VCALENDAR