BEGIN:VCALENDAR
VERSION:2.0
PRODID:-//jEvents 2.0 for Joomla//EN
CALSCALE:GREGORIAN
METHOD:PUBLISH
BEGIN:VTIMEZONE
TZID:America/Toronto
BEGIN:STANDARD
DTSTART:20231105T010000
RDATE:20240310T030000
TZOFFSETFROM:-0400
TZOFFSETTO:-0500
TZNAME:America/Toronto EST
END:STANDARD
BEGIN:STANDARD
DTSTART:20241103T010000
RDATE:20250309T030000
TZOFFSETFROM:-0400
TZOFFSETTO:-0500
TZNAME:America/Toronto EST
END:STANDARD
BEGIN:STANDARD
DTSTART:20251102T010000
RDATE:20260308T030000
TZOFFSETFROM:-0400
TZOFFSETTO:-0500
TZNAME:America/Toronto EST
END:STANDARD
BEGIN:STANDARD
DTSTART:20261101T010000
RDATE:20270314T030000
TZOFFSETFROM:-0400
TZOFFSETTO:-0500
TZNAME:America/Toronto EST
END:STANDARD
BEGIN:STANDARD
DTSTART:20271107T010000
RDATE:20280312T030000
TZOFFSETFROM:-0400
TZOFFSETTO:-0500
TZNAME:America/Toronto EST
END:STANDARD
BEGIN:STANDARD
DTSTART:20281105T010000
RDATE:20290311T030000
TZOFFSETFROM:-0400
TZOFFSETTO:-0500
TZNAME:America/Toronto EST
END:STANDARD
BEGIN:STANDARD
DTSTART:20291104T010000
RDATE:20300310T030000
TZOFFSETFROM:-0400
TZOFFSETTO:-0500
TZNAME:America/Toronto EST
END:STANDARD
BEGIN:STANDARD
DTSTART:20301103T010000
RDATE:20310309T030000
TZOFFSETFROM:-0400
TZOFFSETTO:-0500
TZNAME:America/Toronto EST
END:STANDARD
BEGIN:STANDARD
DTSTART:20311102T010000
RDATE:20320314T030000
TZOFFSETFROM:-0400
TZOFFSETTO:-0500
TZNAME:America/Toronto EST
END:STANDARD
BEGIN:DAYLIGHT
DTSTART:20230524T070000
RDATE:20231105T010000
TZOFFSETFROM:-0500
TZOFFSETTO:-0400
TZNAME:America/Toronto EDT
END:DAYLIGHT
BEGIN:DAYLIGHT
DTSTART:20240310T030000
RDATE:20241103T010000
TZOFFSETFROM:-0500
TZOFFSETTO:-0400
TZNAME:America/Toronto EDT
END:DAYLIGHT
BEGIN:DAYLIGHT
DTSTART:20250309T030000
RDATE:20251102T010000
TZOFFSETFROM:-0500
TZOFFSETTO:-0400
TZNAME:America/Toronto EDT
END:DAYLIGHT
BEGIN:DAYLIGHT
DTSTART:20260308T030000
RDATE:20261101T010000
TZOFFSETFROM:-0500
TZOFFSETTO:-0400
TZNAME:America/Toronto EDT
END:DAYLIGHT
BEGIN:DAYLIGHT
DTSTART:20270314T030000
RDATE:20271107T010000
TZOFFSETFROM:-0500
TZOFFSETTO:-0400
TZNAME:America/Toronto EDT
END:DAYLIGHT
BEGIN:DAYLIGHT
DTSTART:20280312T030000
RDATE:20281105T010000
TZOFFSETFROM:-0500
TZOFFSETTO:-0400
TZNAME:America/Toronto EDT
END:DAYLIGHT
BEGIN:DAYLIGHT
DTSTART:20290311T030000
RDATE:20291104T010000
TZOFFSETFROM:-0500
TZOFFSETTO:-0400
TZNAME:America/Toronto EDT
END:DAYLIGHT
BEGIN:DAYLIGHT
DTSTART:20300310T030000
RDATE:20301103T010000
TZOFFSETFROM:-0500
TZOFFSETTO:-0400
TZNAME:America/Toronto EDT
END:DAYLIGHT
BEGIN:DAYLIGHT
DTSTART:20310309T030000
RDATE:20311102T010000
TZOFFSETFROM:-0500
TZOFFSETTO:-0400
TZNAME:America/Toronto EDT
END:DAYLIGHT
END:VTIMEZONE
BEGIN:VEVENT
UID:f793667ea8d7e7b3921a9efa72a564f3
CATEGORIES:Durham Events
CREATED:20240425T090702
SUMMARY:Acclaimed Climate Change Researcher to Speak in Port Perry
LOCATION:Port Perry\, Ontario
DESCRIPTION:The Scugog Lake Stewards will be welcoming Dr. Sapna Sharma of York Univers
 ity to speak on climate change and its effect on freshwater lakes. She will
  be speaking at the Port Perry Anglican Church, 266 North Street, Port Perr
 y, on Tuesday, May 7th, 2024 at 7 pm.   There is no one more qualified to s
 peak on this topic. Her talk entitled "On thin ice: Are lakes feeling the h
 eat?"  should be of  great interest to those who enjoy Lake Scugog and othe
 r lakes.  Everyone welcome.Scugog Lake Stewards (http://.www.scugoglakestew
 ards.com)\n
X-ALT-DESC;FMTTYPE=text/html:<p>The Scugog Lake Stewards will be welcoming Dr. Sapna Sharma of York Univ
 ersity to speak on climate change and its effect on freshwater lakes. She w
 ill be speaking at the Port Perry Anglican Church, 266 North Street, Port P
 erry, on Tuesday, May 7th, 2024 at 7 pm.   There is no one more qualified t
 o speak on this topic. Her talk entitled "On thin ice: Are lakes feeling th
 e heat?"  should be of  great interest to those who enjoy Lake Scugog and o
 ther lakes.  Everyone welcome.<a href="http://.www.scugoglakestewards.com">
 Scugog Lake Stewards</a></p>
CONTACT:Barbara Karthein
X-EXTRAINFO:905-985-0958\nCouldn't set repeat until, should end on May 8, 2024. 
DTSTAMP:20260421T183041
DTSTART;TZID=America/Toronto:20240524T070000
SEQUENCE:0
TRANSP:OPAQUE
END:VEVENT
END:VCALENDAR