BEGIN:VCALENDAR
VERSION:2.0
PRODID:-//jEvents 2.0 for Joomla//EN
CALSCALE:GREGORIAN
METHOD:PUBLISH
BEGIN:VTIMEZONE
TZID:America/Toronto
BEGIN:STANDARD
DTSTART:20231105T010000
RDATE:20240310T030000
TZOFFSETFROM:-0400
TZOFFSETTO:-0500
TZNAME:America/Toronto EST
END:STANDARD
BEGIN:STANDARD
DTSTART:20241103T010000
RDATE:20250309T030000
TZOFFSETFROM:-0400
TZOFFSETTO:-0500
TZNAME:America/Toronto EST
END:STANDARD
BEGIN:STANDARD
DTSTART:20251102T010000
RDATE:20260308T030000
TZOFFSETFROM:-0400
TZOFFSETTO:-0500
TZNAME:America/Toronto EST
END:STANDARD
BEGIN:STANDARD
DTSTART:20261101T010000
RDATE:20270314T030000
TZOFFSETFROM:-0400
TZOFFSETTO:-0500
TZNAME:America/Toronto EST
END:STANDARD
BEGIN:STANDARD
DTSTART:20271107T010000
RDATE:20280312T030000
TZOFFSETFROM:-0400
TZOFFSETTO:-0500
TZNAME:America/Toronto EST
END:STANDARD
BEGIN:STANDARD
DTSTART:20281105T010000
RDATE:20290311T030000
TZOFFSETFROM:-0400
TZOFFSETTO:-0500
TZNAME:America/Toronto EST
END:STANDARD
BEGIN:STANDARD
DTSTART:20291104T010000
RDATE:20300310T030000
TZOFFSETFROM:-0400
TZOFFSETTO:-0500
TZNAME:America/Toronto EST
END:STANDARD
BEGIN:STANDARD
DTSTART:20301103T010000
RDATE:20310309T030000
TZOFFSETFROM:-0400
TZOFFSETTO:-0500
TZNAME:America/Toronto EST
END:STANDARD
BEGIN:STANDARD
DTSTART:20311102T010000
RDATE:20320314T030000
TZOFFSETFROM:-0400
TZOFFSETTO:-0500
TZNAME:America/Toronto EST
END:STANDARD
BEGIN:DAYLIGHT
DTSTART:20230315T090000
RDATE:20231105T010000
TZOFFSETFROM:-0500
TZOFFSETTO:-0400
TZNAME:America/Toronto EDT
END:DAYLIGHT
BEGIN:DAYLIGHT
DTSTART:20240310T030000
RDATE:20241103T010000
TZOFFSETFROM:-0500
TZOFFSETTO:-0400
TZNAME:America/Toronto EDT
END:DAYLIGHT
BEGIN:DAYLIGHT
DTSTART:20250309T030000
RDATE:20251102T010000
TZOFFSETFROM:-0500
TZOFFSETTO:-0400
TZNAME:America/Toronto EDT
END:DAYLIGHT
BEGIN:DAYLIGHT
DTSTART:20260308T030000
RDATE:20261101T010000
TZOFFSETFROM:-0500
TZOFFSETTO:-0400
TZNAME:America/Toronto EDT
END:DAYLIGHT
BEGIN:DAYLIGHT
DTSTART:20270314T030000
RDATE:20271107T010000
TZOFFSETFROM:-0500
TZOFFSETTO:-0400
TZNAME:America/Toronto EDT
END:DAYLIGHT
BEGIN:DAYLIGHT
DTSTART:20280312T030000
RDATE:20281105T010000
TZOFFSETFROM:-0500
TZOFFSETTO:-0400
TZNAME:America/Toronto EDT
END:DAYLIGHT
BEGIN:DAYLIGHT
DTSTART:20290311T030000
RDATE:20291104T010000
TZOFFSETFROM:-0500
TZOFFSETTO:-0400
TZNAME:America/Toronto EDT
END:DAYLIGHT
BEGIN:DAYLIGHT
DTSTART:20300310T030000
RDATE:20301103T010000
TZOFFSETFROM:-0500
TZOFFSETTO:-0400
TZNAME:America/Toronto EDT
END:DAYLIGHT
BEGIN:DAYLIGHT
DTSTART:20310309T030000
RDATE:20311102T010000
TZOFFSETFROM:-0500
TZOFFSETTO:-0400
TZNAME:America/Toronto EDT
END:DAYLIGHT
END:VTIMEZONE
BEGIN:VEVENT
UID:b2cfa5dfafefba9a2a3625889e609c82
CATEGORIES:Durham Events
CREATED:20240227T131128
SUMMARY:March Break is OMazing!
LOCATION:1450 Simcoe St. S.\, Oshawa
DESCRIPTION:Need something to do this March Break? The Oshawa Museum is gearing up for 
 an OMazing week of fun in Lakeview Park! All of the fun starts in Guy House
 !\n \nFrom Monday to Friday, tours of Robinson House and Henry House ($5 pe
 r person) happen on the hour. Drop-in activities happen Monday, Wednesday, 
 and Friday from 9 a.m. to 3 p.m. in the Verna Conant Gallery at Guy House. 
 Admission is $5 per person and includes a tour and activity. And don’t forg
 et to visit the gift shop for all the best Oshawa Museum swag!\n \nMonday –
  ‘Spring forward’ making clocks, sundials, and sun catcher mandalas to cele
 brate an extra hour of daylight.\n \nWednesday – Curious about cameras? Get
  hands-on with our collection of antique and vintage cameras! Weigh them, c
 ompare them to modern cameras and rate our collection! Do you have what it 
 takes to sit still for flashes like the Victorians? Use props and costumes 
 in the gallery to take pics and tag us on your socials!\n \nFriday – Make a
  Lego artefact and put your art on display at the Oshawa Museum! We provide
  the Lego, and the kids provide the creativity! Design a label to share you
 r vision and watch the exhibit grow.\n
X-ALT-DESC;FMTTYPE=text/html:<p>Need something to do this March Break? The Oshawa Museum is gearing up f
 or an OMazing week of fun in Lakeview Park! All of the fun starts in Guy Ho
 use!</p><p> </p><p>From Monday to Friday, tours of Robinson House and Henry
  House ($5 per person) happen on the hour. Drop-in activities happen Monday
 , Wednesday, and Friday from 9 a.m. to 3 p.m. in the Verna Conant Gallery a
 t Guy House. Admission is $5 per person and includes a tour and activity. A
 nd don’t forget to visit the gift shop for all the best Oshawa Museum swag!
 </p><p> </p><p><strong>Monday</strong> – ‘Spring forward’ making clocks, su
 ndials, and sun catcher mandalas to celebrate an extra hour of daylight.</p
 ><p> </p><p><strong>Wednesday</strong> – Curious about cameras? Get hands-o
 n with our collection of antique and vintage cameras! Weigh them, compare t
 hem to modern cameras and rate our collection! Do you have what it takes to
  sit still for flashes like the Victorians? Use props and costumes in the g
 allery to take pics and tag us on your socials!</p><p> </p><p><strong>Frida
 y </strong>– Make a Lego artefact and put your art on display at the Oshawa
  Museum! We provide the Lego, and the kids provide the creativity! Design a
  label to share your vision and watch the exhibit grow.</p>
CONTACT:Jill Passmore
X-EXTRAINFO:This email address is being protected from spambots. You need JavaScript en
 abled to view it.\n905-436-7624 x. 106
DTSTAMP:20260421T050811
DTSTART;TZID=America/Toronto:20240315T090000
DTEND;TZID=America/Toronto:20240315T150000
SEQUENCE:0
TRANSP:OPAQUE
END:VEVENT
END:VCALENDAR