BEGIN:VCALENDAR
VERSION:2.0
PRODID:-//jEvents 2.0 for Joomla//EN
CALSCALE:GREGORIAN
METHOD:PUBLISH
BEGIN:VTIMEZONE
TZID:America/Toronto
BEGIN:STANDARD
DTSTART:20221117T093000
RDATE:20230312T030000
TZOFFSETFROM:-0400
TZOFFSETTO:-0500
TZNAME:America/Toronto EST
END:STANDARD
BEGIN:STANDARD
DTSTART:20231105T010000
RDATE:20240310T030000
TZOFFSETFROM:-0400
TZOFFSETTO:-0500
TZNAME:America/Toronto EST
END:STANDARD
BEGIN:STANDARD
DTSTART:20241103T010000
RDATE:20250309T030000
TZOFFSETFROM:-0400
TZOFFSETTO:-0500
TZNAME:America/Toronto EST
END:STANDARD
BEGIN:STANDARD
DTSTART:20251102T010000
RDATE:20260308T030000
TZOFFSETFROM:-0400
TZOFFSETTO:-0500
TZNAME:America/Toronto EST
END:STANDARD
BEGIN:STANDARD
DTSTART:20261101T010000
RDATE:20270314T030000
TZOFFSETFROM:-0400
TZOFFSETTO:-0500
TZNAME:America/Toronto EST
END:STANDARD
BEGIN:STANDARD
DTSTART:20271107T010000
RDATE:20280312T030000
TZOFFSETFROM:-0400
TZOFFSETTO:-0500
TZNAME:America/Toronto EST
END:STANDARD
BEGIN:STANDARD
DTSTART:20281105T010000
RDATE:20290311T030000
TZOFFSETFROM:-0400
TZOFFSETTO:-0500
TZNAME:America/Toronto EST
END:STANDARD
BEGIN:STANDARD
DTSTART:20291104T010000
RDATE:20300310T030000
TZOFFSETFROM:-0400
TZOFFSETTO:-0500
TZNAME:America/Toronto EST
END:STANDARD
BEGIN:STANDARD
DTSTART:20301103T010000
RDATE:20310309T030000
TZOFFSETFROM:-0400
TZOFFSETTO:-0500
TZNAME:America/Toronto EST
END:STANDARD
BEGIN:STANDARD
DTSTART:20311102T010000
RDATE:20320314T030000
TZOFFSETFROM:-0400
TZOFFSETTO:-0500
TZNAME:America/Toronto EST
END:STANDARD
BEGIN:DAYLIGHT
DTSTART:20230312T030000
RDATE:20231105T010000
TZOFFSETFROM:-0500
TZOFFSETTO:-0400
TZNAME:America/Toronto EDT
END:DAYLIGHT
BEGIN:DAYLIGHT
DTSTART:20240310T030000
RDATE:20241103T010000
TZOFFSETFROM:-0500
TZOFFSETTO:-0400
TZNAME:America/Toronto EDT
END:DAYLIGHT
BEGIN:DAYLIGHT
DTSTART:20250309T030000
RDATE:20251102T010000
TZOFFSETFROM:-0500
TZOFFSETTO:-0400
TZNAME:America/Toronto EDT
END:DAYLIGHT
BEGIN:DAYLIGHT
DTSTART:20260308T030000
RDATE:20261101T010000
TZOFFSETFROM:-0500
TZOFFSETTO:-0400
TZNAME:America/Toronto EDT
END:DAYLIGHT
BEGIN:DAYLIGHT
DTSTART:20270314T030000
RDATE:20271107T010000
TZOFFSETFROM:-0500
TZOFFSETTO:-0400
TZNAME:America/Toronto EDT
END:DAYLIGHT
BEGIN:DAYLIGHT
DTSTART:20280312T030000
RDATE:20281105T010000
TZOFFSETFROM:-0500
TZOFFSETTO:-0400
TZNAME:America/Toronto EDT
END:DAYLIGHT
BEGIN:DAYLIGHT
DTSTART:20290311T030000
RDATE:20291104T010000
TZOFFSETFROM:-0500
TZOFFSETTO:-0400
TZNAME:America/Toronto EDT
END:DAYLIGHT
BEGIN:DAYLIGHT
DTSTART:20300310T030000
RDATE:20301103T010000
TZOFFSETFROM:-0500
TZOFFSETTO:-0400
TZNAME:America/Toronto EDT
END:DAYLIGHT
BEGIN:DAYLIGHT
DTSTART:20310309T030000
RDATE:20311102T010000
TZOFFSETFROM:-0500
TZOFFSETTO:-0400
TZNAME:America/Toronto EDT
END:DAYLIGHT
END:VTIMEZONE
BEGIN:VEVENT
UID:f7f82686700225e11bbddd49b18cb2b3
CATEGORIES:Durham Events
CREATED:20231013T150440
SUMMARY:Christmas Bazaar
LOCATION:690 King St. E Oshawa
DESCRIPTION:\n -  GERTRUDE’S CWL CHRISTMAS \nBAZAAR –BAKE SALE- 50/50\nSaturday Novembe
 r 18th \nSunday November 19th \n9:30am-2:00pm\n \nPrivate Vendors\nChristma
 s Café -Silent Auction\nKids Crafts\nJewellery- Books- Puzzles\nChristmas T
 able - 2nd Time around Table\nTurkey Draw (Saturday)\n \nSt Gertrude’s Pari
 sh Hall\n690 King St. E. Oshawa\nWheelchair Accessible\n
X-ALT-DESC;FMTTYPE=text/html:<ol><li><strong> GERTRUDE’S CWL CHRISTMAS</strong></li></ol><p><strong> </s
 trong></p><p><strong>BAZAAR –BAKE SALE- 50/50</strong></p><p><strong>Saturd
 ay November 18<sup>th</sup> </strong></p><p><strong>Sunday November 19<sup>
 th</sup> </strong></p><p><strong>9:30am-2:00pm</strong></p><p><strong> </st
 rong></p><p><strong>Private Vendors</strong></p><p><strong>Christmas Café -
 Silent Auction</strong></p><p><strong>Kids Crafts</strong></p><p><strong>Je
 wellery- Books- Puzzles</strong></p><p><strong>Christmas Table - 2<sup>nd</
 sup> Time around Table</strong></p><p><strong>Turkey Draw (Saturday)</stron
 g></p><p><strong> </strong></p><p><strong>St Gertrude’s Parish Hall</strong
 ></p><p><strong>690 King St. E. Oshawa</strong></p><p><strong>Wheelchair Ac
 cessible</strong></p>
CONTACT:Evelyn Hunter
X-EXTRAINFO:Fun for the whole family
DTSTAMP:20260421T090428
DTSTART;TZID=America/Toronto:20231118T093000
DTEND;TZID=America/Toronto:20231118T140000
SEQUENCE:0
TRANSP:OPAQUE
END:VEVENT
END:VCALENDAR