BEGIN:VCALENDAR
VERSION:2.0
PRODID:-//jEvents 2.0 for Joomla//EN
CALSCALE:GREGORIAN
METHOD:PUBLISH
BEGIN:VTIMEZONE
TZID:America/Toronto
BEGIN:STANDARD
DTSTART:20221106T010000
RDATE:20230312T030000
TZOFFSETFROM:-0400
TZOFFSETTO:-0500
TZNAME:America/Toronto EST
END:STANDARD
BEGIN:STANDARD
DTSTART:20231105T010000
RDATE:20240310T030000
TZOFFSETFROM:-0400
TZOFFSETTO:-0500
TZNAME:America/Toronto EST
END:STANDARD
BEGIN:STANDARD
DTSTART:20241103T010000
RDATE:20250309T030000
TZOFFSETFROM:-0400
TZOFFSETTO:-0500
TZNAME:America/Toronto EST
END:STANDARD
BEGIN:STANDARD
DTSTART:20251102T010000
RDATE:20260308T030000
TZOFFSETFROM:-0400
TZOFFSETTO:-0500
TZNAME:America/Toronto EST
END:STANDARD
BEGIN:STANDARD
DTSTART:20261101T010000
RDATE:20270314T030000
TZOFFSETFROM:-0400
TZOFFSETTO:-0500
TZNAME:America/Toronto EST
END:STANDARD
BEGIN:STANDARD
DTSTART:20271107T010000
RDATE:20280312T030000
TZOFFSETFROM:-0400
TZOFFSETTO:-0500
TZNAME:America/Toronto EST
END:STANDARD
BEGIN:STANDARD
DTSTART:20281105T010000
RDATE:20290311T030000
TZOFFSETFROM:-0400
TZOFFSETTO:-0500
TZNAME:America/Toronto EST
END:STANDARD
BEGIN:STANDARD
DTSTART:20291104T010000
RDATE:20300310T030000
TZOFFSETFROM:-0400
TZOFFSETTO:-0500
TZNAME:America/Toronto EST
END:STANDARD
BEGIN:STANDARD
DTSTART:20301103T010000
RDATE:20310309T030000
TZOFFSETFROM:-0400
TZOFFSETTO:-0500
TZNAME:America/Toronto EST
END:STANDARD
BEGIN:STANDARD
DTSTART:20311102T010000
RDATE:20320314T030000
TZOFFSETFROM:-0400
TZOFFSETTO:-0500
TZNAME:America/Toronto EST
END:STANDARD
BEGIN:DAYLIGHT
DTSTART:20220909T140000
RDATE:20221106T010000
TZOFFSETFROM:-0500
TZOFFSETTO:-0400
TZNAME:America/Toronto EDT
END:DAYLIGHT
BEGIN:DAYLIGHT
DTSTART:20230312T030000
RDATE:20231105T010000
TZOFFSETFROM:-0500
TZOFFSETTO:-0400
TZNAME:America/Toronto EDT
END:DAYLIGHT
BEGIN:DAYLIGHT
DTSTART:20240310T030000
RDATE:20241103T010000
TZOFFSETFROM:-0500
TZOFFSETTO:-0400
TZNAME:America/Toronto EDT
END:DAYLIGHT
BEGIN:DAYLIGHT
DTSTART:20250309T030000
RDATE:20251102T010000
TZOFFSETFROM:-0500
TZOFFSETTO:-0400
TZNAME:America/Toronto EDT
END:DAYLIGHT
BEGIN:DAYLIGHT
DTSTART:20260308T030000
RDATE:20261101T010000
TZOFFSETFROM:-0500
TZOFFSETTO:-0400
TZNAME:America/Toronto EDT
END:DAYLIGHT
BEGIN:DAYLIGHT
DTSTART:20270314T030000
RDATE:20271107T010000
TZOFFSETFROM:-0500
TZOFFSETTO:-0400
TZNAME:America/Toronto EDT
END:DAYLIGHT
BEGIN:DAYLIGHT
DTSTART:20280312T030000
RDATE:20281105T010000
TZOFFSETFROM:-0500
TZOFFSETTO:-0400
TZNAME:America/Toronto EDT
END:DAYLIGHT
BEGIN:DAYLIGHT
DTSTART:20290311T030000
RDATE:20291104T010000
TZOFFSETFROM:-0500
TZOFFSETTO:-0400
TZNAME:America/Toronto EDT
END:DAYLIGHT
BEGIN:DAYLIGHT
DTSTART:20300310T030000
RDATE:20301103T010000
TZOFFSETFROM:-0500
TZOFFSETTO:-0400
TZNAME:America/Toronto EDT
END:DAYLIGHT
BEGIN:DAYLIGHT
DTSTART:20310309T030000
RDATE:20311102T010000
TZOFFSETFROM:-0500
TZOFFSETTO:-0400
TZNAME:America/Toronto EDT
END:DAYLIGHT
END:VTIMEZONE
BEGIN:VEVENT
UID:647da4ca0f9efa5d2f486cd0f91737a1
CATEGORIES:Durham Events
CREATED:20230802T102714
SUMMARY:Scenes from the Cemetery
LOCATION:Union Cemetery\, 760 King Street West\, Oshawa
DESCRIPTION:On Saturday, September 9 and Sunday, September 10, take a tour through Osha
 wa’s Union Cemetery with the dramatic tour Scenes from the Cemetery. On thi
 s walking tour, actors will bring stories to life, portraying people from O
 shawa’s past and celebrating these exceptional individuals. Saturday, Septe
 mber 9 and Sunday, September 10, 2023;\nShow start times: 2 p.m.; 2:20 p.m.
 ; 2:40 p.m.; 3 p.m. Tickets are $20 each (plus applicable fees) and can be 
 bought online via Eventbrite.com - if you need help reserving your tickets,
  please contact Lisa at the Oshawa Museum (905-436-7624 x 105)Tickets: http
 s://www.eventbrite.com/e/scenes-from-the-cemetery-2023-tickets-676627088837
  (https://www.eventbrite.com/e/scenes-from-the-cemetery-2023-tickets-676627
 088837)  As the number of tour spots for each group time is limited, we urg
 e you to purchase your tickets in advance to avoid disappointment. Please b
 e aware there are different dates/times for this event. Be careful when sel
 ecting your choice. Rain or Shine! Thank you to our event partners:\nCity o
 f Oshawa\nOshawa Little Theatre
X-ALT-DESC;FMTTYPE=text/html:<div class="xdj266r x11i5rnm xat24cr x1mh8g0r x1vvkbs">On Saturday, Septemb
 er 9 and Sunday, September 10, take a tour through Oshawa’s Union Cemetery 
 with the dramatic tour Scenes from the Cemetery. On this walking tour, acto
 rs will bring stories to life, portraying people from Oshawa’s past and cel
 ebrating these exceptional individuals.</div><div class="xdj266r x11i5rnm x
 at24cr x1mh8g0r x1vvkbs"> </div><div class="x11i5rnm xat24cr x1mh8g0r x1vvk
 bs xtlvy1s">Saturday, September 9 and Sunday, September 10, 2023;<br />Show
  start times: 2 p.m.; 2:20 p.m.; 2:40 p.m.; 3 p.m.</div><div class="x11i5rn
 m xat24cr x1mh8g0r x1vvkbs xtlvy1s"> </div><div class="x11i5rnm xat24cr x1m
 h8g0r x1vvkbs xtlvy1s">Tickets are $20 each (plus applicable fees) and can 
 be bought online via Eventbrite.com - if you need help reserving your ticke
 ts, please contact Lisa at the Oshawa Museum (905-436-7624 x 105)</div><div
  class="x11i5rnm xat24cr x1mh8g0r x1vvkbs xtlvy1s">Tickets: <a href="https:
 //www.eventbrite.com/e/scenes-from-the-cemetery-2023-tickets-676627088837">
 https://www.eventbrite.com/e/scenes-from-the-cemetery-2023-tickets-67662708
 8837</a> </div><div class="x11i5rnm xat24cr x1mh8g0r x1vvkbs xtlvy1s"> </di
 v><div class="x11i5rnm xat24cr x1mh8g0r x1vvkbs xtlvy1s">As the number of t
 our spots for each group time is limited, we urge you to purchase your tick
 ets in advance to avoid disappointment. Please be aware there are different
  dates/times for this event. Be careful when selecting your choice. Rain or
  Shine!</div><div class="x11i5rnm xat24cr x1mh8g0r x1vvkbs xtlvy1s"> </div>
 <div class="x11i5rnm xat24cr x1mh8g0r x1vvkbs xtlvy1s">Thank you to our eve
 nt partners:<br />City of Oshawa<br />Oshawa Little Theatre</div>
CONTACT:Lisa Terech
DTSTAMP:20260420T213327
DTSTART;TZID=America/Toronto:20230910T140000
DTEND;TZID=America/Toronto:20230910T170000
SEQUENCE:0
TRANSP:OPAQUE
END:VEVENT
END:VCALENDAR