BEGIN:VCALENDAR
VERSION:2.0
PRODID:-//jEvents 2.0 for Joomla//EN
CALSCALE:GREGORIAN
METHOD:PUBLISH
BEGIN:VTIMEZONE
TZID:America/Toronto
BEGIN:STANDARD
DTSTART:20221106T010000
RDATE:20230312T030000
TZOFFSETFROM:-0400
TZOFFSETTO:-0500
TZNAME:America/Toronto EST
END:STANDARD
BEGIN:STANDARD
DTSTART:20231105T010000
RDATE:20240310T030000
TZOFFSETFROM:-0400
TZOFFSETTO:-0500
TZNAME:America/Toronto EST
END:STANDARD
BEGIN:STANDARD
DTSTART:20241103T010000
RDATE:20250309T030000
TZOFFSETFROM:-0400
TZOFFSETTO:-0500
TZNAME:America/Toronto EST
END:STANDARD
BEGIN:STANDARD
DTSTART:20251102T010000
RDATE:20260308T030000
TZOFFSETFROM:-0400
TZOFFSETTO:-0500
TZNAME:America/Toronto EST
END:STANDARD
BEGIN:STANDARD
DTSTART:20261101T010000
RDATE:20270314T030000
TZOFFSETFROM:-0400
TZOFFSETTO:-0500
TZNAME:America/Toronto EST
END:STANDARD
BEGIN:STANDARD
DTSTART:20271107T010000
RDATE:20280312T030000
TZOFFSETFROM:-0400
TZOFFSETTO:-0500
TZNAME:America/Toronto EST
END:STANDARD
BEGIN:STANDARD
DTSTART:20281105T010000
RDATE:20290311T030000
TZOFFSETFROM:-0400
TZOFFSETTO:-0500
TZNAME:America/Toronto EST
END:STANDARD
BEGIN:STANDARD
DTSTART:20291104T010000
RDATE:20300310T030000
TZOFFSETFROM:-0400
TZOFFSETTO:-0500
TZNAME:America/Toronto EST
END:STANDARD
BEGIN:STANDARD
DTSTART:20301103T010000
RDATE:20310309T030000
TZOFFSETFROM:-0400
TZOFFSETTO:-0500
TZNAME:America/Toronto EST
END:STANDARD
BEGIN:STANDARD
DTSTART:20311102T010000
RDATE:20320314T030000
TZOFFSETFROM:-0400
TZOFFSETTO:-0500
TZNAME:America/Toronto EST
END:STANDARD
BEGIN:DAYLIGHT
DTSTART:20220317T143000
RDATE:20221106T010000
TZOFFSETFROM:-0500
TZOFFSETTO:-0400
TZNAME:America/Toronto EDT
END:DAYLIGHT
BEGIN:DAYLIGHT
DTSTART:20230312T030000
RDATE:20231105T010000
TZOFFSETFROM:-0500
TZOFFSETTO:-0400
TZNAME:America/Toronto EDT
END:DAYLIGHT
BEGIN:DAYLIGHT
DTSTART:20240310T030000
RDATE:20241103T010000
TZOFFSETFROM:-0500
TZOFFSETTO:-0400
TZNAME:America/Toronto EDT
END:DAYLIGHT
BEGIN:DAYLIGHT
DTSTART:20250309T030000
RDATE:20251102T010000
TZOFFSETFROM:-0500
TZOFFSETTO:-0400
TZNAME:America/Toronto EDT
END:DAYLIGHT
BEGIN:DAYLIGHT
DTSTART:20260308T030000
RDATE:20261101T010000
TZOFFSETFROM:-0500
TZOFFSETTO:-0400
TZNAME:America/Toronto EDT
END:DAYLIGHT
BEGIN:DAYLIGHT
DTSTART:20270314T030000
RDATE:20271107T010000
TZOFFSETFROM:-0500
TZOFFSETTO:-0400
TZNAME:America/Toronto EDT
END:DAYLIGHT
BEGIN:DAYLIGHT
DTSTART:20280312T030000
RDATE:20281105T010000
TZOFFSETFROM:-0500
TZOFFSETTO:-0400
TZNAME:America/Toronto EDT
END:DAYLIGHT
BEGIN:DAYLIGHT
DTSTART:20290311T030000
RDATE:20291104T010000
TZOFFSETFROM:-0500
TZOFFSETTO:-0400
TZNAME:America/Toronto EDT
END:DAYLIGHT
BEGIN:DAYLIGHT
DTSTART:20300310T030000
RDATE:20301103T010000
TZOFFSETFROM:-0500
TZOFFSETTO:-0400
TZNAME:America/Toronto EDT
END:DAYLIGHT
BEGIN:DAYLIGHT
DTSTART:20310309T030000
RDATE:20311102T010000
TZOFFSETFROM:-0500
TZOFFSETTO:-0400
TZNAME:America/Toronto EDT
END:DAYLIGHT
END:VTIMEZONE
BEGIN:VEVENT
UID:b6a0ea1767bb8834f12f7c36c3c03e48RR36442
CATEGORIES:Durham Events
CREATED:20230215T230923
SUMMARY:Ronald Dahl's MATILDA THE MUSICAL JR.
LOCATION:Town Hall Theatre
DESCRIPTION:Show Synopsis:  Rebellion is nigh in MATILDA JR. a gleefully witty ode to t
 he anarchy of childhood and the power of imagination! This story of a girl 
 who dreams of a better life and the children she inspires will have audienc
 es rooting for the "revolting children" who are out to teach the grown-ups 
 a lesson. Matilda has astonishing wit intelligence... and special powers! S
 he's unloved by her cruel parents but impresses her schoolteacher the lovea
 ble Miss Honey. Matilda's school life isn't completely smooth sailing howev
 er – the school's mean headmistress Miss Trunchbull hates children and just
  loves thinking up new punishments for those who don't abide by her rules. 
 But Matilda has courage and cleverness in equal amounts and could be the sc
 hool pupils' saving grace! Packed with high-energy dance numbers and catchy
  songs MATILDA JR. is a joyous girl power romp. Children and adults alike w
 ill be thrilled and delighted by the story of the special little girl with 
 an extraordinary imagination.\nPresented by The Song Spot's Youth Theatre G
 roup\nTickets:\nAdults $25.00 ea.\nStudents under 18 $20.00 ea.\n
X-ALT-DESC;FMTTYPE=text/html:<p><strong>Show Synopsis: </strong> Rebellion is nigh in MATILDA JR. a glee
 fully witty ode to the anarchy of childhood and the power of imagination! T
 his story of a girl who dreams of a better life and the children she inspir
 es will have audiences rooting for the "revolting children" who are out to 
 teach the grown-ups a lesson. Matilda has astonishing wit intelligence... a
 nd special powers! She's unloved by her cruel parents but impresses her sch
 oolteacher the loveable Miss Honey. Matilda's school life isn't completely 
 smooth sailing however – the school's mean headmistress Miss Trunchbull hat
 es children and just loves thinking up new punishments for those who don't 
 abide by her rules. But Matilda has courage and cleverness in equal amounts
  and could be the school pupils' saving grace! Packed with high-energy danc
 e numbers and catchy songs MATILDA JR. is a joyous girl power romp. Childre
 n and adults alike will be thrilled and delighted by the story of the speci
 al little girl with an extraordinary imagination.</p><p><strong><em>Present
 ed by The Song Spot's Youth Theatre Group</em></strong></p><p><strong>Ticke
 ts:</strong></p><p>Adults $25.00 ea.</p><p>Students under 18 $20.00 ea.</p>
CONTACT:This email address is being protected from spambots. You need JavaScript enabled to view it.
X-EXTRAINFO:Tickets can be purchased at https://townhalltheatre.ca/ 
DTSTAMP:20260421T030729
DTSTART;TZID=America/Toronto:20230318T143000
SEQUENCE:0
TRANSP:OPAQUE
END:VEVENT
END:VCALENDAR