BEGIN:VCALENDAR
VERSION:2.0
PRODID:-//jEvents 2.0 for Joomla//EN
CALSCALE:GREGORIAN
METHOD:PUBLISH
BEGIN:VTIMEZONE
TZID:America/Toronto
BEGIN:STANDARD
DTSTART:20220210T140000
RDATE:20220313T030000
TZOFFSETFROM:-0400
TZOFFSETTO:-0500
TZNAME:America/Toronto EST
END:STANDARD
BEGIN:STANDARD
DTSTART:20221106T010000
RDATE:20230312T030000
TZOFFSETFROM:-0400
TZOFFSETTO:-0500
TZNAME:America/Toronto EST
END:STANDARD
BEGIN:STANDARD
DTSTART:20231105T010000
RDATE:20240310T030000
TZOFFSETFROM:-0400
TZOFFSETTO:-0500
TZNAME:America/Toronto EST
END:STANDARD
BEGIN:STANDARD
DTSTART:20241103T010000
RDATE:20250309T030000
TZOFFSETFROM:-0400
TZOFFSETTO:-0500
TZNAME:America/Toronto EST
END:STANDARD
BEGIN:STANDARD
DTSTART:20251102T010000
RDATE:20260308T030000
TZOFFSETFROM:-0400
TZOFFSETTO:-0500
TZNAME:America/Toronto EST
END:STANDARD
BEGIN:STANDARD
DTSTART:20261101T010000
RDATE:20270314T030000
TZOFFSETFROM:-0400
TZOFFSETTO:-0500
TZNAME:America/Toronto EST
END:STANDARD
BEGIN:STANDARD
DTSTART:20271107T010000
RDATE:20280312T030000
TZOFFSETFROM:-0400
TZOFFSETTO:-0500
TZNAME:America/Toronto EST
END:STANDARD
BEGIN:STANDARD
DTSTART:20281105T010000
RDATE:20290311T030000
TZOFFSETFROM:-0400
TZOFFSETTO:-0500
TZNAME:America/Toronto EST
END:STANDARD
BEGIN:STANDARD
DTSTART:20291104T010000
RDATE:20300310T030000
TZOFFSETFROM:-0400
TZOFFSETTO:-0500
TZNAME:America/Toronto EST
END:STANDARD
BEGIN:STANDARD
DTSTART:20301103T010000
RDATE:20310309T030000
TZOFFSETFROM:-0400
TZOFFSETTO:-0500
TZNAME:America/Toronto EST
END:STANDARD
BEGIN:STANDARD
DTSTART:20311102T010000
RDATE:20320314T030000
TZOFFSETFROM:-0400
TZOFFSETTO:-0500
TZNAME:America/Toronto EST
END:STANDARD
BEGIN:DAYLIGHT
DTSTART:20220313T030000
RDATE:20221106T010000
TZOFFSETFROM:-0500
TZOFFSETTO:-0400
TZNAME:America/Toronto EDT
END:DAYLIGHT
BEGIN:DAYLIGHT
DTSTART:20230312T030000
RDATE:20231105T010000
TZOFFSETFROM:-0500
TZOFFSETTO:-0400
TZNAME:America/Toronto EDT
END:DAYLIGHT
BEGIN:DAYLIGHT
DTSTART:20240310T030000
RDATE:20241103T010000
TZOFFSETFROM:-0500
TZOFFSETTO:-0400
TZNAME:America/Toronto EDT
END:DAYLIGHT
BEGIN:DAYLIGHT
DTSTART:20250309T030000
RDATE:20251102T010000
TZOFFSETFROM:-0500
TZOFFSETTO:-0400
TZNAME:America/Toronto EDT
END:DAYLIGHT
BEGIN:DAYLIGHT
DTSTART:20260308T030000
RDATE:20261101T010000
TZOFFSETFROM:-0500
TZOFFSETTO:-0400
TZNAME:America/Toronto EDT
END:DAYLIGHT
BEGIN:DAYLIGHT
DTSTART:20270314T030000
RDATE:20271107T010000
TZOFFSETFROM:-0500
TZOFFSETTO:-0400
TZNAME:America/Toronto EDT
END:DAYLIGHT
BEGIN:DAYLIGHT
DTSTART:20280312T030000
RDATE:20281105T010000
TZOFFSETFROM:-0500
TZOFFSETTO:-0400
TZNAME:America/Toronto EDT
END:DAYLIGHT
BEGIN:DAYLIGHT
DTSTART:20290311T030000
RDATE:20291104T010000
TZOFFSETFROM:-0500
TZOFFSETTO:-0400
TZNAME:America/Toronto EDT
END:DAYLIGHT
BEGIN:DAYLIGHT
DTSTART:20300310T030000
RDATE:20301103T010000
TZOFFSETFROM:-0500
TZOFFSETTO:-0400
TZNAME:America/Toronto EDT
END:DAYLIGHT
BEGIN:DAYLIGHT
DTSTART:20310309T030000
RDATE:20311102T010000
TZOFFSETFROM:-0500
TZOFFSETTO:-0400
TZNAME:America/Toronto EDT
END:DAYLIGHT
END:VTIMEZONE
BEGIN:VEVENT
UID:e18f95b12d61f2f3a456986c7202a8fc
CATEGORIES:Durham Events
CREATED:20230105T072854
SUMMARY:The Borelians Community Theatre Presents! A Hilarious New Comedy: Live From Port Perry Town Hall, 1949!
LOCATION:Town Hall 1873\, 302 Queen St.\, Port Perry Ontario
DESCRIPTION:LIVE FROM PORT PERRY TOWN HALL, 1949!\nwritten by Bill Baker       produced
  by Carolyn Goff\nIt's February, 1949, a few days before Valentine's day. T
 he Durham Region has just suffered one of the worst snowstorms on record. F
 or weeks, the international radio transmitters have been damaged and the go
 od people of Port Perry have been cooped up without their favorite radio pr
 ograms; but not for long! The Port Perry Community Players decide to re-ena
 ct a few radio episodes at the Port Perry Town Hall to raise the spirits of
  the community. The local radio station in Oshawa offers to broadcast the s
 hows to the local snowbound residents. But, the Community Players have no p
 lan, no budget and and no idea what the heck they are doing ... what could 
 possibly go wrong?\nCome and see the Community players stumble through this
  wonderful new comedy, and experience a bit of what it was like to be a mem
 ber of a "live" audience in the Golden Age of Radio. Featuring classic epis
 odes from Fibber McGee and Molly, Sherlock Holmes, and The Great Gilderslee
 ve!\nFebruary 3, 4, 10, 11 at 8pm with matinees on February 4, 5, 11 at 2 p
 m\n \n
X-ALT-DESC;FMTTYPE=text/html:<p><strong>LIVE FROM PORT PERRY TOWN HALL, 1949!</strong></p><p><strong>wri
 tten by Bill Baker       produced by Carolyn Goff</strong></p><p>It's Febru
 ary, 1949, a few days before Valentine's day. The Durham Region has just su
 ffered one of the worst snowstorms on record. For weeks, the international 
 radio transmitters have been damaged and the good people of Port Perry have
  been cooped up without their favorite radio programs; but not for long! Th
 e Port Perry Community Players decide to re-enact a few radio episodes at t
 he Port Perry Town Hall to raise the spirits of the community. The local ra
 dio station in Oshawa offers to broadcast the shows to the local snowbound 
 residents. But, the Community Players have no plan, no budget and and no id
 ea what the heck they are doing ... what could possibly go wrong?</p><p>Com
 e and see the Community players stumble through this wonderful new comedy, 
 and experience a bit of what it was like to be a member of a "live" audienc
 e in the Golden Age of Radio. Featuring classic episodes from Fibber McGee 
 and Molly, Sherlock Holmes, and The Great Gildersleeve!</p><p>February 3, 4
 , 10, 11 at 8pm with matinees on February 4, 5, 11 at 2 pm</p><p> </p>
CONTACT:Tickets available at townhalltheatre.ca or Box Office 905-985-8181 
DTSTAMP:20260420T232720
DTSTART;TZID=America/Toronto:20230211T140000
DTEND;TZID=America/Toronto:20230211T154500
SEQUENCE:0
TRANSP:OPAQUE
END:VEVENT
END:VCALENDAR