BEGIN:VCALENDAR
VERSION:2.0
PRODID:-//jEvents 2.0 for Joomla//EN
CALSCALE:GREGORIAN
METHOD:PUBLISH
BEGIN:VTIMEZONE
TZID:America/Toronto
BEGIN:STANDARD
DTSTART:20220306T190000
RDATE:20220313T030000
TZOFFSETFROM:-0400
TZOFFSETTO:-0500
TZNAME:America/Toronto EST
END:STANDARD
BEGIN:STANDARD
DTSTART:20221106T010000
RDATE:20230312T030000
TZOFFSETFROM:-0400
TZOFFSETTO:-0500
TZNAME:America/Toronto EST
END:STANDARD
BEGIN:STANDARD
DTSTART:20231105T010000
RDATE:20240310T030000
TZOFFSETFROM:-0400
TZOFFSETTO:-0500
TZNAME:America/Toronto EST
END:STANDARD
BEGIN:STANDARD
DTSTART:20241103T010000
RDATE:20250309T030000
TZOFFSETFROM:-0400
TZOFFSETTO:-0500
TZNAME:America/Toronto EST
END:STANDARD
BEGIN:STANDARD
DTSTART:20251102T010000
RDATE:20260308T030000
TZOFFSETFROM:-0400
TZOFFSETTO:-0500
TZNAME:America/Toronto EST
END:STANDARD
BEGIN:STANDARD
DTSTART:20261101T010000
RDATE:20270314T030000
TZOFFSETFROM:-0400
TZOFFSETTO:-0500
TZNAME:America/Toronto EST
END:STANDARD
BEGIN:STANDARD
DTSTART:20271107T010000
RDATE:20280312T030000
TZOFFSETFROM:-0400
TZOFFSETTO:-0500
TZNAME:America/Toronto EST
END:STANDARD
BEGIN:STANDARD
DTSTART:20281105T010000
RDATE:20290311T030000
TZOFFSETFROM:-0400
TZOFFSETTO:-0500
TZNAME:America/Toronto EST
END:STANDARD
BEGIN:STANDARD
DTSTART:20291104T010000
RDATE:20300310T030000
TZOFFSETFROM:-0400
TZOFFSETTO:-0500
TZNAME:America/Toronto EST
END:STANDARD
BEGIN:STANDARD
DTSTART:20301103T010000
RDATE:20310309T030000
TZOFFSETFROM:-0400
TZOFFSETTO:-0500
TZNAME:America/Toronto EST
END:STANDARD
BEGIN:STANDARD
DTSTART:20311102T010000
RDATE:20320314T030000
TZOFFSETFROM:-0400
TZOFFSETTO:-0500
TZNAME:America/Toronto EST
END:STANDARD
BEGIN:DAYLIGHT
DTSTART:20220313T030000
RDATE:20221106T010000
TZOFFSETFROM:-0500
TZOFFSETTO:-0400
TZNAME:America/Toronto EDT
END:DAYLIGHT
BEGIN:DAYLIGHT
DTSTART:20230312T030000
RDATE:20231105T010000
TZOFFSETFROM:-0500
TZOFFSETTO:-0400
TZNAME:America/Toronto EDT
END:DAYLIGHT
BEGIN:DAYLIGHT
DTSTART:20240310T030000
RDATE:20241103T010000
TZOFFSETFROM:-0500
TZOFFSETTO:-0400
TZNAME:America/Toronto EDT
END:DAYLIGHT
BEGIN:DAYLIGHT
DTSTART:20250309T030000
RDATE:20251102T010000
TZOFFSETFROM:-0500
TZOFFSETTO:-0400
TZNAME:America/Toronto EDT
END:DAYLIGHT
BEGIN:DAYLIGHT
DTSTART:20260308T030000
RDATE:20261101T010000
TZOFFSETFROM:-0500
TZOFFSETTO:-0400
TZNAME:America/Toronto EDT
END:DAYLIGHT
BEGIN:DAYLIGHT
DTSTART:20270314T030000
RDATE:20271107T010000
TZOFFSETFROM:-0500
TZOFFSETTO:-0400
TZNAME:America/Toronto EDT
END:DAYLIGHT
BEGIN:DAYLIGHT
DTSTART:20280312T030000
RDATE:20281105T010000
TZOFFSETFROM:-0500
TZOFFSETTO:-0400
TZNAME:America/Toronto EDT
END:DAYLIGHT
BEGIN:DAYLIGHT
DTSTART:20290311T030000
RDATE:20291104T010000
TZOFFSETFROM:-0500
TZOFFSETTO:-0400
TZNAME:America/Toronto EDT
END:DAYLIGHT
BEGIN:DAYLIGHT
DTSTART:20300310T030000
RDATE:20301103T010000
TZOFFSETFROM:-0500
TZOFFSETTO:-0400
TZNAME:America/Toronto EDT
END:DAYLIGHT
BEGIN:DAYLIGHT
DTSTART:20310309T030000
RDATE:20311102T010000
TZOFFSETFROM:-0500
TZOFFSETTO:-0400
TZNAME:America/Toronto EDT
END:DAYLIGHT
END:VTIMEZONE
BEGIN:VEVENT
UID:338bcc86069a25d4ca648a0ed9b40642
CATEGORIES:Durham Events
CREATED:20230103T162932
SUMMARY:Community Open Stage LIVE at Drums N Flats Ajax
LOCATION:Drums N Flats Ajax
DESCRIPTION:<div class="x11i5rnm xat24cr x1mh8g0r x1vvkbs xdj266r">Continuing in 2023, 
 The Liberation and Drums N Flats Ajax present the Community Open Stage, wit
 h your hosts Bobcat Bartolo and Griffin Rhythm, <strong>EVERY TUESDAY</stro
 ng>!</div><div class="x11i5rnm xat24cr x1mh8g0r x1vvkbs xdj266r"> </div><di
 v class="x11i5rnm xat24cr x1mh8g0r x1vvkbs xtlvy1s">Swing by to show your s
 upport or share your talent. This stage is open to all entertainers, not ju
 st musicians. Got jokes? We want 'em! Have some magical skills? We are prep
 ared to be amazed!</div><div class="x11i5rnm xat24cr x1mh8g0r x1vvkbs xtlvy
 1s"> </div><div class="x11i5rnm xat24cr x1mh8g0r x1vvkbs xtlvy1s">Tuesdays 
 beginning at 7pm, running until 10.</div><div class="x11i5rnm xat24cr x1mh8
 g0r x1vvkbs xtlvy1s"> </div><div class="x11i5rnm xat24cr x1mh8g0r x1vvkbs x
 tlvy1s">For table reservations call (905) 619-2636 or reserve online <a cla
 ss="x1i10hfl xjbqb8w x6umtig x1b1mbwd xaqea5y xav7gou x9f619 x1ypdohk xt0ps
 k2 xe8uvvx xdj266r x11i5rnm xat24cr x1mh8g0r xexx8yu x4uap5 x18d9i69 xkhd6s
 d x16tdsg8 x1hl2dhg xggy1nq x1a2a7pz xt0b8zv x1fey0fg" tabindex="0" href="h
 ttps://l.facebook.com/l.php?u=http%3A%2F%2Fwww.drumsnflatsajax.com%2Freserv
 ations%2F%3Ffbclid%3DIwAR1TzIZjpcg9QvuGqNnkY_VIElmPziAGSwrWVeYc7j1dVK6x_qzF
 p5dty04&amp;h=AT0eGvsSo9m54LuYL8Wzknhro8P5e3k21B11QJFNOdtjXNS2zst-on_sE1gLD
 qxT8YsqxwZb8FmppERwG7CqRJbnu8vMrGgxa1q6IbQb0ODM7h7YCsNh6FL86owfOZC2m8qx4kij
 bIbb2BDPZA&amp;__tn__=q&amp;c[0]=AT392rFFsubL8jdPnX2gLcln8WGeB8JoMfqOdIJAzj
 Oy9xxvewWHmvwFjgK5q4dIRXrfL7Ev9R2jMH0GtHrPnDRBMqSncKnH-qXClkgWNxSalKfua_rCS
 z1JkfhF1KmTQm1SuYwaV2jXPxdYg1hOwDskcPgv" target="_blank" rel="nofollow noop
 ener noreferrer">http://www.drumsnflatsajax.com/reservations/</a></div><div
  class="x11i5rnm xat24cr x1mh8g0r x1vvkbs xtlvy1s"> </div><div class="x11i5
 rnm xat24cr x1mh8g0r x1vvkbs xtlvy1s"><span style="text-decoration: underli
 ne;"><strong>THINGS TO KNOW</strong></span><br />* All ages and levels welc
 omed!<br />* Sign up begins at 6:30<br />* Drums &amp; guitar backing avail
 able<br />* Bring your own mics &amp; instruments (drums &amp; amps provide
 d)<br />* 10-15 minute time slots<br />* Come hungry, the sandwiches are le
 gendary!</div>
CONTACT:Bobcat Bartolo
X-EXTRAINFO:60 Randall Dr\nAjax\n\nThis email address is being protected from spambots.
  You need JavaScript enabled to view it.
DTSTAMP:20260421T012654
DTSTART;TZID=America/Toronto:20230307T190000
DTEND;TZID=America/Toronto:20230307T220000
SEQUENCE:0
TRANSP:OPAQUE
END:VEVENT
END:VCALENDAR