BEGIN:VCALENDAR
VERSION:2.0
PRODID:-//jEvents 2.0 for Joomla//EN
CALSCALE:GREGORIAN
METHOD:PUBLISH
BEGIN:VTIMEZONE
TZID:America/Toronto
BEGIN:STANDARD
DTSTART:20250302T183000
RDATE:20250309T030000
TZOFFSETFROM:-0400
TZOFFSETTO:-0500
TZNAME:America/Toronto EST
END:STANDARD
BEGIN:STANDARD
DTSTART:20251102T010000
RDATE:20260308T030000
TZOFFSETFROM:-0400
TZOFFSETTO:-0500
TZNAME:America/Toronto EST
END:STANDARD
BEGIN:STANDARD
DTSTART:20261101T010000
RDATE:20270314T030000
TZOFFSETFROM:-0400
TZOFFSETTO:-0500
TZNAME:America/Toronto EST
END:STANDARD
BEGIN:STANDARD
DTSTART:20271107T010000
RDATE:20280312T030000
TZOFFSETFROM:-0400
TZOFFSETTO:-0500
TZNAME:America/Toronto EST
END:STANDARD
BEGIN:STANDARD
DTSTART:20281105T010000
RDATE:20290311T030000
TZOFFSETFROM:-0400
TZOFFSETTO:-0500
TZNAME:America/Toronto EST
END:STANDARD
BEGIN:STANDARD
DTSTART:20291104T010000
RDATE:20300310T030000
TZOFFSETFROM:-0400
TZOFFSETTO:-0500
TZNAME:America/Toronto EST
END:STANDARD
BEGIN:STANDARD
DTSTART:20301103T010000
RDATE:20310309T030000
TZOFFSETFROM:-0400
TZOFFSETTO:-0500
TZNAME:America/Toronto EST
END:STANDARD
BEGIN:STANDARD
DTSTART:20311102T010000
RDATE:20320314T030000
TZOFFSETFROM:-0400
TZOFFSETTO:-0500
TZNAME:America/Toronto EST
END:STANDARD
BEGIN:DAYLIGHT
DTSTART:20250309T030000
RDATE:20251102T010000
TZOFFSETFROM:-0500
TZOFFSETTO:-0400
TZNAME:America/Toronto EDT
END:DAYLIGHT
BEGIN:DAYLIGHT
DTSTART:20260308T030000
RDATE:20261101T010000
TZOFFSETFROM:-0500
TZOFFSETTO:-0400
TZNAME:America/Toronto EDT
END:DAYLIGHT
BEGIN:DAYLIGHT
DTSTART:20270314T030000
RDATE:20271107T010000
TZOFFSETFROM:-0500
TZOFFSETTO:-0400
TZNAME:America/Toronto EDT
END:DAYLIGHT
BEGIN:DAYLIGHT
DTSTART:20280312T030000
RDATE:20281105T010000
TZOFFSETFROM:-0500
TZOFFSETTO:-0400
TZNAME:America/Toronto EDT
END:DAYLIGHT
BEGIN:DAYLIGHT
DTSTART:20290311T030000
RDATE:20291104T010000
TZOFFSETFROM:-0500
TZOFFSETTO:-0400
TZNAME:America/Toronto EDT
END:DAYLIGHT
BEGIN:DAYLIGHT
DTSTART:20300310T030000
RDATE:20301103T010000
TZOFFSETFROM:-0500
TZOFFSETTO:-0400
TZNAME:America/Toronto EDT
END:DAYLIGHT
BEGIN:DAYLIGHT
DTSTART:20310309T030000
RDATE:20311102T010000
TZOFFSETFROM:-0500
TZOFFSETTO:-0400
TZNAME:America/Toronto EDT
END:DAYLIGHT
END:VTIMEZONE
BEGIN:VEVENT
UID:f66a35084f0d87537176897a57969b74
CATEGORIES:Durham Events
CREATED:20260219T105702
SUMMARY:From Drafty to Cozy: Practical Energy Upgrades for Durham Homes (Whitby)
LOCATION:Whitby Public Library - 405 Dundas St W\, Whitby\, ON L1N 6A1
DESCRIPTION:Get ready to transform your drafty house into a cozy home with practical en
 ergy upgrades tailored for Durham living!\nCurious why heat pumps—and other
  similar home upgrades—are becoming so popular? Join us for this FREE 60-mi
 nute community session to learn practical ways to make your home more comfo
 rtable in every season while using less energy.\nHear directly from an ener
 gy coach and a local contractor about common upgrades homeowners are choosi
 ng right now—like heat pumps, insulation and air sealing, smart thermostats
  and controls, and other heating and cooling improvements. They’ll share wh
 at to expect in your home, what rebates and other financial support may be 
 available, and a firsthand home-upgrade story with real results.\nYou can a
 lso sign up at the event for a free one-on-one consultation with an energy 
 coach to discuss personalized options for your home.\nIf you are thinking a
 bout upgrading your home soon, you won’t want to miss this opportunity. \nS
 pots are limited. Register today to save your spot!\nDoor prizes to be won.
 \nSpots are limited. Register today to save your spot!\nDoor prizes to be w
 on.\nLOCATION: Whitby Public Library - 405 Dundas St W, Whitby, ON L1N 6A1\
 nDATE AND TIME: March 3, 2026, 6:30 pm to 7:30 pm\nRegister here: https://b
 it.ly/4kMRnH6\n
X-ALT-DESC;FMTTYPE=text/html:<p>Get ready to transform your drafty house into a cozy home with practical
  energy upgrades tailored for Durham living!</p><p>Curious why heat pumps—a
 nd other similar home upgrades—are becoming so popular? Join us for this FR
 EE 60-minute community session to learn practical ways to make your home mo
 re comfortable in every season while using less energy.</p><p>Hear directly
  from an energy coach and a local contractor about common upgrades homeowne
 rs are choosing right now—like heat pumps, insulation and air sealing, smar
 t thermostats and controls, and other heating and cooling improvements. The
 y’ll share what to expect in your home, what rebates and other financial su
 pport may be available, and a firsthand home-upgrade story with real result
 s.</p><p>You can also sign up at the event for a free one-on-one consultati
 on with an energy coach to discuss personalized options for your home.</p><
 p>If you are thinking about upgrading your home soon, you won’t want to mis
 s this opportunity. </p><p>Spots are limited. Register today to save your s
 pot!</p><p>Door prizes to be won.</p><p>Spots are limited. Register today t
 o save your spot!</p><p>Door prizes to be won.</p><p>LOCATION: Whitby Publi
 c Library - 405 Dundas St W, Whitby, ON L1N 6A1</p><p>DATE AND TIME: March 
 3, 2026, 6:30 pm to 7:30 pm</p><p>Register here: https://bit.ly/4kMRnH6</p>
DTSTAMP:20260419T190544
DTSTART;TZID=America/Toronto:20260303T183000
DTEND;TZID=America/Toronto:20260303T193000
SEQUENCE:0
TRANSP:OPAQUE
END:VEVENT
END:VCALENDAR