BEGIN:VCALENDAR
VERSION:2.0
PRODID:-//jEvents 2.0 for Joomla//EN
CALSCALE:GREGORIAN
METHOD:PUBLISH
BEGIN:VTIMEZONE
TZID:America/Toronto
BEGIN:STANDARD
DTSTART:20250204T000000
RDATE:20250309T030000
TZOFFSETFROM:-0400
TZOFFSETTO:-0500
TZNAME:America/Toronto EST
END:STANDARD
BEGIN:STANDARD
DTSTART:20251102T010000
RDATE:20260308T030000
TZOFFSETFROM:-0400
TZOFFSETTO:-0500
TZNAME:America/Toronto EST
END:STANDARD
BEGIN:STANDARD
DTSTART:20261101T010000
RDATE:20270314T030000
TZOFFSETFROM:-0400
TZOFFSETTO:-0500
TZNAME:America/Toronto EST
END:STANDARD
BEGIN:STANDARD
DTSTART:20271107T010000
RDATE:20280312T030000
TZOFFSETFROM:-0400
TZOFFSETTO:-0500
TZNAME:America/Toronto EST
END:STANDARD
BEGIN:STANDARD
DTSTART:20281105T010000
RDATE:20290311T030000
TZOFFSETFROM:-0400
TZOFFSETTO:-0500
TZNAME:America/Toronto EST
END:STANDARD
BEGIN:STANDARD
DTSTART:20291104T010000
RDATE:20300310T030000
TZOFFSETFROM:-0400
TZOFFSETTO:-0500
TZNAME:America/Toronto EST
END:STANDARD
BEGIN:STANDARD
DTSTART:20301103T010000
RDATE:20310309T030000
TZOFFSETFROM:-0400
TZOFFSETTO:-0500
TZNAME:America/Toronto EST
END:STANDARD
BEGIN:STANDARD
DTSTART:20311102T010000
RDATE:20320314T030000
TZOFFSETFROM:-0400
TZOFFSETTO:-0500
TZNAME:America/Toronto EST
END:STANDARD
BEGIN:DAYLIGHT
DTSTART:20250309T030000
RDATE:20251102T010000
TZOFFSETFROM:-0500
TZOFFSETTO:-0400
TZNAME:America/Toronto EDT
END:DAYLIGHT
BEGIN:DAYLIGHT
DTSTART:20260308T030000
RDATE:20261101T010000
TZOFFSETFROM:-0500
TZOFFSETTO:-0400
TZNAME:America/Toronto EDT
END:DAYLIGHT
BEGIN:DAYLIGHT
DTSTART:20270314T030000
RDATE:20271107T010000
TZOFFSETFROM:-0500
TZOFFSETTO:-0400
TZNAME:America/Toronto EDT
END:DAYLIGHT
BEGIN:DAYLIGHT
DTSTART:20280312T030000
RDATE:20281105T010000
TZOFFSETFROM:-0500
TZOFFSETTO:-0400
TZNAME:America/Toronto EDT
END:DAYLIGHT
BEGIN:DAYLIGHT
DTSTART:20290311T030000
RDATE:20291104T010000
TZOFFSETFROM:-0500
TZOFFSETTO:-0400
TZNAME:America/Toronto EDT
END:DAYLIGHT
BEGIN:DAYLIGHT
DTSTART:20300310T030000
RDATE:20301103T010000
TZOFFSETFROM:-0500
TZOFFSETTO:-0400
TZNAME:America/Toronto EDT
END:DAYLIGHT
BEGIN:DAYLIGHT
DTSTART:20310309T030000
RDATE:20311102T010000
TZOFFSETFROM:-0500
TZOFFSETTO:-0400
TZNAME:America/Toronto EDT
END:DAYLIGHT
END:VTIMEZONE
BEGIN:VEVENT
UID:b335e14726494bd5d99dda37d9fee87f
CATEGORIES:Durham Events
CREATED:20260205T093327
SUMMARY:Skate Ontario - Looking for Volunteers
LOCATION:Oshawa\, ON
DESCRIPTION:<p>The Oshawa Skating Club is in need of Program Assistants on our Canskate
  Learn to Skate Programs.</p><p>This volunteer position is on ice so some s
 kating experience would be needed.</p><p>Program Assistants should be 12 ye
 ars or older.&nbsp; High school students can earn credits towards their Com
 munity Service hours.</p><p>If you are interested please contact Sheryl at&
 nbsp;<strong><joomla-hidden-mail  is-link="1" is-email="1" first="cHJvZ3Jhb
 XM=" last="b3NoYXdhc2thdGluZy5jb20=" text="cHJvZ3JhbXNAb3NoYXdhc2thdGluZy5j
 b20=" base=""  id="OWAb79496f9-aa59-11b7-06ab-eca86af4a4f0" title="mailto:&
 lt;a href=">This email address is being protected from spambots. You need J
 avaScript enabled to view it.</joomla-hidden-mail></strong></p>
X-ALT-DESC;FMTTYPE=text/html:<p>The Oshawa Skating Club is in need of Program Assistants on our Canskate
  Learn to Skate Programs.</p><p>This volunteer position is on ice so some s
 kating experience would be needed.</p><p>Program Assistants should be 12 ye
 ars or older.&nbsp; High school students can earn credits towards their Com
 munity Service hours.</p><p>If you are interested please contact Sheryl at&
 nbsp;<strong><joomla-hidden-mail  is-link="1" is-email="1" first="cHJvZ3Jhb
 XM=" last="b3NoYXdhc2thdGluZy5jb20=" text="cHJvZ3JhbXNAb3NoYXdhc2thdGluZy5j
 b20=" base=""  id="OWAb79496f9-aa59-11b7-06ab-eca86af4a4f0" title="mailto:&
 lt;a href="https://www.durhamradioevents.com/>This email address is being p
 rotected from spambots. You need JavaScript enabled to view it.</joomla-hid
 den-mail></strong></p>
DTSTAMP:20260420T025143
DTSTART;TZID=America/Toronto;VALUE=DATE:20260205
DTEND;TZID=America/Toronto;VALUE=DATE:20260206
SEQUENCE:0
TRANSP:OPAQUE
END:VEVENT
END:VCALENDAR