BEGIN:VCALENDAR
VERSION:2.0
PRODID:-//jEvents 2.0 for Joomla//EN
CALSCALE:GREGORIAN
METHOD:PUBLISH
BEGIN:VTIMEZONE
TZID:America/Toronto
BEGIN:STANDARD
DTSTART:20250214T120000
RDATE:20250309T030000
TZOFFSETFROM:-0400
TZOFFSETTO:-0500
TZNAME:America/Toronto EST
END:STANDARD
BEGIN:STANDARD
DTSTART:20251102T010000
RDATE:20260308T030000
TZOFFSETFROM:-0400
TZOFFSETTO:-0500
TZNAME:America/Toronto EST
END:STANDARD
BEGIN:STANDARD
DTSTART:20261101T010000
RDATE:20270314T030000
TZOFFSETFROM:-0400
TZOFFSETTO:-0500
TZNAME:America/Toronto EST
END:STANDARD
BEGIN:STANDARD
DTSTART:20271107T010000
RDATE:20280312T030000
TZOFFSETFROM:-0400
TZOFFSETTO:-0500
TZNAME:America/Toronto EST
END:STANDARD
BEGIN:STANDARD
DTSTART:20281105T010000
RDATE:20290311T030000
TZOFFSETFROM:-0400
TZOFFSETTO:-0500
TZNAME:America/Toronto EST
END:STANDARD
BEGIN:STANDARD
DTSTART:20291104T010000
RDATE:20300310T030000
TZOFFSETFROM:-0400
TZOFFSETTO:-0500
TZNAME:America/Toronto EST
END:STANDARD
BEGIN:STANDARD
DTSTART:20301103T010000
RDATE:20310309T030000
TZOFFSETFROM:-0400
TZOFFSETTO:-0500
TZNAME:America/Toronto EST
END:STANDARD
BEGIN:STANDARD
DTSTART:20311102T010000
RDATE:20320314T030000
TZOFFSETFROM:-0400
TZOFFSETTO:-0500
TZNAME:America/Toronto EST
END:STANDARD
BEGIN:DAYLIGHT
DTSTART:20250309T030000
RDATE:20251102T010000
TZOFFSETFROM:-0500
TZOFFSETTO:-0400
TZNAME:America/Toronto EDT
END:DAYLIGHT
BEGIN:DAYLIGHT
DTSTART:20260308T030000
RDATE:20261101T010000
TZOFFSETFROM:-0500
TZOFFSETTO:-0400
TZNAME:America/Toronto EDT
END:DAYLIGHT
BEGIN:DAYLIGHT
DTSTART:20270314T030000
RDATE:20271107T010000
TZOFFSETFROM:-0500
TZOFFSETTO:-0400
TZNAME:America/Toronto EDT
END:DAYLIGHT
BEGIN:DAYLIGHT
DTSTART:20280312T030000
RDATE:20281105T010000
TZOFFSETFROM:-0500
TZOFFSETTO:-0400
TZNAME:America/Toronto EDT
END:DAYLIGHT
BEGIN:DAYLIGHT
DTSTART:20290311T030000
RDATE:20291104T010000
TZOFFSETFROM:-0500
TZOFFSETTO:-0400
TZNAME:America/Toronto EDT
END:DAYLIGHT
BEGIN:DAYLIGHT
DTSTART:20300310T030000
RDATE:20301103T010000
TZOFFSETFROM:-0500
TZOFFSETTO:-0400
TZNAME:America/Toronto EDT
END:DAYLIGHT
BEGIN:DAYLIGHT
DTSTART:20310309T030000
RDATE:20311102T010000
TZOFFSETFROM:-0500
TZOFFSETTO:-0400
TZNAME:America/Toronto EDT
END:DAYLIGHT
END:VTIMEZONE
BEGIN:VEVENT
UID:fff965f619148523772b865c5b9cdf80
CATEGORIES:Durham Events
CREATED:20260123T122402
SUMMARY:Celebrate Parks at the Oshawa Museum Family Day
LOCATION:Oshawa Museum\, 1450 Simcoe St. S.\, Oshawa
DESCRIPTION:<div class="xdj266r x14z9mp xat24cr x1lziwak x1vvkbs">Do you have fond memo
 ries of playing in a local park, cheering on a neighbourhood team, or spend
 ing time at a favourite clubhouse? The Oshawa Museum wants to hear from you
 !</div><div class="xdj266r x14z9mp xat24cr x1lziwak x1vvkbs"> </div><div cl
 ass="x14z9mp xat24cr x1lziwak x1vvkbs xtlvy1s">Our upcoming exhibit, "A Wal
 k in the Park", opens in June, and we’re inviting the community to help sha
 pe it.</div><div class="x14z9mp xat24cr x1lziwak x1vvkbs xtlvy1s"> </div><d
 iv class="x14z9mp xat24cr x1lziwak x1vvkbs xtlvy1s">Join us Family Day Week
 end on Sunday, February 15, for a fun, hands-on afternoon at the Oshawa Mus
 eum. Share your stories and memories of Oshawa’s parks and green spaces, wh
 ile kids get creative by designing their dream park on paper and building p
 ark equipment with Lego.</div><div class="x14z9mp xat24cr x1lziwak x1vvkbs 
 xtlvy1s"> </div><div class="x14z9mp xat24cr x1lziwak x1vvkbs xtlvy1s">While
  you’re here, enjoy a guided tour of the museum, explore Untold Oshawa befo
 re it closes, and step back in time to see how Victorian families lived at 
 Henry House.<br class="html-br" />• 12–4 PM (last tour at 3 PM)<br class="h
 tml-br" />• Admission by donation<br class="html-br" />• Start your visit a
 t Guy House, the yellow house in Lakeview Park, Oshawa</div><div class="x14
 z9mp xat24cr x1lziwak x1vvkbs xtlvy1s"> </div><div class="x14z9mp xat24cr x
 1lziwak x1vvkbs xtlvy1s">Visitor Hosts will be on hand to welcome you and g
 uide your visit.</div>
CONTACT:Oshawa Museum
DTSTAMP:20260419T190743
DTSTART;TZID=America/Toronto:20260215T120000
DTEND;TZID=America/Toronto:20260215T160000
SEQUENCE:0
TRANSP:OPAQUE
END:VEVENT
END:VCALENDAR