BEGIN:VCALENDAR
VERSION:2.0
PRODID:-//jEvents 2.0 for Joomla//EN
CALSCALE:GREGORIAN
METHOD:PUBLISH
BEGIN:VTIMEZONE
TZID:America/Toronto
BEGIN:STANDARD
DTSTART:20250207T180000
RDATE:20250309T030000
TZOFFSETFROM:-0400
TZOFFSETTO:-0500
TZNAME:America/Toronto EST
END:STANDARD
BEGIN:STANDARD
DTSTART:20251102T010000
RDATE:20260308T030000
TZOFFSETFROM:-0400
TZOFFSETTO:-0500
TZNAME:America/Toronto EST
END:STANDARD
BEGIN:STANDARD
DTSTART:20261101T010000
RDATE:20270314T030000
TZOFFSETFROM:-0400
TZOFFSETTO:-0500
TZNAME:America/Toronto EST
END:STANDARD
BEGIN:STANDARD
DTSTART:20271107T010000
RDATE:20280312T030000
TZOFFSETFROM:-0400
TZOFFSETTO:-0500
TZNAME:America/Toronto EST
END:STANDARD
BEGIN:STANDARD
DTSTART:20281105T010000
RDATE:20290311T030000
TZOFFSETFROM:-0400
TZOFFSETTO:-0500
TZNAME:America/Toronto EST
END:STANDARD
BEGIN:STANDARD
DTSTART:20291104T010000
RDATE:20300310T030000
TZOFFSETFROM:-0400
TZOFFSETTO:-0500
TZNAME:America/Toronto EST
END:STANDARD
BEGIN:STANDARD
DTSTART:20301103T010000
RDATE:20310309T030000
TZOFFSETFROM:-0400
TZOFFSETTO:-0500
TZNAME:America/Toronto EST
END:STANDARD
BEGIN:STANDARD
DTSTART:20311102T010000
RDATE:20320314T030000
TZOFFSETFROM:-0400
TZOFFSETTO:-0500
TZNAME:America/Toronto EST
END:STANDARD
BEGIN:DAYLIGHT
DTSTART:20250309T030000
RDATE:20251102T010000
TZOFFSETFROM:-0500
TZOFFSETTO:-0400
TZNAME:America/Toronto EDT
END:DAYLIGHT
BEGIN:DAYLIGHT
DTSTART:20260308T030000
RDATE:20261101T010000
TZOFFSETFROM:-0500
TZOFFSETTO:-0400
TZNAME:America/Toronto EDT
END:DAYLIGHT
BEGIN:DAYLIGHT
DTSTART:20270314T030000
RDATE:20271107T010000
TZOFFSETFROM:-0500
TZOFFSETTO:-0400
TZNAME:America/Toronto EDT
END:DAYLIGHT
BEGIN:DAYLIGHT
DTSTART:20280312T030000
RDATE:20281105T010000
TZOFFSETFROM:-0500
TZOFFSETTO:-0400
TZNAME:America/Toronto EDT
END:DAYLIGHT
BEGIN:DAYLIGHT
DTSTART:20290311T030000
RDATE:20291104T010000
TZOFFSETFROM:-0500
TZOFFSETTO:-0400
TZNAME:America/Toronto EDT
END:DAYLIGHT
BEGIN:DAYLIGHT
DTSTART:20300310T030000
RDATE:20301103T010000
TZOFFSETFROM:-0500
TZOFFSETTO:-0400
TZNAME:America/Toronto EDT
END:DAYLIGHT
BEGIN:DAYLIGHT
DTSTART:20310309T030000
RDATE:20311102T010000
TZOFFSETFROM:-0500
TZOFFSETTO:-0400
TZNAME:America/Toronto EDT
END:DAYLIGHT
END:VTIMEZONE
BEGIN:VEVENT
UID:cf3e34281cebd7c4d7e098bd886cc868
CATEGORIES:Durham Events
CREATED:20260121T155142
SUMMARY:Whitby Presents: Great Canadian Wrestling (GCW)
LOCATION:589 Water Street  Whitby\, ON L1N 9V9
DESCRIPTION:LIVE WRESTLING COMES TO YOUR TOWN !GCW Live Wrestling charity event !\nWhen
 : FEBRUARY 8th 2026\nWhere: Heydenshore Pavilion\nTickets:\nGeneral Admissi
 on Kids 12 and under : $20\nGeneral Admission Adult : $25\nFront Row reserv
 ed seats : $35 - Online Only\n \n*** VIP TICKETS ***\navailable as General 
 Admission or Front Row ticket included :\nincludes a GCW GIFT BAG w 2 GCW p
 ins , a GCW replica toy championship belt , and so much more !\n.. only an 
 extra $25 for a bag full of swag !!\n \n \nFOOD DONATIONS :\nPlease bring n
 on-perishable food items for your local community food bank and get entered
  to win some fun prizes.\nOne raffle ticket will be given for each item.\n《
 To a maximum of 10 tickets》\n
X-ALT-DESC;FMTTYPE=text/html:<div class="undefined"><div class="summary">LIVE WRESTLING COMES TO YOUR TO
 WN !</div></div><div class="structured-content-rich-text"><div class="eds-t
 ext--left"><p>GCW Live Wrestling charity event !</p><p>When: FEBRUARY 8th 2
 026</p><p>Where: Heydenshore Pavilion</p><p>Tickets:</p><p>General Admissio
 n Kids 12 and under : $20<br />General Admission Adult : $25<br />Front Row
  reserved seats : $35 - Online Only</p><p> </p><p>*** VIP TICKETS ***<br />
 available as General Admission or Front Row ticket included :</p><p>include
 s a GCW GIFT BAG w 2 GCW pins , a GCW replica toy championship belt , and s
 o much more !</p><p>.. only an extra $25 for a bag full of swag !!</p><p> <
 /p><p> </p><p><strong>FOOD DONATIONS :</strong></p><p>Please bring non-peri
 shable food items for your local community food bank and get entered to win
  some fun prizes.</p><p>One raffle ticket will be given for each item.</p><
 p>《To a maximum of 10 tickets》</p></div></div>
CONTACT:David Wyldstar
DTSTAMP:20260419T204458
DTSTART;TZID=America/Toronto:20260208T180000
DTEND;TZID=America/Toronto:20260208T203000
SEQUENCE:0
TRANSP:OPAQUE
END:VEVENT
END:VCALENDAR