BEGIN:VCALENDAR
VERSION:2.0
PRODID:-//jEvents 2.0 for Joomla//EN
CALSCALE:GREGORIAN
METHOD:PUBLISH
BEGIN:VTIMEZONE
TZID:America/Toronto
BEGIN:STANDARD
DTSTART:20250207T100000
RDATE:20250309T030000
TZOFFSETFROM:-0400
TZOFFSETTO:-0500
TZNAME:America/Toronto EST
END:STANDARD
BEGIN:STANDARD
DTSTART:20251102T010000
RDATE:20260308T030000
TZOFFSETFROM:-0400
TZOFFSETTO:-0500
TZNAME:America/Toronto EST
END:STANDARD
BEGIN:STANDARD
DTSTART:20261101T010000
RDATE:20270314T030000
TZOFFSETFROM:-0400
TZOFFSETTO:-0500
TZNAME:America/Toronto EST
END:STANDARD
BEGIN:STANDARD
DTSTART:20271107T010000
RDATE:20280312T030000
TZOFFSETFROM:-0400
TZOFFSETTO:-0500
TZNAME:America/Toronto EST
END:STANDARD
BEGIN:STANDARD
DTSTART:20281105T010000
RDATE:20290311T030000
TZOFFSETFROM:-0400
TZOFFSETTO:-0500
TZNAME:America/Toronto EST
END:STANDARD
BEGIN:STANDARD
DTSTART:20291104T010000
RDATE:20300310T030000
TZOFFSETFROM:-0400
TZOFFSETTO:-0500
TZNAME:America/Toronto EST
END:STANDARD
BEGIN:STANDARD
DTSTART:20301103T010000
RDATE:20310309T030000
TZOFFSETFROM:-0400
TZOFFSETTO:-0500
TZNAME:America/Toronto EST
END:STANDARD
BEGIN:STANDARD
DTSTART:20311102T010000
RDATE:20320314T030000
TZOFFSETFROM:-0400
TZOFFSETTO:-0500
TZNAME:America/Toronto EST
END:STANDARD
BEGIN:DAYLIGHT
DTSTART:20250309T030000
RDATE:20251102T010000
TZOFFSETFROM:-0500
TZOFFSETTO:-0400
TZNAME:America/Toronto EDT
END:DAYLIGHT
BEGIN:DAYLIGHT
DTSTART:20260308T030000
RDATE:20261101T010000
TZOFFSETFROM:-0500
TZOFFSETTO:-0400
TZNAME:America/Toronto EDT
END:DAYLIGHT
BEGIN:DAYLIGHT
DTSTART:20270314T030000
RDATE:20271107T010000
TZOFFSETFROM:-0500
TZOFFSETTO:-0400
TZNAME:America/Toronto EDT
END:DAYLIGHT
BEGIN:DAYLIGHT
DTSTART:20280312T030000
RDATE:20281105T010000
TZOFFSETFROM:-0500
TZOFFSETTO:-0400
TZNAME:America/Toronto EDT
END:DAYLIGHT
BEGIN:DAYLIGHT
DTSTART:20290311T030000
RDATE:20291104T010000
TZOFFSETFROM:-0500
TZOFFSETTO:-0400
TZNAME:America/Toronto EDT
END:DAYLIGHT
BEGIN:DAYLIGHT
DTSTART:20300310T030000
RDATE:20301103T010000
TZOFFSETFROM:-0500
TZOFFSETTO:-0400
TZNAME:America/Toronto EDT
END:DAYLIGHT
BEGIN:DAYLIGHT
DTSTART:20310309T030000
RDATE:20311102T010000
TZOFFSETFROM:-0500
TZOFFSETTO:-0400
TZNAME:America/Toronto EDT
END:DAYLIGHT
END:VTIMEZONE
BEGIN:VEVENT
UID:f83d6d99c32dd9e3a5a0a572e53c9be9
CATEGORIES:Durham Events
CREATED:20260121T154738
SUMMARY:Whitby Comicon
LOCATION:589 Water Street  Whitby\, ON L1N 9V9
DESCRIPTION:COMICON COMES TO YOUR TOWN ! Vendors selling comic books / toys / video gam
 es / sports cards / jewelry and pretty much anything geeky cool !Whitby's O
 ne and Only ComiCon!!\nOn: February 8th\nWhen: 10 am to 3 pm\nWhere: Heyden
 shore Pavilion\nAdmission:\n \n\n - $5 Online (Eventbrite)\n - $10 at the d
 oor (cash and card accepted)\n - Children 12 and under are Free with paid a
 dmission. \n$25 VIP includes:\n \n\n - General admission\n - PREMIER SHOPPI
 NG BAG which contains a Funko pop, as well as a pen, stickers, a pin, a lan
 yard and other collectable items. \nFOOD DONATIONS :\nPlease bring unexpire
 d non-perishable food items for your local community food bank and receive 
 a FREE comic book when you donate 5 or more items.\n
X-ALT-DESC;FMTTYPE=text/html:<div class="undefined"><div class="summary">COMICON COMES TO YOUR TOWN ! Ve
 ndors selling comic books / toys / video games / sports cards / jewelry and
  pretty much anything geeky cool !</div></div><div class="structured-conten
 t-rich-text"><div class="eds-text--left"><p>Whitby's One and Only ComiCon!!
 </p><p>On: February 8th</p><p>When: 10 am to 3 pm</p><p>Where: Heydenshore 
 Pavilion</p><p><strong>Admission</strong>:</p><p> </p><ul><li>$5 Online (Ev
 entbrite)</li><li>$10 at the door (cash and card accepted)</li><li>Children
  12 and under are Free with paid admission.</li></ul><p> </p><p><strong>$25
  VIP includes:</strong></p><p> </p><ul><li>General admission</li><li>PREMIE
 R SHOPPING BAG which contains a Funko pop, as well as a pen, stickers, a pi
 n, a lanyard and other collectable items.</li></ul><p> </p><p><strong>FOOD 
 DONATIONS :</strong></p><p>Please bring <em><strong>unexpired </strong></em
 >non-perishable food items for your local community food bank and receive a
  FREE comic book when you donate <strong>5 </strong>or more items.</p></div
 ></div>
CONTACT:David Wyldstar
DTSTAMP:20260419T204626
DTSTART;TZID=America/Toronto:20260208T100000
DTEND;TZID=America/Toronto:20260208T150000
SEQUENCE:0
TRANSP:OPAQUE
END:VEVENT
END:VCALENDAR