BEGIN:VCALENDAR
VERSION:2.0
PRODID:-//jEvents 2.0 for Joomla//EN
CALSCALE:GREGORIAN
METHOD:PUBLISH
BEGIN:VTIMEZONE
TZID:America/Toronto
BEGIN:STANDARD
DTSTART:20250207T133000
RDATE:20250309T030000
TZOFFSETFROM:-0400
TZOFFSETTO:-0500
TZNAME:America/Toronto EST
END:STANDARD
BEGIN:STANDARD
DTSTART:20251102T010000
RDATE:20260308T030000
TZOFFSETFROM:-0400
TZOFFSETTO:-0500
TZNAME:America/Toronto EST
END:STANDARD
BEGIN:STANDARD
DTSTART:20261101T010000
RDATE:20270314T030000
TZOFFSETFROM:-0400
TZOFFSETTO:-0500
TZNAME:America/Toronto EST
END:STANDARD
BEGIN:STANDARD
DTSTART:20271107T010000
RDATE:20280312T030000
TZOFFSETFROM:-0400
TZOFFSETTO:-0500
TZNAME:America/Toronto EST
END:STANDARD
BEGIN:STANDARD
DTSTART:20281105T010000
RDATE:20290311T030000
TZOFFSETFROM:-0400
TZOFFSETTO:-0500
TZNAME:America/Toronto EST
END:STANDARD
BEGIN:STANDARD
DTSTART:20291104T010000
RDATE:20300310T030000
TZOFFSETFROM:-0400
TZOFFSETTO:-0500
TZNAME:America/Toronto EST
END:STANDARD
BEGIN:STANDARD
DTSTART:20301103T010000
RDATE:20310309T030000
TZOFFSETFROM:-0400
TZOFFSETTO:-0500
TZNAME:America/Toronto EST
END:STANDARD
BEGIN:STANDARD
DTSTART:20311102T010000
RDATE:20320314T030000
TZOFFSETFROM:-0400
TZOFFSETTO:-0500
TZNAME:America/Toronto EST
END:STANDARD
BEGIN:DAYLIGHT
DTSTART:20250309T030000
RDATE:20251102T010000
TZOFFSETFROM:-0500
TZOFFSETTO:-0400
TZNAME:America/Toronto EDT
END:DAYLIGHT
BEGIN:DAYLIGHT
DTSTART:20260308T030000
RDATE:20261101T010000
TZOFFSETFROM:-0500
TZOFFSETTO:-0400
TZNAME:America/Toronto EDT
END:DAYLIGHT
BEGIN:DAYLIGHT
DTSTART:20270314T030000
RDATE:20271107T010000
TZOFFSETFROM:-0500
TZOFFSETTO:-0400
TZNAME:America/Toronto EDT
END:DAYLIGHT
BEGIN:DAYLIGHT
DTSTART:20280312T030000
RDATE:20281105T010000
TZOFFSETFROM:-0500
TZOFFSETTO:-0400
TZNAME:America/Toronto EDT
END:DAYLIGHT
BEGIN:DAYLIGHT
DTSTART:20290311T030000
RDATE:20291104T010000
TZOFFSETFROM:-0500
TZOFFSETTO:-0400
TZNAME:America/Toronto EDT
END:DAYLIGHT
BEGIN:DAYLIGHT
DTSTART:20300310T030000
RDATE:20301103T010000
TZOFFSETFROM:-0500
TZOFFSETTO:-0400
TZNAME:America/Toronto EDT
END:DAYLIGHT
BEGIN:DAYLIGHT
DTSTART:20310309T030000
RDATE:20311102T010000
TZOFFSETFROM:-0500
TZOFFSETTO:-0400
TZNAME:America/Toronto EDT
END:DAYLIGHT
END:VTIMEZONE
BEGIN:VEVENT
UID:9d3cd6cbfe1e1984fb5facc6cfe8f121
CATEGORIES:Durham Events
CREATED:20260112T104408
SUMMARY:Postcards to the Front Workshop
LOCATION:Oshawa Museum\, 1450 Simcoe St. S.\, Oshawa
DESCRIPTION:Postcards to the Front (Canada / Канада) facilitates Canadians sending post
 cards with messages of support and encouragement to Defenders of Ukraine. A
 s at the end of 2025, more than 17,000 postcards messages have travelled fr
 om Canada to Ukraine’s front lines.Helen Bajorek and Jean-Michel Komarnicki
  have invited Canadians to write postcards by holding information and postc
 ard-writing sessions at Legion Halls, in schools, in church basements at nu
 merous community events, and even via Zoom with organizations across Canada
 . Their workshop includes an introduction to writing Ukrainian, with encour
 agement to try to write at least one sentence in Ukrainian to foster a sens
 e of solidarity through the written word. Hint: you don’t have to be perfec
 t!This workshop will have three parts, running approximately 90 minutes:1. 
 Introduction of the project and positive impacts of postcards at the front 
 lines – 15-20 minutes.2. Introduction to the Ukrainian alphabet, along with
  some practice and provision of some helpful phrases translated for use in 
 writing messages of support - 10 minutes.3. Postcard writing – 45-60 minute
 s.For more info: postcardstothefrontcanada.com (http://postcardstothefrontc
 anada.com/?fbclid=IwZXh0bgNhZW0CMTAAYnJpZBExdHZ5M1duOGRNeG1LNURWV3NydGMGYXB
 wX2lkEDIyMjAzOTE3ODgyMDA4OTIAAR4sox7cyXZYaasxKsMU1qy4TVSV3jF1ymPdaMeryzvDKz
 qcQlJqFUr9-c4Khg_aem_vq3QsNqNBzHdtonz91Uc9A) or email: This email address i
 s being protected from spambots. You need JavaScript enabled to view it.
X-ALT-DESC;FMTTYPE=text/html:<div class="xdj266r x14z9mp xat24cr x1lziwak x1vvkbs">Postcards to the Fron
 t (Canada / Канада) facilitates Canadians sending postcards with messages o
 f support and encouragement to Defenders of Ukraine. As at the end of 2025,
  more than 17,000 postcards messages have travelled from Canada to Ukraine’
 s front lines.</div><div class="x14z9mp xat24cr x1lziwak x1vvkbs xtlvy1s">H
 elen Bajorek and Jean-Michel Komarnicki have invited Canadians to write pos
 tcards by holding information and postcard-writing sessions at Legion Halls
 , in schools, in church basements at numerous community events, and even vi
 a Zoom with organizations across Canada. Their workshop includes an introdu
 ction to writing Ukrainian, with encouragement to try to write at least one
  sentence in Ukrainian to foster a sense of solidarity through the written 
 word. Hint: you don’t have to be perfect!</div><div class="x14z9mp xat24cr 
 x1lziwak x1vvkbs xtlvy1s">This workshop will have three parts, running appr
 oximately 90 minutes:<br class="html-br" />1. Introduction of the project a
 nd positive impacts of postcards at the front lines – 15-20 minutes.<br cla
 ss="html-br" />2. Introduction to the Ukrainian alphabet, along with some p
 ractice and provision of some helpful phrases translated for use in writing
  messages of support - 10 minutes.<br class="html-br" />3. Postcard writing
  – 45-60 minutes.</div><div class="x14z9mp xat24cr x1lziwak x1vvkbs xtlvy1s
 ">For more info: <a class="x1i10hfl xjbqb8w x1ejq31n x18oe1m7 x1sy0etr xstz
 fhl x972fbf x10w94by x1qhh985 x14e42zd x9f619 x1ypdohk xt0psk2 x3ct3a4 xdj2
 66r x14z9mp xat24cr x1lziwak xexx8yu xyri2b x18d9i69 x1c1uobl x16tdsg8 x1hl
 2dhg xggy1nq x1a2a7pz xkrqix3 x1sur9pj x1fey0fg x1s688f" tabindex="0" role=
 "link" href="http://postcardstothefrontcanada.com/?fbclid=IwZXh0bgNhZW0CMTA
 AYnJpZBExdHZ5M1duOGRNeG1LNURWV3NydGMGYXBwX2lkEDIyMjAzOTE3ODgyMDA4OTIAAR4sox
 7cyXZYaasxKsMU1qy4TVSV3jF1ymPdaMeryzvDKzqcQlJqFUr9-c4Khg_aem_vq3QsNqNBzHdto
 nz91Uc9A" target="_blank" rel="nofollow noopener noreferrer">postcardstothe
 frontcanada.com</a> or email: <joomla-hidden-mail  is-link="1" is-email="1"
  first="cG9zdGNhcmRzdG90aGVmcm9udC5jYW5hZGE=" last="Z21haWwuY29t" text="cG9
 zdGNhcmRzdG90aGVmcm9udC5jYW5hZGFAZ21haWwuY29t" base="" >This email address 
 is being protected from spambots. You need JavaScript enabled to view it.</
 joomla-hidden-mail></div>
CONTACT:Lisa Terech
DTSTAMP:20260419T204453
DTSTART;TZID=America/Toronto:20260208T133000
DTEND;TZID=America/Toronto:20260208T153000
SEQUENCE:0
TRANSP:OPAQUE
END:VEVENT
END:VCALENDAR