BEGIN:VCALENDAR
VERSION:2.0
PRODID:-//jEvents 2.0 for Joomla//EN
CALSCALE:GREGORIAN
METHOD:PUBLISH
BEGIN:VTIMEZONE
TZID:America/Toronto
BEGIN:STANDARD
DTSTART:20250215T090000
RDATE:20250309T030000
TZOFFSETFROM:-0400
TZOFFSETTO:-0500
TZNAME:America/Toronto EST
END:STANDARD
BEGIN:STANDARD
DTSTART:20251102T010000
RDATE:20260308T030000
TZOFFSETFROM:-0400
TZOFFSETTO:-0500
TZNAME:America/Toronto EST
END:STANDARD
BEGIN:STANDARD
DTSTART:20261101T010000
RDATE:20270314T030000
TZOFFSETFROM:-0400
TZOFFSETTO:-0500
TZNAME:America/Toronto EST
END:STANDARD
BEGIN:STANDARD
DTSTART:20271107T010000
RDATE:20280312T030000
TZOFFSETFROM:-0400
TZOFFSETTO:-0500
TZNAME:America/Toronto EST
END:STANDARD
BEGIN:STANDARD
DTSTART:20281105T010000
RDATE:20290311T030000
TZOFFSETFROM:-0400
TZOFFSETTO:-0500
TZNAME:America/Toronto EST
END:STANDARD
BEGIN:STANDARD
DTSTART:20291104T010000
RDATE:20300310T030000
TZOFFSETFROM:-0400
TZOFFSETTO:-0500
TZNAME:America/Toronto EST
END:STANDARD
BEGIN:STANDARD
DTSTART:20301103T010000
RDATE:20310309T030000
TZOFFSETFROM:-0400
TZOFFSETTO:-0500
TZNAME:America/Toronto EST
END:STANDARD
BEGIN:STANDARD
DTSTART:20311102T010000
RDATE:20320314T030000
TZOFFSETFROM:-0400
TZOFFSETTO:-0500
TZNAME:America/Toronto EST
END:STANDARD
BEGIN:DAYLIGHT
DTSTART:20250309T030000
RDATE:20251102T010000
TZOFFSETFROM:-0500
TZOFFSETTO:-0400
TZNAME:America/Toronto EDT
END:DAYLIGHT
BEGIN:DAYLIGHT
DTSTART:20260308T030000
RDATE:20261101T010000
TZOFFSETFROM:-0500
TZOFFSETTO:-0400
TZNAME:America/Toronto EDT
END:DAYLIGHT
BEGIN:DAYLIGHT
DTSTART:20270314T030000
RDATE:20271107T010000
TZOFFSETFROM:-0500
TZOFFSETTO:-0400
TZNAME:America/Toronto EDT
END:DAYLIGHT
BEGIN:DAYLIGHT
DTSTART:20280312T030000
RDATE:20281105T010000
TZOFFSETFROM:-0500
TZOFFSETTO:-0400
TZNAME:America/Toronto EDT
END:DAYLIGHT
BEGIN:DAYLIGHT
DTSTART:20290311T030000
RDATE:20291104T010000
TZOFFSETFROM:-0500
TZOFFSETTO:-0400
TZNAME:America/Toronto EDT
END:DAYLIGHT
BEGIN:DAYLIGHT
DTSTART:20300310T030000
RDATE:20301103T010000
TZOFFSETFROM:-0500
TZOFFSETTO:-0400
TZNAME:America/Toronto EDT
END:DAYLIGHT
BEGIN:DAYLIGHT
DTSTART:20310309T030000
RDATE:20311102T010000
TZOFFSETFROM:-0500
TZOFFSETTO:-0400
TZNAME:America/Toronto EDT
END:DAYLIGHT
END:VTIMEZONE
BEGIN:VEVENT
UID:2bc73063f5c61bdcaef5d4de601607c1
CATEGORIES:Durham Events
CREATED:20260108T104002
SUMMARY:Family Day Fun
LOCATION:1655 Reach Street\, Port Perry
DESCRIPTION:The Township of Scugog is happy to welcome back the Family Day Fun event Mo
 nday, February 16, 2026, at the Scugog Community Recreation Centre.\nThe re
 creation team, in partnership with community sponsors, offers free activiti
 es for families including:\n\n - Crafts\n - Games\n - Inflatables\n - Ballo
 on making\n - Face painting\n - Magic shows\n - Fire Department activities 
 with the Scugog Fire Department\n - Family photo booth with the Port Perry 
 Lions Club (https://e-clubhouse.org/sites/portperry/)\n - FREE public skati
 ng sponsored by Scugog Mechanical (https://www.scugogmechanical.com/) and P
 uckrin Latreille Real Estate (https://www.liveplayinvest.com/)\n - and more
 !Participants will use their “Passport to Fun” to check off all the activit
 ies they can which is then entered into a draw for a chance to win a free s
 ummer camp registration.\nFamilies are required to pre-register for a times
 lot to allow for full participation in the activities. Registration for tim
 eslots will open on Monday, January 26, 2026 at 7:00 a.m. Timeslots are ava
 ilable from:\n\n - Timeslot #1: 9:00 to 11:00 am\n - Timeslot #2: 11:15 to 
 1:15 pm\n - Timeslot #3: 1:30 to 3:30 pm. Please have your confirmation rea
 dy when you arrive. \n
X-ALT-DESC;FMTTYPE=text/html:<p>The Township of Scugog is happy to welcome back the Family Day Fun event
  Monday, February 16, 2026, at the Scugog Community Recreation Centre.</p><
 p>The recreation team, in partnership with community sponsors, offers free 
 activities for families including:</p><ul><li>Crafts</li><li>Games</li><li>
 Inflatables</li><li>Balloon making</li><li>Face painting</li><li>Magic show
 s</li><li>Fire Department activities with the Scugog Fire Department</li><l
 i>Family photo booth with the <a href="https://e-clubhouse.org/sites/portpe
 rry/">Port Perry Lions Club</a></li><li>FREE public skating sponsored by <a
  href="https://www.scugogmechanical.com/">Scugog Mechanical</a> and <a href
 ="https://www.liveplayinvest.com/">Puckrin Latreille Real Estate</a></li><l
 i>and more!</li></ul><p>Participants will use their “Passport to Fun” to ch
 eck off all the activities they can which is then entered into a draw for a
  chance to win a free summer camp registration.</p><p>Families are required
  to pre-register for a timeslot to allow for full participation in the acti
 vities. Registration for timeslots will open on Monday, January 26, 2026 at
  7:00 a.m. Timeslots are available from:</p><ul><li>Timeslot #1: 9:00 to 11
 :00 am</li><li>Timeslot #2: 11:15 to 1:15 pm</li><li>Timeslot #3: 1:30 to 3
 :30 pm. </li></ul><p>Please have your confirmation ready when you arrive. <
 /p>
CONTACT:Scugog Community Recreation Centre
X-EXTRAINFO:905-985-8698\nThis email address is being protected from spambots. You need
  JavaScript enabled to view it.
DTSTAMP:20260419T190406
DTSTART;TZID=America/Toronto:20260216T090000
DTEND;TZID=America/Toronto:20260216T153000
SEQUENCE:0
TRANSP:OPAQUE
END:VEVENT
END:VCALENDAR