BEGIN:VCALENDAR
VERSION:2.0
PRODID:-//jEvents 2.0 for Joomla//EN
CALSCALE:GREGORIAN
METHOD:PUBLISH
BEGIN:VTIMEZONE
TZID:America/Toronto
BEGIN:STANDARD
DTSTART:20250217T093000
RDATE:20250309T030000
TZOFFSETFROM:-0400
TZOFFSETTO:-0500
TZNAME:America/Toronto EST
END:STANDARD
BEGIN:STANDARD
DTSTART:20251102T010000
RDATE:20260308T030000
TZOFFSETFROM:-0400
TZOFFSETTO:-0500
TZNAME:America/Toronto EST
END:STANDARD
BEGIN:STANDARD
DTSTART:20261101T010000
RDATE:20270314T030000
TZOFFSETFROM:-0400
TZOFFSETTO:-0500
TZNAME:America/Toronto EST
END:STANDARD
BEGIN:STANDARD
DTSTART:20271107T010000
RDATE:20280312T030000
TZOFFSETFROM:-0400
TZOFFSETTO:-0500
TZNAME:America/Toronto EST
END:STANDARD
BEGIN:STANDARD
DTSTART:20281105T010000
RDATE:20290311T030000
TZOFFSETFROM:-0400
TZOFFSETTO:-0500
TZNAME:America/Toronto EST
END:STANDARD
BEGIN:STANDARD
DTSTART:20291104T010000
RDATE:20300310T030000
TZOFFSETFROM:-0400
TZOFFSETTO:-0500
TZNAME:America/Toronto EST
END:STANDARD
BEGIN:STANDARD
DTSTART:20301103T010000
RDATE:20310309T030000
TZOFFSETFROM:-0400
TZOFFSETTO:-0500
TZNAME:America/Toronto EST
END:STANDARD
BEGIN:STANDARD
DTSTART:20311102T010000
RDATE:20320314T030000
TZOFFSETFROM:-0400
TZOFFSETTO:-0500
TZNAME:America/Toronto EST
END:STANDARD
BEGIN:DAYLIGHT
DTSTART:20250309T030000
RDATE:20251102T010000
TZOFFSETFROM:-0500
TZOFFSETTO:-0400
TZNAME:America/Toronto EDT
END:DAYLIGHT
BEGIN:DAYLIGHT
DTSTART:20260308T030000
RDATE:20261101T010000
TZOFFSETFROM:-0500
TZOFFSETTO:-0400
TZNAME:America/Toronto EDT
END:DAYLIGHT
BEGIN:DAYLIGHT
DTSTART:20270314T030000
RDATE:20271107T010000
TZOFFSETFROM:-0500
TZOFFSETTO:-0400
TZNAME:America/Toronto EDT
END:DAYLIGHT
BEGIN:DAYLIGHT
DTSTART:20280312T030000
RDATE:20281105T010000
TZOFFSETFROM:-0500
TZOFFSETTO:-0400
TZNAME:America/Toronto EDT
END:DAYLIGHT
BEGIN:DAYLIGHT
DTSTART:20290311T030000
RDATE:20291104T010000
TZOFFSETFROM:-0500
TZOFFSETTO:-0400
TZNAME:America/Toronto EDT
END:DAYLIGHT
BEGIN:DAYLIGHT
DTSTART:20300310T030000
RDATE:20301103T010000
TZOFFSETFROM:-0500
TZOFFSETTO:-0400
TZNAME:America/Toronto EDT
END:DAYLIGHT
BEGIN:DAYLIGHT
DTSTART:20310309T030000
RDATE:20311102T010000
TZOFFSETFROM:-0500
TZOFFSETTO:-0400
TZNAME:America/Toronto EDT
END:DAYLIGHT
END:VTIMEZONE
BEGIN:VEVENT
UID:c75e7431db556dab98ea6bd5b2967c7d
CATEGORIES:Durham Events
CREATED:20260105T104307
SUMMARY:Admissions Open House
LOCATION:Trafalgar Castle School
DESCRIPTION:For families with students that are currently in Grade 3 and above that are
  looking to start in September 2026. Meet our staff and students, visit our
  facilities and learn more about Trafalgar Castle School at our February Ad
 missions Open House. \n\nREGISTER HERE (https://trafalgarcastle.myschoolapp
 .com/app/embed#admeventregister/2157/selector=.internet/1767627727%3aMQH7i0
 q49tHP3XDIRzGXPjnEo9RjiBKFrZanltxgR5R1%2bArLAUOMAtn5Z%2bTRdooJqhic84TJWLHBI
 7wYfhPHtg%3d%3d)\n
X-ALT-DESC;FMTTYPE=text/html:<p>For families with students that are currently in Grade 3 and above that 
 are looking to start in September 2026. Meet our staff and students, visit 
 our facilities and learn more about Trafalgar Castle School at our February
  Admissions Open House.&nbsp;<br /><br /><a href="https://trafalgarcastle.m
 yschoolapp.com/app/embed#admeventregister/2157/selector=.internet/176762772
 7%3aMQH7i0q49tHP3XDIRzGXPjnEo9RjiBKFrZanltxgR5R1%2bArLAUOMAtn5Z%2bTRdooJqhi
 c84TJWLHBI7wYfhPHtg%3d%3d" target="_blank" rel="noopener">REGISTER HERE</a>
 </p>
CONTACT:Admissions
DTSTAMP:20260419T190405
DTSTART;TZID=America/Toronto:20260218T093000
DTEND;TZID=America/Toronto:20260218T110000
SEQUENCE:0
TRANSP:OPAQUE
END:VEVENT
END:VCALENDAR