BEGIN:VCALENDAR
VERSION:2.0
PRODID:-//jEvents 2.0 for Joomla//EN
CALSCALE:GREGORIAN
METHOD:PUBLISH
BEGIN:VTIMEZONE
TZID:America/Toronto
BEGIN:STANDARD
DTSTART:20250218T183000
RDATE:20250309T030000
TZOFFSETFROM:-0400
TZOFFSETTO:-0500
TZNAME:America/Toronto EST
END:STANDARD
BEGIN:STANDARD
DTSTART:20251102T010000
RDATE:20260308T030000
TZOFFSETFROM:-0400
TZOFFSETTO:-0500
TZNAME:America/Toronto EST
END:STANDARD
BEGIN:STANDARD
DTSTART:20261101T010000
RDATE:20270314T030000
TZOFFSETFROM:-0400
TZOFFSETTO:-0500
TZNAME:America/Toronto EST
END:STANDARD
BEGIN:STANDARD
DTSTART:20271107T010000
RDATE:20280312T030000
TZOFFSETFROM:-0400
TZOFFSETTO:-0500
TZNAME:America/Toronto EST
END:STANDARD
BEGIN:STANDARD
DTSTART:20281105T010000
RDATE:20290311T030000
TZOFFSETFROM:-0400
TZOFFSETTO:-0500
TZNAME:America/Toronto EST
END:STANDARD
BEGIN:STANDARD
DTSTART:20291104T010000
RDATE:20300310T030000
TZOFFSETFROM:-0400
TZOFFSETTO:-0500
TZNAME:America/Toronto EST
END:STANDARD
BEGIN:STANDARD
DTSTART:20301103T010000
RDATE:20310309T030000
TZOFFSETFROM:-0400
TZOFFSETTO:-0500
TZNAME:America/Toronto EST
END:STANDARD
BEGIN:STANDARD
DTSTART:20311102T010000
RDATE:20320314T030000
TZOFFSETFROM:-0400
TZOFFSETTO:-0500
TZNAME:America/Toronto EST
END:STANDARD
BEGIN:DAYLIGHT
DTSTART:20250309T030000
RDATE:20251102T010000
TZOFFSETFROM:-0500
TZOFFSETTO:-0400
TZNAME:America/Toronto EDT
END:DAYLIGHT
BEGIN:DAYLIGHT
DTSTART:20260308T030000
RDATE:20261101T010000
TZOFFSETFROM:-0500
TZOFFSETTO:-0400
TZNAME:America/Toronto EDT
END:DAYLIGHT
BEGIN:DAYLIGHT
DTSTART:20270314T030000
RDATE:20271107T010000
TZOFFSETFROM:-0500
TZOFFSETTO:-0400
TZNAME:America/Toronto EDT
END:DAYLIGHT
BEGIN:DAYLIGHT
DTSTART:20280312T030000
RDATE:20281105T010000
TZOFFSETFROM:-0500
TZOFFSETTO:-0400
TZNAME:America/Toronto EDT
END:DAYLIGHT
BEGIN:DAYLIGHT
DTSTART:20290311T030000
RDATE:20291104T010000
TZOFFSETFROM:-0500
TZOFFSETTO:-0400
TZNAME:America/Toronto EDT
END:DAYLIGHT
BEGIN:DAYLIGHT
DTSTART:20300310T030000
RDATE:20301103T010000
TZOFFSETFROM:-0500
TZOFFSETTO:-0400
TZNAME:America/Toronto EDT
END:DAYLIGHT
BEGIN:DAYLIGHT
DTSTART:20310309T030000
RDATE:20311102T010000
TZOFFSETFROM:-0500
TZOFFSETTO:-0400
TZNAME:America/Toronto EDT
END:DAYLIGHT
END:VTIMEZONE
BEGIN:VEVENT
UID:20fbc4d2002e6adbbd14abf1afae8b91
CATEGORIES:Durham Events
CREATED:20251127T154414
SUMMARY:Leadership Talks
LOCATION:405 Dundas Street West\, Whitby\, ON\, L1N 6A1    
DESCRIPTION:An inspiring panel discussion featuring Black entrepreneurs and professiona
 ls of all ages who share their journeys, challenges, and successes in leade
 rship and business. The program highlights pathways to excellence and aims 
 to motivate participants through authentic conversations about growth, inno
 vation, and community impact.\nRegistration (https://whitbylibrary.libcal.c
 om/event/3946422) is required for this adult program.\nPresented by Durham 
 Region Association of Black Professionals and Entrepreneurs (https://drabpe
 .org/).  \n
X-ALT-DESC;FMTTYPE=text/html:<p class="media-heading"><span style="font-family: -apple-system, BlinkMacS
 ystemFont, 'Segoe UI', Roboto, 'Helvetica Neue', Arial, 'Noto Sans', sans-s
 erif, 'Apple Color Emoji', 'Segoe UI Emoji', 'Segoe UI Symbol', 'Noto Color
  Emoji'; font-size: 1rem;">An inspiring panel discussion featuring Black en
 trepreneurs and professionals of all ages who share their journeys, challen
 ges, and successes in leadership and business. The program highlights pathw
 ays to excellence and aims to motivate participants through authentic conve
 rsations about growth, innovation, and community impact.</span></p><p class
 ="media-heading"><span style="font-family: -apple-system, BlinkMacSystemFon
 t, 'Segoe UI', Roboto, 'Helvetica Neue', Arial, 'Noto Sans', sans-serif, 'A
 pple Color Emoji', 'Segoe UI Emoji', 'Segoe UI Symbol', 'Noto Color Emoji';
  font-size: 1rem;"><strong><a href="https://whitbylibrary.libcal.com/event/
 3946422">Registration</a></strong> is required for this adult program.</spa
 n></p><p class="media-heading"><span style="font-family: -apple-system, Bli
 nkMacSystemFont, 'Segoe UI', Roboto, 'Helvetica Neue', Arial, 'Noto Sans', 
 sans-serif, 'Apple Color Emoji', 'Segoe UI Emoji', 'Segoe UI Symbol', 'Noto
  Color Emoji'; font-size: 1rem;">Presented by </span><a style="font-family:
  -apple-system, BlinkMacSystemFont, 'Segoe UI', Roboto, 'Helvetica Neue', A
 rial, 'Noto Sans', sans-serif, 'Apple Color Emoji', 'Segoe UI Emoji', 'Sego
 e UI Symbol', 'Noto Color Emoji'; font-size: 1rem;" href="https://drabpe.or
 g/">Durham Region Association of Black Professionals and Entrepreneurs</a><
 span style="font-family: -apple-system, BlinkMacSystemFont, 'Segoe UI', Rob
 oto, 'Helvetica Neue', Arial, 'Noto Sans', sans-serif, 'Apple Color Emoji',
  'Segoe UI Emoji', 'Segoe UI Symbol', 'Noto Color Emoji'; font-size: 1rem;"
 >.  </span></p>
DTSTAMP:20260419T190442
DTSTART;TZID=America/Toronto:20260219T183000
DTEND;TZID=America/Toronto:20260219T200000
SEQUENCE:0
TRANSP:OPAQUE
END:VEVENT
END:VCALENDAR