BEGIN:VCALENDAR
VERSION:2.0
PRODID:-//jEvents 2.0 for Joomla//EN
CALSCALE:GREGORIAN
METHOD:PUBLISH
BEGIN:VTIMEZONE
TZID:America/Toronto
BEGIN:STANDARD
DTSTART:20241103T010000
RDATE:20250309T030000
TZOFFSETFROM:-0400
TZOFFSETTO:-0500
TZNAME:America/Toronto EST
END:STANDARD
BEGIN:STANDARD
DTSTART:20251102T010000
RDATE:20260308T030000
TZOFFSETFROM:-0400
TZOFFSETTO:-0500
TZNAME:America/Toronto EST
END:STANDARD
BEGIN:STANDARD
DTSTART:20261101T010000
RDATE:20270314T030000
TZOFFSETFROM:-0400
TZOFFSETTO:-0500
TZNAME:America/Toronto EST
END:STANDARD
BEGIN:STANDARD
DTSTART:20271107T010000
RDATE:20280312T030000
TZOFFSETFROM:-0400
TZOFFSETTO:-0500
TZNAME:America/Toronto EST
END:STANDARD
BEGIN:STANDARD
DTSTART:20281105T010000
RDATE:20290311T030000
TZOFFSETFROM:-0400
TZOFFSETTO:-0500
TZNAME:America/Toronto EST
END:STANDARD
BEGIN:STANDARD
DTSTART:20291104T010000
RDATE:20300310T030000
TZOFFSETFROM:-0400
TZOFFSETTO:-0500
TZNAME:America/Toronto EST
END:STANDARD
BEGIN:STANDARD
DTSTART:20301103T010000
RDATE:20310309T030000
TZOFFSETFROM:-0400
TZOFFSETTO:-0500
TZNAME:America/Toronto EST
END:STANDARD
BEGIN:STANDARD
DTSTART:20311102T010000
RDATE:20320314T030000
TZOFFSETFROM:-0400
TZOFFSETTO:-0500
TZNAME:America/Toronto EST
END:STANDARD
BEGIN:DAYLIGHT
DTSTART:20241017T080000
RDATE:20241103T010000
TZOFFSETFROM:-0500
TZOFFSETTO:-0400
TZNAME:America/Toronto EDT
END:DAYLIGHT
BEGIN:DAYLIGHT
DTSTART:20250309T030000
RDATE:20251102T010000
TZOFFSETFROM:-0500
TZOFFSETTO:-0400
TZNAME:America/Toronto EDT
END:DAYLIGHT
BEGIN:DAYLIGHT
DTSTART:20260308T030000
RDATE:20261101T010000
TZOFFSETFROM:-0500
TZOFFSETTO:-0400
TZNAME:America/Toronto EDT
END:DAYLIGHT
BEGIN:DAYLIGHT
DTSTART:20270314T030000
RDATE:20271107T010000
TZOFFSETFROM:-0500
TZOFFSETTO:-0400
TZNAME:America/Toronto EDT
END:DAYLIGHT
BEGIN:DAYLIGHT
DTSTART:20280312T030000
RDATE:20281105T010000
TZOFFSETFROM:-0500
TZOFFSETTO:-0400
TZNAME:America/Toronto EDT
END:DAYLIGHT
BEGIN:DAYLIGHT
DTSTART:20290311T030000
RDATE:20291104T010000
TZOFFSETFROM:-0500
TZOFFSETTO:-0400
TZNAME:America/Toronto EDT
END:DAYLIGHT
BEGIN:DAYLIGHT
DTSTART:20300310T030000
RDATE:20301103T010000
TZOFFSETFROM:-0500
TZOFFSETTO:-0400
TZNAME:America/Toronto EDT
END:DAYLIGHT
BEGIN:DAYLIGHT
DTSTART:20310309T030000
RDATE:20311102T010000
TZOFFSETFROM:-0500
TZOFFSETTO:-0400
TZNAME:America/Toronto EDT
END:DAYLIGHT
END:VTIMEZONE
BEGIN:VEVENT
UID:a78b9051dadbf2d5f07cd5a4dea24063
CATEGORIES:Durham Events
CREATED:20251008T211155
SUMMARY:Second Chance Wildlife Sanctuary Yard Sale
LOCATION:Second Chance Wildlife Sanctuary 2060 Concession Rd #7\, Pickering. Ont.
DESCRIPTION:<p>Our <strong>Final </strong>Yard Sale for 2025.  Please help support all 
 of our cats and kittens in our Sanctuary and in our Foster Homes.  Join us 
 on <strong>Sat Oct 18th 8 a.m. to 3 p.m.  and Sun Oct 19th 10 a.m. to 2 p.m
 .</strong></p><p><strong>Rain or Shine</strong>. This sale will be held ind
 oors. Lots of Christmas items.  Also have Halloween items, records, cds, dv
 ds, pet items, household items, glasswares, prints and more.  Also visit ou
 r book tunnel for a wide selections of reading materials.  <strong>"Live Mu
 sic"</strong> weather permitting. </p><p>Please join us as all the proceeds
  go to supporting our cats and kittens. Always accepting recyclables(beers,
  cans and wine bottles). Donations of towels, cleaning/washroom supplies, c
 at supplies are appreciated.  Items for future yard sales in good/working c
 onditions will be accepted.  <strong>Thank you.</strong></p><p>Our goal is 
 to find Loving, Forever Homes for as many cats as possible. More info and o
 ther ways to help please visit <a href="http://www.second-chance.ws">www.se
 cond-chance.ws</a></p><p> </p>
CONTACT:905-649-8282
X-EXTRAINFO:Located between Brock Rd and Westney Rd.
DTSTAMP:20260420T130533
DTSTART;TZID=America/Toronto:20251018T080000
DTEND;TZID=America/Toronto:20251018T150000
SEQUENCE:0
TRANSP:OPAQUE
END:VEVENT
END:VCALENDAR