BEGIN:VCALENDAR
VERSION:2.0
PRODID:-//jEvents 2.0 for Joomla//EN
CALSCALE:GREGORIAN
METHOD:PUBLISH
BEGIN:VTIMEZONE
TZID:America/Toronto
BEGIN:STANDARD
DTSTART:20241103T010000
RDATE:20250309T030000
TZOFFSETFROM:-0400
TZOFFSETTO:-0500
TZNAME:America/Toronto EST
END:STANDARD
BEGIN:STANDARD
DTSTART:20251102T010000
RDATE:20260308T030000
TZOFFSETFROM:-0400
TZOFFSETTO:-0500
TZNAME:America/Toronto EST
END:STANDARD
BEGIN:STANDARD
DTSTART:20261101T010000
RDATE:20270314T030000
TZOFFSETFROM:-0400
TZOFFSETTO:-0500
TZNAME:America/Toronto EST
END:STANDARD
BEGIN:STANDARD
DTSTART:20271107T010000
RDATE:20280312T030000
TZOFFSETFROM:-0400
TZOFFSETTO:-0500
TZNAME:America/Toronto EST
END:STANDARD
BEGIN:STANDARD
DTSTART:20281105T010000
RDATE:20290311T030000
TZOFFSETFROM:-0400
TZOFFSETTO:-0500
TZNAME:America/Toronto EST
END:STANDARD
BEGIN:STANDARD
DTSTART:20291104T010000
RDATE:20300310T030000
TZOFFSETFROM:-0400
TZOFFSETTO:-0500
TZNAME:America/Toronto EST
END:STANDARD
BEGIN:STANDARD
DTSTART:20301103T010000
RDATE:20310309T030000
TZOFFSETFROM:-0400
TZOFFSETTO:-0500
TZNAME:America/Toronto EST
END:STANDARD
BEGIN:STANDARD
DTSTART:20311102T010000
RDATE:20320314T030000
TZOFFSETFROM:-0400
TZOFFSETTO:-0500
TZNAME:America/Toronto EST
END:STANDARD
BEGIN:DAYLIGHT
DTSTART:20241021T173000
RDATE:20241103T010000
TZOFFSETFROM:-0500
TZOFFSETTO:-0400
TZNAME:America/Toronto EDT
END:DAYLIGHT
BEGIN:DAYLIGHT
DTSTART:20250309T030000
RDATE:20251102T010000
TZOFFSETFROM:-0500
TZOFFSETTO:-0400
TZNAME:America/Toronto EDT
END:DAYLIGHT
BEGIN:DAYLIGHT
DTSTART:20260308T030000
RDATE:20261101T010000
TZOFFSETFROM:-0500
TZOFFSETTO:-0400
TZNAME:America/Toronto EDT
END:DAYLIGHT
BEGIN:DAYLIGHT
DTSTART:20270314T030000
RDATE:20271107T010000
TZOFFSETFROM:-0500
TZOFFSETTO:-0400
TZNAME:America/Toronto EDT
END:DAYLIGHT
BEGIN:DAYLIGHT
DTSTART:20280312T030000
RDATE:20281105T010000
TZOFFSETFROM:-0500
TZOFFSETTO:-0400
TZNAME:America/Toronto EDT
END:DAYLIGHT
BEGIN:DAYLIGHT
DTSTART:20290311T030000
RDATE:20291104T010000
TZOFFSETFROM:-0500
TZOFFSETTO:-0400
TZNAME:America/Toronto EDT
END:DAYLIGHT
BEGIN:DAYLIGHT
DTSTART:20300310T030000
RDATE:20301103T010000
TZOFFSETFROM:-0500
TZOFFSETTO:-0400
TZNAME:America/Toronto EDT
END:DAYLIGHT
BEGIN:DAYLIGHT
DTSTART:20310309T030000
RDATE:20311102T010000
TZOFFSETFROM:-0500
TZOFFSETTO:-0400
TZNAME:America/Toronto EDT
END:DAYLIGHT
END:VTIMEZONE
BEGIN:VEVENT
UID:728a726f96696b94a8fb266ef5d8674a
CATEGORIES:Durham Events
CREATED:20251008T145302
SUMMARY:PINK IN THE RINK with U14 AAA Whitby Wildcats
LOCATION:Iroquois Arena\, Pad 1
DESCRIPTION:<div><div class="gmail_default">PINK IN THE RINK WITH THE U14 AAA WHITBY WI
 LDCATS</div><div class="gmail_default"> </div><div class="gmail_default">Jo
 in the U14 AAA Whitby Wildcats as they take on The Peterborough Jr. Petes o
 n Wednesday, Oct 22 at Iroquois Park.</div><div class="gmail_default"> </di
 v><div class="gmail_default">Come out for a night full of great hockey, raf
 fles, giveaways, and live performances while supporting the fight against b
 reast cancer.</div><div class="gmail_default"> </div><div class="gmail_defa
 ult"><b>FESTIVITIES START:</b> 5:30pm</div><div class="gmail_default"><b>LO
 CATION</b>: IROQUOIS SPORT PARK, RINK 1</div><div class="gmail_default"><b>
 PUCK DROP:</b> 7:35pm by Natalie Wilson</div><div class="gmail_default"> </
 div><div class="gmail_default">Natalie Wilson, owner of High Heal Diaries, 
  is a 3 time cancer survivor, life coach and motivational speaker. She uses
  her experience to support other women going through treatment and recovery
  by offering life coaching, peer and financial support.</div><div class="gm
 ail_default"> </div><div class="gmail_default">DON'T FORGET TO WEAR <span s
 tyle="color: #000000;">PINK</span>!!!</div><div class="gmail_default"> </di
 v><div class="gmail_default"><div class="gmail_default">National Anthem sun
 g by: Ormiston Public School Choir</div><div class="gmail_default"> </div><
 div class="gmail_default">Live performances by :O'Neill High School Band</d
 iv></div><div class="gmail_default"> </div><div class="gmail_default">All p
 roceeds go directly to LakeRidge Health and High Heal Diaries.</div><div cl
 ass="gmail_default"><b> </b></div><div class="gmail_default"><b>Lakeridge H
 ealth</b> plays a vital role in supporting local healthcare initiatives, in
 cluding breast cancer research, prevention and patient care.</div><div clas
 s="gmail_default"><b><span style="font-family: trebuchet ms, sans-serif;">H
 igh </span>Heal</b><span style="font-family: trebuchet ms, sans-serif;"><b>
  Diaries</b> </span><span style="color: #000000; font-family: trebuchet ms,
  sans-serif;">key initiative includes raising awareness and funds to suppor
 t breast cancer survivors. Proceeds raised by High Heal Diaries provide rel
 ief for people suffering from the financial hardships of their breast cance
 r diagnosis.</span></div><div class="gmail_default"> </div><div class="gmai
 l_default"><a href="https://lhfoundation.ca/" target="_blank" rel="noopener
 " data-saferedirecturl="https://www.google.com/url?q=https://lhfoundation.c
 a/&amp;source=gmail&amp;ust=1760035572288000&amp;usg=AOvVaw1Ly_NY7ACKZ5BmMW
 wKGGj9">https://lhfoundation.ca/</a></div><div class="gmail_default"><a hre
 f="https://highhealdiaries.com/" target="_blank" rel="noopener" data-safere
 directurl="https://www.google.com/url?q=https://highhealdiaries.com/&amp;so
 urce=gmail&amp;ust=1760035572288000&amp;usg=AOvVaw2dcL2LfVdk6BAcsVEjkQyz">h
 ttps://highhealdiaries.com/</a></div></div><div> </div>
CONTACT:This email address is being protected from spambots. You need JavaScript enabled to view it.
DTSTAMP:20260421T051603
DTSTART;TZID=America/Toronto:20251022T173000
DTEND;TZID=America/Toronto:20251022T213000
SEQUENCE:0
TRANSP:OPAQUE
END:VEVENT
END:VCALENDAR