BEGIN:VCALENDAR
VERSION:2.0
PRODID:-//jEvents 2.0 for Joomla//EN
CALSCALE:GREGORIAN
METHOD:PUBLISH
BEGIN:VTIMEZONE
TZID:America/Toronto
BEGIN:STANDARD
DTSTART:20241103T010000
RDATE:20250309T030000
TZOFFSETFROM:-0400
TZOFFSETTO:-0500
TZNAME:America/Toronto EST
END:STANDARD
BEGIN:STANDARD
DTSTART:20251102T010000
RDATE:20260308T030000
TZOFFSETFROM:-0400
TZOFFSETTO:-0500
TZNAME:America/Toronto EST
END:STANDARD
BEGIN:STANDARD
DTSTART:20261101T010000
RDATE:20270314T030000
TZOFFSETFROM:-0400
TZOFFSETTO:-0500
TZNAME:America/Toronto EST
END:STANDARD
BEGIN:STANDARD
DTSTART:20271107T010000
RDATE:20280312T030000
TZOFFSETFROM:-0400
TZOFFSETTO:-0500
TZNAME:America/Toronto EST
END:STANDARD
BEGIN:STANDARD
DTSTART:20281105T010000
RDATE:20290311T030000
TZOFFSETFROM:-0400
TZOFFSETTO:-0500
TZNAME:America/Toronto EST
END:STANDARD
BEGIN:STANDARD
DTSTART:20291104T010000
RDATE:20300310T030000
TZOFFSETFROM:-0400
TZOFFSETTO:-0500
TZNAME:America/Toronto EST
END:STANDARD
BEGIN:STANDARD
DTSTART:20301103T010000
RDATE:20310309T030000
TZOFFSETFROM:-0400
TZOFFSETTO:-0500
TZNAME:America/Toronto EST
END:STANDARD
BEGIN:STANDARD
DTSTART:20311102T010000
RDATE:20320314T030000
TZOFFSETFROM:-0400
TZOFFSETTO:-0500
TZNAME:America/Toronto EST
END:STANDARD
BEGIN:DAYLIGHT
DTSTART:20240927T110000
RDATE:20241103T010000
TZOFFSETFROM:-0500
TZOFFSETTO:-0400
TZNAME:America/Toronto EDT
END:DAYLIGHT
BEGIN:DAYLIGHT
DTSTART:20250309T030000
RDATE:20251102T010000
TZOFFSETFROM:-0500
TZOFFSETTO:-0400
TZNAME:America/Toronto EDT
END:DAYLIGHT
BEGIN:DAYLIGHT
DTSTART:20260308T030000
RDATE:20261101T010000
TZOFFSETFROM:-0500
TZOFFSETTO:-0400
TZNAME:America/Toronto EDT
END:DAYLIGHT
BEGIN:DAYLIGHT
DTSTART:20270314T030000
RDATE:20271107T010000
TZOFFSETFROM:-0500
TZOFFSETTO:-0400
TZNAME:America/Toronto EDT
END:DAYLIGHT
BEGIN:DAYLIGHT
DTSTART:20280312T030000
RDATE:20281105T010000
TZOFFSETFROM:-0500
TZOFFSETTO:-0400
TZNAME:America/Toronto EDT
END:DAYLIGHT
BEGIN:DAYLIGHT
DTSTART:20290311T030000
RDATE:20291104T010000
TZOFFSETFROM:-0500
TZOFFSETTO:-0400
TZNAME:America/Toronto EDT
END:DAYLIGHT
BEGIN:DAYLIGHT
DTSTART:20300310T030000
RDATE:20301103T010000
TZOFFSETFROM:-0500
TZOFFSETTO:-0400
TZNAME:America/Toronto EDT
END:DAYLIGHT
BEGIN:DAYLIGHT
DTSTART:20310309T030000
RDATE:20311102T010000
TZOFFSETFROM:-0500
TZOFFSETTO:-0400
TZNAME:America/Toronto EDT
END:DAYLIGHT
END:VTIMEZONE
BEGIN:VEVENT
UID:7821762f80a54f6cc15f09a6704bdfc3
CATEGORIES:Durham Events
CREATED:20250919T144155
SUMMARY:Carnival Fun Fair For Evelyn
LOCATION:5360 Old Scugog Road
DESCRIPTION:In July, the Ihnat family received devastating news: their 6-year-old child
  was diagnosed with encephalitis. This rare and serious condition causes in
 flammation of the brain, often triggered by a viral infection. This conditi
 on can progress rapidly and is life-threatening, requiring intensive medica
 l care and close monitoring. While progress has been made, the Ihnat family
  still needs our support.\nJoin All About Communication at Hampton Hall (53
 60 Old Scugog Road) for a day filled with games, food, prizes, and family f
 un- all in support of a family in need.\nNote: This event is cash and e-tra
 nsfer only.\nhttps://www.facebook.com/share/17LNhBAvLJ/\nhttps://www.instag
 ram.com/all_about_communication_inc?utm_source=ig_web_button_share_sheet&am
 p;igsh=ZDNlZDc0MzIxNw== (https://www.instagram.com/all_about_communication_
 inc?utm_source=ig_web_button_share_sheet&amp;igsh=ZDNlZDc0MzIxNw==)\nhttps:
 //www.gofundme.com/f/help-support-evelyn-ihnat-and-family (https://www.gofu
 ndme.com/f/help-support-evelyn-ihnat-and-family)\n
X-ALT-DESC;FMTTYPE=text/html:<p style="font-weight: 400;">In July, the Ihnat family received devastating
  news: their 6-year-old child was diagnosed with encephalitis. This rare an
 d serious condition causes inflammation of the brain, often triggered by a 
 viral infection. This condition can progress rapidly and is life-threatenin
 g, requiring intensive medical care and close monitoring. While progress ha
 s been made, the Ihnat family still needs our support.</p><p>Join All About
  Communication at Hampton Hall (5360 Old Scugog Road) for a day filled with
  games, food, prizes, and family fun- all in support of a family in need.</
 p><p>Note: This event is cash and e-transfer only.</p><p><a href="https://w
 ww.facebook.com/share/17LNhBAvLJ/">https://www.facebook.com/share/17LNhBAvL
 J/</a></p><p><a href="https://www.instagram.com/all_about_communication_inc
 ?utm_source=ig_web_button_share_sheet&amp;igsh=ZDNlZDc0MzIxNw==">https://ww
 w.instagram.com/all_about_communication_inc?utm_source=ig_web_button_share_
 sheet&amp;igsh=ZDNlZDc0MzIxNw==</a></p><p><a href="https://www.gofundme.com
 /f/help-support-evelyn-ihnat-and-family">https://www.gofundme.com/f/help-su
 pport-evelyn-ihnat-and-family</a></p>
DTSTAMP:20260420T111713
DTSTART;TZID=America/Toronto:20250928T110000
SEQUENCE:0
TRANSP:OPAQUE
END:VEVENT
END:VCALENDAR