BEGIN:VCALENDAR
VERSION:2.0
PRODID:-//jEvents 2.0 for Joomla//EN
CALSCALE:GREGORIAN
METHOD:PUBLISH
BEGIN:VTIMEZONE
TZID:America/Toronto
BEGIN:STANDARD
DTSTART:20241103T010000
RDATE:20250309T030000
TZOFFSETFROM:-0400
TZOFFSETTO:-0500
TZNAME:America/Toronto EST
END:STANDARD
BEGIN:STANDARD
DTSTART:20251102T010000
RDATE:20260308T030000
TZOFFSETFROM:-0400
TZOFFSETTO:-0500
TZNAME:America/Toronto EST
END:STANDARD
BEGIN:STANDARD
DTSTART:20261101T010000
RDATE:20270314T030000
TZOFFSETFROM:-0400
TZOFFSETTO:-0500
TZNAME:America/Toronto EST
END:STANDARD
BEGIN:STANDARD
DTSTART:20271107T010000
RDATE:20280312T030000
TZOFFSETFROM:-0400
TZOFFSETTO:-0500
TZNAME:America/Toronto EST
END:STANDARD
BEGIN:STANDARD
DTSTART:20281105T010000
RDATE:20290311T030000
TZOFFSETFROM:-0400
TZOFFSETTO:-0500
TZNAME:America/Toronto EST
END:STANDARD
BEGIN:STANDARD
DTSTART:20291104T010000
RDATE:20300310T030000
TZOFFSETFROM:-0400
TZOFFSETTO:-0500
TZNAME:America/Toronto EST
END:STANDARD
BEGIN:STANDARD
DTSTART:20301103T010000
RDATE:20310309T030000
TZOFFSETFROM:-0400
TZOFFSETTO:-0500
TZNAME:America/Toronto EST
END:STANDARD
BEGIN:STANDARD
DTSTART:20311102T010000
RDATE:20320314T030000
TZOFFSETFROM:-0400
TZOFFSETTO:-0500
TZNAME:America/Toronto EST
END:STANDARD
BEGIN:DAYLIGHT
DTSTART:20241015T183000
RDATE:20241103T010000
TZOFFSETFROM:-0500
TZOFFSETTO:-0400
TZNAME:America/Toronto EDT
END:DAYLIGHT
BEGIN:DAYLIGHT
DTSTART:20250309T030000
RDATE:20251102T010000
TZOFFSETFROM:-0500
TZOFFSETTO:-0400
TZNAME:America/Toronto EDT
END:DAYLIGHT
BEGIN:DAYLIGHT
DTSTART:20260308T030000
RDATE:20261101T010000
TZOFFSETFROM:-0500
TZOFFSETTO:-0400
TZNAME:America/Toronto EDT
END:DAYLIGHT
BEGIN:DAYLIGHT
DTSTART:20270314T030000
RDATE:20271107T010000
TZOFFSETFROM:-0500
TZOFFSETTO:-0400
TZNAME:America/Toronto EDT
END:DAYLIGHT
BEGIN:DAYLIGHT
DTSTART:20280312T030000
RDATE:20281105T010000
TZOFFSETFROM:-0500
TZOFFSETTO:-0400
TZNAME:America/Toronto EDT
END:DAYLIGHT
BEGIN:DAYLIGHT
DTSTART:20290311T030000
RDATE:20291104T010000
TZOFFSETFROM:-0500
TZOFFSETTO:-0400
TZNAME:America/Toronto EDT
END:DAYLIGHT
BEGIN:DAYLIGHT
DTSTART:20300310T030000
RDATE:20301103T010000
TZOFFSETFROM:-0500
TZOFFSETTO:-0400
TZNAME:America/Toronto EDT
END:DAYLIGHT
BEGIN:DAYLIGHT
DTSTART:20310309T030000
RDATE:20311102T010000
TZOFFSETFROM:-0500
TZOFFSETTO:-0400
TZNAME:America/Toronto EDT
END:DAYLIGHT
END:VTIMEZONE
BEGIN:VEVENT
UID:09ef31737f5fd5b107f8da6da2a4def9
CATEGORIES:Durham Events
CREATED:20250908T152409
SUMMARY:Admissions Open House
LOCATION:Trafalgar Castle School
DESCRIPTION:For students who are currently in Grade 3 or above please join us at our Ad
 missions Open House on Thursday, October 16 at 6:30 p.m. Learn more about a
 n education at Trafalgar Castle School. \nREGISTER HERE (https://trafalgarc
 astle.myschoolapp.com/app/embed#admeventregister/1863/selector=.internet/17
 57359421%3aXTWZ%2b%2fJwjyxEgIX%2fZxZebk6Hn4jErIzJy2S2CBkz0JSaSkGlOZ8aYi68b2
 NwIVkDp67ZgUsewMTnEaSK1mw3IA%3d%3d)\n
X-ALT-DESC;FMTTYPE=text/html:<p>For students who are currently in Grade 3 or above please join us at our
  Admissions Open House on <strong>Thursday, October 16 at 6:30 p.m. </stron
 g>Learn more about an education at Trafalgar Castle School. </p><p><a href=
 "https://trafalgarcastle.myschoolapp.com/app/embed#admeventregister/1863/se
 lector=.internet/1757359421%3aXTWZ%2b%2fJwjyxEgIX%2fZxZebk6Hn4jErIzJy2S2CBk
 z0JSaSkGlOZ8aYi68b2NwIVkDp67ZgUsewMTnEaSK1mw3IA%3d%3d">REGISTER HERE</a></p
 >
CONTACT:Admissions
DTSTAMP:20260420T130443
DTSTART;TZID=America/Toronto:20251016T183000
DTEND;TZID=America/Toronto:20251016T200000
SEQUENCE:0
TRANSP:OPAQUE
END:VEVENT
END:VCALENDAR