BEGIN:VCALENDAR
VERSION:2.0
PRODID:-//jEvents 2.0 for Joomla//EN
CALSCALE:GREGORIAN
METHOD:PUBLISH
BEGIN:VTIMEZONE
TZID:America/Toronto
BEGIN:STANDARD
DTSTART:20241103T010000
RDATE:20250309T030000
TZOFFSETFROM:-0400
TZOFFSETTO:-0500
TZNAME:America/Toronto EST
END:STANDARD
BEGIN:STANDARD
DTSTART:20251102T010000
RDATE:20260308T030000
TZOFFSETFROM:-0400
TZOFFSETTO:-0500
TZNAME:America/Toronto EST
END:STANDARD
BEGIN:STANDARD
DTSTART:20261101T010000
RDATE:20270314T030000
TZOFFSETFROM:-0400
TZOFFSETTO:-0500
TZNAME:America/Toronto EST
END:STANDARD
BEGIN:STANDARD
DTSTART:20271107T010000
RDATE:20280312T030000
TZOFFSETFROM:-0400
TZOFFSETTO:-0500
TZNAME:America/Toronto EST
END:STANDARD
BEGIN:STANDARD
DTSTART:20281105T010000
RDATE:20290311T030000
TZOFFSETFROM:-0400
TZOFFSETTO:-0500
TZNAME:America/Toronto EST
END:STANDARD
BEGIN:STANDARD
DTSTART:20291104T010000
RDATE:20300310T030000
TZOFFSETFROM:-0400
TZOFFSETTO:-0500
TZNAME:America/Toronto EST
END:STANDARD
BEGIN:STANDARD
DTSTART:20301103T010000
RDATE:20310309T030000
TZOFFSETFROM:-0400
TZOFFSETTO:-0500
TZNAME:America/Toronto EST
END:STANDARD
BEGIN:STANDARD
DTSTART:20311102T010000
RDATE:20320314T030000
TZOFFSETFROM:-0400
TZOFFSETTO:-0500
TZNAME:America/Toronto EST
END:STANDARD
BEGIN:DAYLIGHT
DTSTART:20240925T140000
RDATE:20241103T010000
TZOFFSETFROM:-0500
TZOFFSETTO:-0400
TZNAME:America/Toronto EDT
END:DAYLIGHT
BEGIN:DAYLIGHT
DTSTART:20250309T030000
RDATE:20251102T010000
TZOFFSETFROM:-0500
TZOFFSETTO:-0400
TZNAME:America/Toronto EDT
END:DAYLIGHT
BEGIN:DAYLIGHT
DTSTART:20260308T030000
RDATE:20261101T010000
TZOFFSETFROM:-0500
TZOFFSETTO:-0400
TZNAME:America/Toronto EDT
END:DAYLIGHT
BEGIN:DAYLIGHT
DTSTART:20270314T030000
RDATE:20271107T010000
TZOFFSETFROM:-0500
TZOFFSETTO:-0400
TZNAME:America/Toronto EDT
END:DAYLIGHT
BEGIN:DAYLIGHT
DTSTART:20280312T030000
RDATE:20281105T010000
TZOFFSETFROM:-0500
TZOFFSETTO:-0400
TZNAME:America/Toronto EDT
END:DAYLIGHT
BEGIN:DAYLIGHT
DTSTART:20290311T030000
RDATE:20291104T010000
TZOFFSETFROM:-0500
TZOFFSETTO:-0400
TZNAME:America/Toronto EDT
END:DAYLIGHT
BEGIN:DAYLIGHT
DTSTART:20300310T030000
RDATE:20301103T010000
TZOFFSETFROM:-0500
TZOFFSETTO:-0400
TZNAME:America/Toronto EDT
END:DAYLIGHT
BEGIN:DAYLIGHT
DTSTART:20310309T030000
RDATE:20311102T010000
TZOFFSETFROM:-0500
TZOFFSETTO:-0400
TZNAME:America/Toronto EDT
END:DAYLIGHT
END:VTIMEZONE
BEGIN:VEVENT
UID:7e2fec41da05ca72ce001a92bb3660e1
CATEGORIES:Durham Events
CREATED:20250908T104652
SUMMARY:Walking Together: A Journey Through Truth, Reconciliation
LOCATION:801 Brock Street South
DESCRIPTION:Walking Together: A Journey Through Truth, ReconciliationDr. Peter Menzies 
 has over 20 years of experience in Social Work. He has spent part of his ca
 reer supporting his personal community of the Sagamok Anishnawbek First Nat
 ion peoples, among communities across northern Ontario. Peter is experience
 d with working with child welfare and income maintenance.During this two-ho
 ur workshop, participants will be introduced to issues confronting Indigeno
 us Peoples in Canada through a public policy framework. Central to this wor
 kshop is an overview examination of Indigenous Peoples’ experience with col
 onialism, ceremonies, celebrations, urban issues, and developing partnershi
 ps with Indigenous communities.Learning objective• Develop an understanding
  of the historic, social, and political factors that has shaped the experie
 nces of Indigenous Peoples• Understand the impact of current public policy 
 on the lives of Indigenous Peoples• Understanding the parameters of Interge
 nerational Trauma• Building partnerships/alliances with Indigenous communit
 iesAn all-ages event at the Whitby 55+ Recreation Centre. Free to attend, b
 ut pre-registration is required please: register here (https://anc.ca.apm.a
 ctivecommunities.com/whitby/activity/search/detail/59094?onlineSiteId=0&amp
 ;locale=en-US&amp;from_original_cui=true)
X-ALT-DESC;FMTTYPE=text/html:<h1 class="activity-header__primary u-text-left" data-qa-id="activity-detai
 l-general-name">Walking Together: A Journey Through Truth, Reconciliation</
 h1><div><div><span style="color: #313741; font-family: Arial, Helvetica, sa
 ns-serif; font-size: large;">Dr. Peter Menzies has over 20 years of experie
 nce in Social Work. He has spent part of his career supporting his personal
  community of the Sagamok Anishnawbek First Nation peoples, among communiti
 es across northern Ontario. Peter is experienced with working with child we
 lfare and income maintenance.</span></div><div><span style="color: #313741;
  font-family: Arial, Helvetica, sans-serif; font-size: large;">During this 
 two-hour workshop, participants will be introduced to issues confronting In
 digenous Peoples in Canada through a public policy framework. Central to th
 is workshop is an overview examination of Indigenous Peoples’ experience wi
 th colonialism, ceremonies, celebrations, urban issues, and developing part
 nerships with Indigenous communities.</span></div></div><div><div>Learning 
 objective</div><div>• Develop an understanding of the historic, social, and
  political factors that has shaped the experiences of Indigenous Peoples</d
 iv><div>• Understand the impact of current public policy on the lives of In
 digenous Peoples</div><div>• Understanding the parameters of Intergeneratio
 nal Trauma</div><div>• Building partnerships/alliances with Indigenous comm
 unities</div><div><strong>An all-ages event at the Whitby 55+ Recreation Ce
 ntre. Free to attend, but pre-registration is required please: <a href="htt
 ps://anc.ca.apm.activecommunities.com/whitby/activity/search/detail/59094?o
 nlineSiteId=0&amp;locale=en-US&amp;from_original_cui=true">register here</a
 ></strong></div></div>
CONTACT:55+ Recreation 905-668-1424
X-EXTRAINFO:All Ages, Free! Pre-registration required.
DTSTAMP:20260420T093044
DTSTART;TZID=America/Toronto:20250926T140000
DTEND;TZID=America/Toronto:20250926T160000
SEQUENCE:0
TRANSP:OPAQUE
END:VEVENT
END:VCALENDAR