BEGIN:VCALENDAR
VERSION:2.0
PRODID:-//jEvents 2.0 for Joomla//EN
CALSCALE:GREGORIAN
METHOD:PUBLISH
BEGIN:VTIMEZONE
TZID:America/Toronto
BEGIN:STANDARD
DTSTART:20250213T190000
RDATE:20250309T030000
TZOFFSETFROM:-0400
TZOFFSETTO:-0500
TZNAME:America/Toronto EST
END:STANDARD
BEGIN:STANDARD
DTSTART:20251102T010000
RDATE:20260308T030000
TZOFFSETFROM:-0400
TZOFFSETTO:-0500
TZNAME:America/Toronto EST
END:STANDARD
BEGIN:STANDARD
DTSTART:20261101T010000
RDATE:20270314T030000
TZOFFSETFROM:-0400
TZOFFSETTO:-0500
TZNAME:America/Toronto EST
END:STANDARD
BEGIN:STANDARD
DTSTART:20271107T010000
RDATE:20280312T030000
TZOFFSETFROM:-0400
TZOFFSETTO:-0500
TZNAME:America/Toronto EST
END:STANDARD
BEGIN:STANDARD
DTSTART:20281105T010000
RDATE:20290311T030000
TZOFFSETFROM:-0400
TZOFFSETTO:-0500
TZNAME:America/Toronto EST
END:STANDARD
BEGIN:STANDARD
DTSTART:20291104T010000
RDATE:20300310T030000
TZOFFSETFROM:-0400
TZOFFSETTO:-0500
TZNAME:America/Toronto EST
END:STANDARD
BEGIN:STANDARD
DTSTART:20301103T010000
RDATE:20310309T030000
TZOFFSETFROM:-0400
TZOFFSETTO:-0500
TZNAME:America/Toronto EST
END:STANDARD
BEGIN:STANDARD
DTSTART:20311102T010000
RDATE:20320314T030000
TZOFFSETFROM:-0400
TZOFFSETTO:-0500
TZNAME:America/Toronto EST
END:STANDARD
BEGIN:DAYLIGHT
DTSTART:20250309T030000
RDATE:20251102T010000
TZOFFSETFROM:-0500
TZOFFSETTO:-0400
TZNAME:America/Toronto EDT
END:DAYLIGHT
BEGIN:DAYLIGHT
DTSTART:20260308T030000
RDATE:20261101T010000
TZOFFSETFROM:-0500
TZOFFSETTO:-0400
TZNAME:America/Toronto EDT
END:DAYLIGHT
BEGIN:DAYLIGHT
DTSTART:20270314T030000
RDATE:20271107T010000
TZOFFSETFROM:-0500
TZOFFSETTO:-0400
TZNAME:America/Toronto EDT
END:DAYLIGHT
BEGIN:DAYLIGHT
DTSTART:20280312T030000
RDATE:20281105T010000
TZOFFSETFROM:-0500
TZOFFSETTO:-0400
TZNAME:America/Toronto EDT
END:DAYLIGHT
BEGIN:DAYLIGHT
DTSTART:20290311T030000
RDATE:20291104T010000
TZOFFSETFROM:-0500
TZOFFSETTO:-0400
TZNAME:America/Toronto EDT
END:DAYLIGHT
BEGIN:DAYLIGHT
DTSTART:20300310T030000
RDATE:20301103T010000
TZOFFSETFROM:-0500
TZOFFSETTO:-0400
TZNAME:America/Toronto EDT
END:DAYLIGHT
BEGIN:DAYLIGHT
DTSTART:20310309T030000
RDATE:20311102T010000
TZOFFSETFROM:-0500
TZOFFSETTO:-0400
TZNAME:America/Toronto EDT
END:DAYLIGHT
END:VTIMEZONE
BEGIN:VEVENT
UID:cbfdc2765c09ced1496c41892d926e64
CATEGORIES:Durham Events
CREATED:20250829T161657
SUMMARY:Middle Raged
LOCATION:St. Francis Centre for Community\, Arts &amp; Culture - 78 Church St. S.\, 
 Ajax
DESCRIPTION:<p>Middle Raged - Back by Popular Demand! </p><p>After a sold-out show at t
 he St. Francis Centre in 2022, and receiving rave reviews, Middle Raged is 
 back! Celebrate your Valentine's Day with us as this hilarious sketch comed
 y revue explores life between the ages of 30 and 65. It's all about couples
  navigating the chaos of parenting, money troubles, empty nests, aging pare
 nts, attending more funerals than weddings — and yes, even finding ways to 
 keep the spark alive, including a little Outlander-inspired role play in th
 e bedroom! </p><p>Starring Gemini Award winner, Geri Hall (This Hour Has 22
  Minutes, Second City), and Writers Guild and Canadian Screen Award winner,
  Gary Pearson (MadTV, This Hour Has 22 Minutes, Corner Gas, Sunnyside), cri
 tics are raving about the special chemistry and comedy these two share as t
 hey poke fun at that time of life when the bloom is off the rose, but the t
 horns are as sharp as ever. </p><p>Audience Advisory – Adult Content </p><p
 >Concessions and cash bar available. Tickets are only $38 and are available
  at the Ajax and McLean Community Centres, the Audley Recreation Centre, an
 d online at www.ajax.ca/sfc. For more information, call 905-619-2529, ext. 
 2787 (ARTS), email us at <joomla-hidden-mail  is-link="1" is-email="1" firs
 t="c3RmcmFuY2lzY2VudHJl" last="YWpheC5jYQ==" text="c3RmcmFuY2lzY2VudHJlQGFq
 YXguY2E=" base="" >This email address is being protected from spambots. You
  need JavaScript enabled to view it.</joomla-hidden-mail>, or visit us onli
 ne at www.ajax.ca/sfc. This show is sure to sell out again! <strong>Makes a
  great Valentine's Day gift. </strong>Don't miss out - get yours today!</p>
CONTACT:Franco Pang
DTSTAMP:20260419T204824
DTSTART;TZID=America/Toronto:20260214T190000
DTEND;TZID=America/Toronto:20260214T210000
SEQUENCE:0
TRANSP:OPAQUE
END:VEVENT
END:VCALENDAR