BEGIN:VCALENDAR
VERSION:2.0
PRODID:-//jEvents 2.0 for Joomla//EN
CALSCALE:GREGORIAN
METHOD:PUBLISH
BEGIN:VTIMEZONE
TZID:America/Toronto
BEGIN:STANDARD
DTSTART:20250212T190000
RDATE:20250309T030000
TZOFFSETFROM:-0400
TZOFFSETTO:-0500
TZNAME:America/Toronto EST
END:STANDARD
BEGIN:STANDARD
DTSTART:20251102T010000
RDATE:20260308T030000
TZOFFSETFROM:-0400
TZOFFSETTO:-0500
TZNAME:America/Toronto EST
END:STANDARD
BEGIN:STANDARD
DTSTART:20261101T010000
RDATE:20270314T030000
TZOFFSETFROM:-0400
TZOFFSETTO:-0500
TZNAME:America/Toronto EST
END:STANDARD
BEGIN:STANDARD
DTSTART:20271107T010000
RDATE:20280312T030000
TZOFFSETFROM:-0400
TZOFFSETTO:-0500
TZNAME:America/Toronto EST
END:STANDARD
BEGIN:STANDARD
DTSTART:20281105T010000
RDATE:20290311T030000
TZOFFSETFROM:-0400
TZOFFSETTO:-0500
TZNAME:America/Toronto EST
END:STANDARD
BEGIN:STANDARD
DTSTART:20291104T010000
RDATE:20300310T030000
TZOFFSETFROM:-0400
TZOFFSETTO:-0500
TZNAME:America/Toronto EST
END:STANDARD
BEGIN:STANDARD
DTSTART:20301103T010000
RDATE:20310309T030000
TZOFFSETFROM:-0400
TZOFFSETTO:-0500
TZNAME:America/Toronto EST
END:STANDARD
BEGIN:STANDARD
DTSTART:20311102T010000
RDATE:20320314T030000
TZOFFSETFROM:-0400
TZOFFSETTO:-0500
TZNAME:America/Toronto EST
END:STANDARD
BEGIN:DAYLIGHT
DTSTART:20250309T030000
RDATE:20251102T010000
TZOFFSETFROM:-0500
TZOFFSETTO:-0400
TZNAME:America/Toronto EDT
END:DAYLIGHT
BEGIN:DAYLIGHT
DTSTART:20260308T030000
RDATE:20261101T010000
TZOFFSETFROM:-0500
TZOFFSETTO:-0400
TZNAME:America/Toronto EDT
END:DAYLIGHT
BEGIN:DAYLIGHT
DTSTART:20270314T030000
RDATE:20271107T010000
TZOFFSETFROM:-0500
TZOFFSETTO:-0400
TZNAME:America/Toronto EDT
END:DAYLIGHT
BEGIN:DAYLIGHT
DTSTART:20280312T030000
RDATE:20281105T010000
TZOFFSETFROM:-0500
TZOFFSETTO:-0400
TZNAME:America/Toronto EDT
END:DAYLIGHT
BEGIN:DAYLIGHT
DTSTART:20290311T030000
RDATE:20291104T010000
TZOFFSETFROM:-0500
TZOFFSETTO:-0400
TZNAME:America/Toronto EDT
END:DAYLIGHT
BEGIN:DAYLIGHT
DTSTART:20300310T030000
RDATE:20301103T010000
TZOFFSETFROM:-0500
TZOFFSETTO:-0400
TZNAME:America/Toronto EDT
END:DAYLIGHT
BEGIN:DAYLIGHT
DTSTART:20310309T030000
RDATE:20311102T010000
TZOFFSETFROM:-0500
TZOFFSETTO:-0400
TZNAME:America/Toronto EDT
END:DAYLIGHT
END:VTIMEZONE
BEGIN:VEVENT
UID:08474e1bfc41bdba88cf50e3bf5ff727
CATEGORIES:Durham Events
CREATED:20250829T161501
SUMMARY:Retro Reels: Scream 30th Anniversary (18+)
LOCATION:St. Francis Centre for Community\, Arts &amp; Culture - 78 Church St. S.\, 
 Ajax
DESCRIPTION:<p>Looking for something more than just a typical movie night? Check out Re
 tro Reels!</p><p>Enjoy retro classics with the added experience of themed c
 ocktails, treats, trivia, prizes and giveaways! Costumes and PJs encouraged
 !</p><p><strong>Scream – 30th Anniversary (18+)</strong><br />The sleepy li
 ttle town of Woodsboro just woke up screaming! A year after her mother's de
 ath, Sidney Prescott (Neve Campbell) and her friends start experiencing som
 e strange phone calls. There’s a killer in their midst who has seen a few t
 oo many scary movies. Suddenly no one is safe as Sidney and her friends try
  to survive the real-life horror movie they suddenly find themselves in. Wh
 o is the Ghostface killer? It could be anyone!</p><p><strong>NOTE: This is 
 an 18+ event. </strong>Tickets are only $5 and are available at the Ajax an
 d McLean Community Centres, the Audley Recreation Centre, and online at www
 .ajax.ca/sfc. For more information, call 905-619-2529, ext. 2787 (ARTS), em
 ail us at <joomla-hidden-mail  is-link="1" is-email="1" first="c3RmcmFuY2lz
 Y2VudHJl" last="YWpheC5jYQ==" text="c3RmcmFuY2lzY2VudHJlQGFqYXguY2E=" base=
 "" >This email address is being protected from spambots. You need JavaScrip
 t enabled to view it.</joomla-hidden-mail>, or visit us online at www.ajax.
 ca/sfc</p>
CONTACT:Franco Pang
DTSTAMP:20260419T204825
DTSTART;TZID=America/Toronto:20260213T190000
DTEND;TZID=America/Toronto:20260213T210000
SEQUENCE:0
TRANSP:OPAQUE
END:VEVENT
END:VCALENDAR