BEGIN:VCALENDAR
VERSION:2.0
PRODID:-//jEvents 2.0 for Joomla//EN
CALSCALE:GREGORIAN
METHOD:PUBLISH
BEGIN:VTIMEZONE
TZID:America/Toronto
BEGIN:STANDARD
DTSTART:20241103T010000
RDATE:20250309T030000
TZOFFSETFROM:-0400
TZOFFSETTO:-0500
TZNAME:America/Toronto EST
END:STANDARD
BEGIN:STANDARD
DTSTART:20251102T010000
RDATE:20260308T030000
TZOFFSETFROM:-0400
TZOFFSETTO:-0500
TZNAME:America/Toronto EST
END:STANDARD
BEGIN:STANDARD
DTSTART:20261101T010000
RDATE:20270314T030000
TZOFFSETFROM:-0400
TZOFFSETTO:-0500
TZNAME:America/Toronto EST
END:STANDARD
BEGIN:STANDARD
DTSTART:20271107T010000
RDATE:20280312T030000
TZOFFSETFROM:-0400
TZOFFSETTO:-0500
TZNAME:America/Toronto EST
END:STANDARD
BEGIN:STANDARD
DTSTART:20281105T010000
RDATE:20290311T030000
TZOFFSETFROM:-0400
TZOFFSETTO:-0500
TZNAME:America/Toronto EST
END:STANDARD
BEGIN:STANDARD
DTSTART:20291104T010000
RDATE:20300310T030000
TZOFFSETFROM:-0400
TZOFFSETTO:-0500
TZNAME:America/Toronto EST
END:STANDARD
BEGIN:STANDARD
DTSTART:20301103T010000
RDATE:20310309T030000
TZOFFSETFROM:-0400
TZOFFSETTO:-0500
TZNAME:America/Toronto EST
END:STANDARD
BEGIN:STANDARD
DTSTART:20311102T010000
RDATE:20320314T030000
TZOFFSETFROM:-0400
TZOFFSETTO:-0500
TZNAME:America/Toronto EST
END:STANDARD
BEGIN:DAYLIGHT
DTSTART:20241024T190000
RDATE:20241103T010000
TZOFFSETFROM:-0500
TZOFFSETTO:-0400
TZNAME:America/Toronto EDT
END:DAYLIGHT
BEGIN:DAYLIGHT
DTSTART:20250309T030000
RDATE:20251102T010000
TZOFFSETFROM:-0500
TZOFFSETTO:-0400
TZNAME:America/Toronto EDT
END:DAYLIGHT
BEGIN:DAYLIGHT
DTSTART:20260308T030000
RDATE:20261101T010000
TZOFFSETFROM:-0500
TZOFFSETTO:-0400
TZNAME:America/Toronto EDT
END:DAYLIGHT
BEGIN:DAYLIGHT
DTSTART:20270314T030000
RDATE:20271107T010000
TZOFFSETFROM:-0500
TZOFFSETTO:-0400
TZNAME:America/Toronto EDT
END:DAYLIGHT
BEGIN:DAYLIGHT
DTSTART:20280312T030000
RDATE:20281105T010000
TZOFFSETFROM:-0500
TZOFFSETTO:-0400
TZNAME:America/Toronto EDT
END:DAYLIGHT
BEGIN:DAYLIGHT
DTSTART:20290311T030000
RDATE:20291104T010000
TZOFFSETFROM:-0500
TZOFFSETTO:-0400
TZNAME:America/Toronto EDT
END:DAYLIGHT
BEGIN:DAYLIGHT
DTSTART:20300310T030000
RDATE:20301103T010000
TZOFFSETFROM:-0500
TZOFFSETTO:-0400
TZNAME:America/Toronto EDT
END:DAYLIGHT
BEGIN:DAYLIGHT
DTSTART:20310309T030000
RDATE:20311102T010000
TZOFFSETFROM:-0500
TZOFFSETTO:-0400
TZNAME:America/Toronto EDT
END:DAYLIGHT
END:VTIMEZONE
BEGIN:VEVENT
UID:91654dc3d39a1491deaac8441bb948d8
CATEGORIES:Durham Events
CREATED:20250829T153412
SUMMARY:Halloween Monster Mash
LOCATION:St. Francis Centre for Community\, Arts &amp; Culture - 78 Church St. S.\, 
 Ajax
DESCRIPTION:When the crypt door creep and the tombstones quake, spooks come out for a s
 winging wake!\nWelcome foolish mortals! Join us for a night of fun and frig
 ht as we celebrate spooky season at our spooktacular Halloween Monster Mash
  dance party. You and your boo-gie crew will have a killer time shaking you
 r bones on the dance floor to a playlist that is ghoulishly groovy and frig
 htfully fun. Grizelda the Ghastly Gourmet will be brewing some creepy conco
 ctions and possessed potions for the occasion. Add to that some tricks and 
 treats to make the night the perfect graveyard smash. It’s going to be a fa
 ng-tastic night of wicked dancing, fun and surprises! \nCostumes encouraged
  — prizes awarded for best costumes.\nTickets are only $5 and are available
  at the Ajax and McLean Community Centres, the Audley Recreation Centre, an
 d online at www.ajax.ca/sfc. For more information, call 905-619-2529, ext. 
 2787 (ARTS), email us at This email address is being protected from spambot
 s. You need JavaScript enabled to view it., or visit us online at www.ajax.
 ca/sfc\n
X-ALT-DESC;FMTTYPE=text/html:<p>When the crypt door creep and the tombstones quake, spooks come out for 
 a swinging wake!</p><p>Welcome foolish mortals! Join us for a night of fun 
 and fright as we celebrate spooky season at our spooktacular Halloween Mons
 ter Mash dance party. You and your boo-gie crew will have a killer time sha
 king your bones on the dance floor to a playlist that is ghoulishly groovy 
 and frightfully fun. Grizelda the Ghastly Gourmet will be brewing some cree
 py concoctions and possessed potions for the occasion. Add to that some tri
 cks and treats to make the night the perfect graveyard smash. It’s going to
  be a fang-tastic night of wicked dancing, fun and surprises! </p><p>Costum
 es encouraged — prizes awarded for best costumes.</p><p>Tickets are only $5
  and are available at the Ajax and McLean Community Centres, the Audley Rec
 reation Centre, and online at www.ajax.ca/sfc. For more information, call 9
 05-619-2529, ext. 2787 (ARTS), email us at <joomla-hidden-mail  is-link="1"
  is-email="1" first="c3RmcmFuY2lzY2VudHJl" last="YWpheC5jYQ==" text="c3Rmcm
 FuY2lzY2VudHJlQGFqYXguY2E=" base="" >This email address is being protected 
 from spambots. You need JavaScript enabled to view it.</joomla-hidden-mail>
 , or visit us online at www.ajax.ca/sfc</p>
CONTACT:Franco Pang
DTSTAMP:20260420T233613
DTSTART;TZID=America/Toronto:20251025T190000
DTEND;TZID=America/Toronto:20251025T220000
SEQUENCE:0
TRANSP:OPAQUE
END:VEVENT
END:VCALENDAR