BEGIN:VCALENDAR
VERSION:2.0
PRODID:-//jEvents 2.0 for Joomla//EN
CALSCALE:GREGORIAN
METHOD:PUBLISH
BEGIN:VTIMEZONE
TZID:America/Toronto
BEGIN:STANDARD
DTSTART:20241103T010000
RDATE:20250309T030000
TZOFFSETFROM:-0400
TZOFFSETTO:-0500
TZNAME:America/Toronto EST
END:STANDARD
BEGIN:STANDARD
DTSTART:20251102T010000
RDATE:20260308T030000
TZOFFSETFROM:-0400
TZOFFSETTO:-0500
TZNAME:America/Toronto EST
END:STANDARD
BEGIN:STANDARD
DTSTART:20261101T010000
RDATE:20270314T030000
TZOFFSETFROM:-0400
TZOFFSETTO:-0500
TZNAME:America/Toronto EST
END:STANDARD
BEGIN:STANDARD
DTSTART:20271107T010000
RDATE:20280312T030000
TZOFFSETFROM:-0400
TZOFFSETTO:-0500
TZNAME:America/Toronto EST
END:STANDARD
BEGIN:STANDARD
DTSTART:20281105T010000
RDATE:20290311T030000
TZOFFSETFROM:-0400
TZOFFSETTO:-0500
TZNAME:America/Toronto EST
END:STANDARD
BEGIN:STANDARD
DTSTART:20291104T010000
RDATE:20300310T030000
TZOFFSETFROM:-0400
TZOFFSETTO:-0500
TZNAME:America/Toronto EST
END:STANDARD
BEGIN:STANDARD
DTSTART:20301103T010000
RDATE:20310309T030000
TZOFFSETFROM:-0400
TZOFFSETTO:-0500
TZNAME:America/Toronto EST
END:STANDARD
BEGIN:STANDARD
DTSTART:20311102T010000
RDATE:20320314T030000
TZOFFSETFROM:-0400
TZOFFSETTO:-0500
TZNAME:America/Toronto EST
END:STANDARD
BEGIN:DAYLIGHT
DTSTART:20240815T080000
RDATE:20241103T010000
TZOFFSETFROM:-0500
TZOFFSETTO:-0400
TZNAME:America/Toronto EDT
END:DAYLIGHT
BEGIN:DAYLIGHT
DTSTART:20250309T030000
RDATE:20251102T010000
TZOFFSETFROM:-0500
TZOFFSETTO:-0400
TZNAME:America/Toronto EDT
END:DAYLIGHT
BEGIN:DAYLIGHT
DTSTART:20260308T030000
RDATE:20261101T010000
TZOFFSETFROM:-0500
TZOFFSETTO:-0400
TZNAME:America/Toronto EDT
END:DAYLIGHT
BEGIN:DAYLIGHT
DTSTART:20270314T030000
RDATE:20271107T010000
TZOFFSETFROM:-0500
TZOFFSETTO:-0400
TZNAME:America/Toronto EDT
END:DAYLIGHT
BEGIN:DAYLIGHT
DTSTART:20280312T030000
RDATE:20281105T010000
TZOFFSETFROM:-0500
TZOFFSETTO:-0400
TZNAME:America/Toronto EDT
END:DAYLIGHT
BEGIN:DAYLIGHT
DTSTART:20290311T030000
RDATE:20291104T010000
TZOFFSETFROM:-0500
TZOFFSETTO:-0400
TZNAME:America/Toronto EDT
END:DAYLIGHT
BEGIN:DAYLIGHT
DTSTART:20300310T030000
RDATE:20301103T010000
TZOFFSETFROM:-0500
TZOFFSETTO:-0400
TZNAME:America/Toronto EDT
END:DAYLIGHT
BEGIN:DAYLIGHT
DTSTART:20310309T030000
RDATE:20311102T010000
TZOFFSETFROM:-0500
TZOFFSETTO:-0400
TZNAME:America/Toronto EDT
END:DAYLIGHT
END:VTIMEZONE
BEGIN:VEVENT
UID:ce46974fe6537b9555e3d97968c2b38b
CATEGORIES:Durham Events
CREATED:20250810T171823
SUMMARY:Second Chance Wildlife Sanctuary Yard Sale
LOCATION:2060 Concession Rd #7\, Pickering\, Ont
DESCRIPTION:Our Yard Sale is back to support all of our cats and kittens in our Sanctua
 ry and Foster homes. Please come join us on Sat Aug 16th 8 a.m. to 3 p.m. a
 nd Sun Aug 17th 10 a.m. to 2 p.m.\nRain or Shine. The sale will be held ind
 oors. Items include glassware, art/prints, records, cds, dvds, electronics,
  pet items and more!  Also visit our Book Tunnel for a large selection of b
 ooks. Please join us as all the proceeds go to supporting our cats and kitt
 ens. Always accepting recyclables (beer cans and wine bottles). Donations o
 f towels, cleaning supplies, cat items are also appreciated.  Items for fut
 ure yard sales in good/working conditions will be accepted.  Thank you.\nOu
 r goal is to find Loving, Forever Homes for as many cats as possible. More 
 info and other ways to help please visit www.second-chance.ws (http://www.s
 econd-chance.ws)\nSecond Chance Wildlife Sanctuary 2060 Concession Rd #7, P
 ickering, Ont.\nLocated between Brock Rd and Westney Rd.\n
X-ALT-DESC;FMTTYPE=text/html:<p>Our Yard Sale is back to support all of our cats and kittens in our Sanc
 tuary and Foster homes. Please come join us on <strong>Sat Aug 16th 8 a.m. 
 to 3 p.m. and Sun Aug 17th 10 a.m. to 2 p.m.</strong></p><p><strong>Rain or
  Shine</strong>. The sale will be held indoors. Items include glassware, ar
 t/prints, records, cds, dvds, electronics, pet items and more!  Also visit 
 our <strong>Book Tunnel</strong> for a large selection of books. Please joi
 n us as all the proceeds go to supporting our cats and kittens. Always acce
 pting recyclables (beer cans and wine bottles). Donations of towels, cleani
 ng supplies, cat items are also appreciated.  Items for future yard sales i
 n good/working conditions will be accepted.  <strong>Thank you.</strong></p
 ><p>Our goal is to find Loving, Forever Homes for as many cats as possible.
  More info and other ways to help please visit <a href="http://www.second-c
 hance.ws">www.second-chance.ws</a></p><p>Second Chance Wildlife Sanctuary 2
 060 Concession Rd #7, Pickering, Ont.</p><p>Located between Brock Rd and We
 stney Rd.</p>
CONTACT:905-649-8282
DTSTAMP:20260420T092517
DTSTART;TZID=America/Toronto:20250816T080000
DTEND;TZID=America/Toronto:20250816T150000
SEQUENCE:0
TRANSP:OPAQUE
END:VEVENT
END:VCALENDAR