BEGIN:VCALENDAR
VERSION:2.0
PRODID:-//jEvents 2.0 for Joomla//EN
CALSCALE:GREGORIAN
METHOD:PUBLISH
BEGIN:VTIMEZONE
TZID:America/Toronto
BEGIN:STANDARD
DTSTART:20241103T010000
RDATE:20250309T030000
TZOFFSETFROM:-0400
TZOFFSETTO:-0500
TZNAME:America/Toronto EST
END:STANDARD
BEGIN:STANDARD
DTSTART:20251102T010000
RDATE:20260308T030000
TZOFFSETFROM:-0400
TZOFFSETTO:-0500
TZNAME:America/Toronto EST
END:STANDARD
BEGIN:STANDARD
DTSTART:20261101T010000
RDATE:20270314T030000
TZOFFSETFROM:-0400
TZOFFSETTO:-0500
TZNAME:America/Toronto EST
END:STANDARD
BEGIN:STANDARD
DTSTART:20271107T010000
RDATE:20280312T030000
TZOFFSETFROM:-0400
TZOFFSETTO:-0500
TZNAME:America/Toronto EST
END:STANDARD
BEGIN:STANDARD
DTSTART:20281105T010000
RDATE:20290311T030000
TZOFFSETFROM:-0400
TZOFFSETTO:-0500
TZNAME:America/Toronto EST
END:STANDARD
BEGIN:STANDARD
DTSTART:20291104T010000
RDATE:20300310T030000
TZOFFSETFROM:-0400
TZOFFSETTO:-0500
TZNAME:America/Toronto EST
END:STANDARD
BEGIN:STANDARD
DTSTART:20301103T010000
RDATE:20310309T030000
TZOFFSETFROM:-0400
TZOFFSETTO:-0500
TZNAME:America/Toronto EST
END:STANDARD
BEGIN:STANDARD
DTSTART:20311102T010000
RDATE:20320314T030000
TZOFFSETFROM:-0400
TZOFFSETTO:-0500
TZNAME:America/Toronto EST
END:STANDARD
BEGIN:DAYLIGHT
DTSTART:20240730T080000
RDATE:20241103T010000
TZOFFSETFROM:-0500
TZOFFSETTO:-0400
TZNAME:America/Toronto EDT
END:DAYLIGHT
BEGIN:DAYLIGHT
DTSTART:20250309T030000
RDATE:20251102T010000
TZOFFSETFROM:-0500
TZOFFSETTO:-0400
TZNAME:America/Toronto EDT
END:DAYLIGHT
BEGIN:DAYLIGHT
DTSTART:20260308T030000
RDATE:20261101T010000
TZOFFSETFROM:-0500
TZOFFSETTO:-0400
TZNAME:America/Toronto EDT
END:DAYLIGHT
BEGIN:DAYLIGHT
DTSTART:20270314T030000
RDATE:20271107T010000
TZOFFSETFROM:-0500
TZOFFSETTO:-0400
TZNAME:America/Toronto EDT
END:DAYLIGHT
BEGIN:DAYLIGHT
DTSTART:20280312T030000
RDATE:20281105T010000
TZOFFSETFROM:-0500
TZOFFSETTO:-0400
TZNAME:America/Toronto EDT
END:DAYLIGHT
BEGIN:DAYLIGHT
DTSTART:20290311T030000
RDATE:20291104T010000
TZOFFSETFROM:-0500
TZOFFSETTO:-0400
TZNAME:America/Toronto EDT
END:DAYLIGHT
BEGIN:DAYLIGHT
DTSTART:20300310T030000
RDATE:20301103T010000
TZOFFSETFROM:-0500
TZOFFSETTO:-0400
TZNAME:America/Toronto EDT
END:DAYLIGHT
BEGIN:DAYLIGHT
DTSTART:20310309T030000
RDATE:20311102T010000
TZOFFSETFROM:-0500
TZOFFSETTO:-0400
TZNAME:America/Toronto EDT
END:DAYLIGHT
END:VTIMEZONE
BEGIN:VEVENT
UID:0bf12d81c1b6b69b100c6f9325dc09ba
CATEGORIES:Durham Events
CREATED:19691231T190000
SUMMARY:Mural of the Week "Skae’s Corner"
LOCATION:14 Simcoe St. S. (Carriageway)\, Oshawa L1H 4G2
DESCRIPTION:Mural of the Week Skae’s Corner\nJuly 31 to August 7\nby JR Hunter, Matt Wh
 elan, Erin Hackney, Ian Mitchell and Mile Wystoski ~ Artists\nThe mural was
  created by students from O'Neill Collegiate and Vocational Institute, and 
 Monsignor Paul Dwyerand it depicts life at the four corners, 1840 to 1850. 
 Skae’s Corners became the Village of Oshawa in 1842. \nWe are sure that as 
 you wander around downtown Oshawa, you will find some tasty spots for a cof
 fee and lunch, tell them you found them while on the walk.\nTo see more art
  locations Oshawa’s Downtown Heritage District, check out our online map: h
 ttps://tinyurl.com/3ktkvbzu\n
X-ALT-DESC;FMTTYPE=text/html:<h1>Mural of the Week <em>Skae’s Corner</em></h1><p><br />July 31 to August
  7</p><p>by JR Hunter, Matt Whelan, Erin Hackney, Ian Mitchell and Mile Wys
 toski ~ Artists</p><p>The mural was created by students from O'Neill Colleg
 iate and Vocational Institute, and Monsignor Paul Dwyerand it depicts life 
 at the four corners, 1840 to 1850. Skae’s Corners became the Village of Osh
 awa in 1842. <br />We are sure that as you wander around downtown Oshawa, y
 ou will find some tasty spots for a coffee and lunch, tell them you found t
 hem while on the walk.</p><p>To see more art locations Oshawa’s Downtown He
 ritage District, check out our online map: https://tinyurl.com/3ktkvbzu</p>
CONTACT:newsletter.oaa@gmail.com
DTSTAMP:20260420T105332
DTSTART;TZID=America/Toronto:20250731T080000
SEQUENCE:0
RRULE:FREQ=DAILY;UNTIL=20250808T000000Z;INTERVAL=1
TRANSP:OPAQUE
END:VEVENT
END:VCALENDAR