BEGIN:VCALENDAR
VERSION:2.0
PRODID:-//jEvents 2.0 for Joomla//EN
CALSCALE:GREGORIAN
METHOD:PUBLISH
BEGIN:VTIMEZONE
TZID:America/Toronto
BEGIN:STANDARD
DTSTART:20241103T010000
RDATE:20250309T030000
TZOFFSETFROM:-0400
TZOFFSETTO:-0500
TZNAME:America/Toronto EST
END:STANDARD
BEGIN:STANDARD
DTSTART:20251102T010000
RDATE:20260308T030000
TZOFFSETFROM:-0400
TZOFFSETTO:-0500
TZNAME:America/Toronto EST
END:STANDARD
BEGIN:STANDARD
DTSTART:20261101T010000
RDATE:20270314T030000
TZOFFSETFROM:-0400
TZOFFSETTO:-0500
TZNAME:America/Toronto EST
END:STANDARD
BEGIN:STANDARD
DTSTART:20271107T010000
RDATE:20280312T030000
TZOFFSETFROM:-0400
TZOFFSETTO:-0500
TZNAME:America/Toronto EST
END:STANDARD
BEGIN:STANDARD
DTSTART:20281105T010000
RDATE:20290311T030000
TZOFFSETFROM:-0400
TZOFFSETTO:-0500
TZNAME:America/Toronto EST
END:STANDARD
BEGIN:STANDARD
DTSTART:20291104T010000
RDATE:20300310T030000
TZOFFSETFROM:-0400
TZOFFSETTO:-0500
TZNAME:America/Toronto EST
END:STANDARD
BEGIN:STANDARD
DTSTART:20301103T010000
RDATE:20310309T030000
TZOFFSETFROM:-0400
TZOFFSETTO:-0500
TZNAME:America/Toronto EST
END:STANDARD
BEGIN:STANDARD
DTSTART:20311102T010000
RDATE:20320314T030000
TZOFFSETFROM:-0400
TZOFFSETTO:-0500
TZNAME:America/Toronto EST
END:STANDARD
BEGIN:DAYLIGHT
DTSTART:20240808T100000
RDATE:20241103T010000
TZOFFSETFROM:-0500
TZOFFSETTO:-0400
TZNAME:America/Toronto EDT
END:DAYLIGHT
BEGIN:DAYLIGHT
DTSTART:20250309T030000
RDATE:20251102T010000
TZOFFSETFROM:-0500
TZOFFSETTO:-0400
TZNAME:America/Toronto EDT
END:DAYLIGHT
BEGIN:DAYLIGHT
DTSTART:20260308T030000
RDATE:20261101T010000
TZOFFSETFROM:-0500
TZOFFSETTO:-0400
TZNAME:America/Toronto EDT
END:DAYLIGHT
BEGIN:DAYLIGHT
DTSTART:20270314T030000
RDATE:20271107T010000
TZOFFSETFROM:-0500
TZOFFSETTO:-0400
TZNAME:America/Toronto EDT
END:DAYLIGHT
BEGIN:DAYLIGHT
DTSTART:20280312T030000
RDATE:20281105T010000
TZOFFSETFROM:-0500
TZOFFSETTO:-0400
TZNAME:America/Toronto EDT
END:DAYLIGHT
BEGIN:DAYLIGHT
DTSTART:20290311T030000
RDATE:20291104T010000
TZOFFSETFROM:-0500
TZOFFSETTO:-0400
TZNAME:America/Toronto EDT
END:DAYLIGHT
BEGIN:DAYLIGHT
DTSTART:20300310T030000
RDATE:20301103T010000
TZOFFSETFROM:-0500
TZOFFSETTO:-0400
TZNAME:America/Toronto EDT
END:DAYLIGHT
BEGIN:DAYLIGHT
DTSTART:20310309T030000
RDATE:20311102T010000
TZOFFSETFROM:-0500
TZOFFSETTO:-0400
TZNAME:America/Toronto EDT
END:DAYLIGHT
END:VTIMEZONE
BEGIN:VEVENT
UID:1bf7a0073c8976c5d4f4d8e043c76de4
CATEGORIES:Durham Events
CREATED:20250726T201043
SUMMARY:16th Annual Orono Antique Street Festival
LOCATION:Downtown Orono Ontario
DESCRIPTION:Mark your calendar for Saturday, August 9th as the 16th Annual Orono Antiqu
 e Street Festival will be held on Main Street, Orono, 10am to 4pm, rain or 
 shine.  Downtown Orono's Main Street will be transformed for residents and 
 visitors alike, who will be treated to a great selection of antiques, colle
 ctables, vintage finds furniture, military artefacts, toys, books, jeweller
 y, art and so much more in this one day event.  And once you have worked up
  an appetite you can grab a bite to eat at one of Orono’s local restaurants
  or outdoor food venues.  It's a favourite summer event in the perfect day 
 cation village of Orono.  See you there!\nFor this event and more great inf
 ormation on Orono Ontario visit us at: visitorono.com\n
X-ALT-DESC;FMTTYPE=text/html:<p>Mark your calendar for Saturday, August 9th as the 16th Annual Orono Ant
 ique Street Festival will be held on Main Street, Orono, 10am to 4pm, rain 
 or shine.  Downtown Orono's Main Street will be transformed for residents a
 nd visitors alike, who will be treated to a great selection of antiques, co
 llectables, vintage finds furniture, military artefacts, toys, books, jewel
 lery, art and so much more in this one day event.  And once you have worked
  up an appetite you can grab a bite to eat at one of Orono’s local restaura
 nts or outdoor food venues.  It's a favourite summer event in the perfect d
 ay cation village of Orono.  See you there!</p><p>For this event and more g
 reat information on Orono Ontario visit us at: visitorono.com</p>
CONTACT:Timothy Jackson
DTSTAMP:20260420T105419
DTSTART;TZID=America/Toronto:20250809T100000
DTEND;TZID=America/Toronto:20250809T160000
SEQUENCE:0
TRANSP:OPAQUE
END:VEVENT
END:VCALENDAR