BEGIN:VCALENDAR
VERSION:2.0
PRODID:-//jEvents 2.0 for Joomla//EN
CALSCALE:GREGORIAN
METHOD:PUBLISH
BEGIN:VTIMEZONE
TZID:America/Toronto
BEGIN:STANDARD
DTSTART:20241103T010000
RDATE:20250309T030000
TZOFFSETFROM:-0400
TZOFFSETTO:-0500
TZNAME:America/Toronto EST
END:STANDARD
BEGIN:STANDARD
DTSTART:20251102T010000
RDATE:20260308T030000
TZOFFSETFROM:-0400
TZOFFSETTO:-0500
TZNAME:America/Toronto EST
END:STANDARD
BEGIN:STANDARD
DTSTART:20261101T010000
RDATE:20270314T030000
TZOFFSETFROM:-0400
TZOFFSETTO:-0500
TZNAME:America/Toronto EST
END:STANDARD
BEGIN:STANDARD
DTSTART:20271107T010000
RDATE:20280312T030000
TZOFFSETFROM:-0400
TZOFFSETTO:-0500
TZNAME:America/Toronto EST
END:STANDARD
BEGIN:STANDARD
DTSTART:20281105T010000
RDATE:20290311T030000
TZOFFSETFROM:-0400
TZOFFSETTO:-0500
TZNAME:America/Toronto EST
END:STANDARD
BEGIN:STANDARD
DTSTART:20291104T010000
RDATE:20300310T030000
TZOFFSETFROM:-0400
TZOFFSETTO:-0500
TZNAME:America/Toronto EST
END:STANDARD
BEGIN:STANDARD
DTSTART:20301103T010000
RDATE:20310309T030000
TZOFFSETFROM:-0400
TZOFFSETTO:-0500
TZNAME:America/Toronto EST
END:STANDARD
BEGIN:STANDARD
DTSTART:20311102T010000
RDATE:20320314T030000
TZOFFSETFROM:-0400
TZOFFSETTO:-0500
TZNAME:America/Toronto EST
END:STANDARD
BEGIN:DAYLIGHT
DTSTART:20240801T090000
RDATE:20241103T010000
TZOFFSETFROM:-0500
TZOFFSETTO:-0400
TZNAME:America/Toronto EDT
END:DAYLIGHT
BEGIN:DAYLIGHT
DTSTART:20250309T030000
RDATE:20251102T010000
TZOFFSETFROM:-0500
TZOFFSETTO:-0400
TZNAME:America/Toronto EDT
END:DAYLIGHT
BEGIN:DAYLIGHT
DTSTART:20260308T030000
RDATE:20261101T010000
TZOFFSETFROM:-0500
TZOFFSETTO:-0400
TZNAME:America/Toronto EDT
END:DAYLIGHT
BEGIN:DAYLIGHT
DTSTART:20270314T030000
RDATE:20271107T010000
TZOFFSETFROM:-0500
TZOFFSETTO:-0400
TZNAME:America/Toronto EDT
END:DAYLIGHT
BEGIN:DAYLIGHT
DTSTART:20280312T030000
RDATE:20281105T010000
TZOFFSETFROM:-0500
TZOFFSETTO:-0400
TZNAME:America/Toronto EDT
END:DAYLIGHT
BEGIN:DAYLIGHT
DTSTART:20290311T030000
RDATE:20291104T010000
TZOFFSETFROM:-0500
TZOFFSETTO:-0400
TZNAME:America/Toronto EDT
END:DAYLIGHT
BEGIN:DAYLIGHT
DTSTART:20300310T030000
RDATE:20301103T010000
TZOFFSETFROM:-0500
TZOFFSETTO:-0400
TZNAME:America/Toronto EDT
END:DAYLIGHT
BEGIN:DAYLIGHT
DTSTART:20310309T030000
RDATE:20311102T010000
TZOFFSETFROM:-0500
TZOFFSETTO:-0400
TZNAME:America/Toronto EDT
END:DAYLIGHT
END:VTIMEZONE
BEGIN:VEVENT
UID:6fa9a067ce8876d0f80d2b02941b0514
CATEGORIES:Durham Events
CREATED:20250707T120427
SUMMARY:Woodworker's Apprentice Workshop: Jar Vase Holder
LOCATION:Pickering Museum Village
DESCRIPTION:<p><span class="TextRun SCXW197566415 BCX0" lang="EN-CA" xmllang="EN-CA" da
 ta-contrast="auto"><span class="NormalTextRun SCXW197566415 BCX0">B</span><
 span class="NormalTextRun SCXW197566415 BCX0">uild your own </span><span cl
 ass="NormalTextRun SCXW197566415 BCX0">custom </span><span class="NormalTex
 tRun SCXW197566415 BCX0">jar </span><span class="NormalTextRun SCXW19756641
 5 BCX0">vase holder. Add </span><span class="NormalTextRun SCXW197566415 BC
 X0">a </span><span class="NormalTextRun SCXW197566415 BCX0">personal </span
 ><span class="NormalTextRun SCXW197566415 BCX0">touch</span><span class="No
 rmalTextRun SCXW197566415 BCX0"> by </span><span class="NormalTextRun SCXW1
 97566415 BCX0">wood-</span><span class="NormalTextRun SCXW197566415 BCX0">b
 urning</span><span class="NormalTextRun SCXW197566415 BCX0"> a</span> <span
  class="NormalTextRun SCXW197566415 BCX0">design</span> <span class="Normal
 TextRun SCXW197566415 BCX0">or</span><span class="NormalTextRun SCXW1975664
 15 BCX0"> applying a chalk paint wash before sealing it with wax. Perfect f
 or </span><span class="NormalTextRun SCXW197566415 BCX0">showcasing</span><
 span class="NormalTextRun SCXW197566415 BCX0"> your </span><span class="Nor
 malTextRun SCXW197566415 BCX0">favorite flowers</span><span class="NormalTe
 xtRun SCXW197566415 BCX0">;</span><span class="NormalTextRun SCXW197566415 
 BCX0"> this functional piece combines creativity and craftsmanship for a tr
 uly special project.</span></span><span class="EOP SCXW197566415 BCX0" data
 -ccp-props="{&quot;201341983&quot;:0,&quot;335559740&quot;:257}"> </span></
 p><p> </p>
CONTACT:Phone 905-683-8401 for any questions!
X-EXTRAINFO:$72.99 +tax per person, includes supplies \nhttps://anc.ca.apm.activecommun
 ities.com/cityofpickering/activity/search?onlineSiteId=0&amp;activity_selec
 t_param=2&amp;activity_keyword=vase%20holder&amp;viewMode=list 
DTSTAMP:20260420T135058
DTSTART;TZID=America/Toronto:20250802T090000
DTEND;TZID=America/Toronto:20250802T120000
SEQUENCE:0
TRANSP:OPAQUE
END:VEVENT
END:VCALENDAR