BEGIN:VCALENDAR
VERSION:2.0
PRODID:-//jEvents 2.0 for Joomla//EN
CALSCALE:GREGORIAN
METHOD:PUBLISH
BEGIN:VTIMEZONE
TZID:America/Toronto
BEGIN:STANDARD
DTSTART:20241103T010000
RDATE:20250309T030000
TZOFFSETFROM:-0400
TZOFFSETTO:-0500
TZNAME:America/Toronto EST
END:STANDARD
BEGIN:STANDARD
DTSTART:20251102T010000
RDATE:20260308T030000
TZOFFSETFROM:-0400
TZOFFSETTO:-0500
TZNAME:America/Toronto EST
END:STANDARD
BEGIN:STANDARD
DTSTART:20261101T010000
RDATE:20270314T030000
TZOFFSETFROM:-0400
TZOFFSETTO:-0500
TZNAME:America/Toronto EST
END:STANDARD
BEGIN:STANDARD
DTSTART:20271107T010000
RDATE:20280312T030000
TZOFFSETFROM:-0400
TZOFFSETTO:-0500
TZNAME:America/Toronto EST
END:STANDARD
BEGIN:STANDARD
DTSTART:20281105T010000
RDATE:20290311T030000
TZOFFSETFROM:-0400
TZOFFSETTO:-0500
TZNAME:America/Toronto EST
END:STANDARD
BEGIN:STANDARD
DTSTART:20291104T010000
RDATE:20300310T030000
TZOFFSETFROM:-0400
TZOFFSETTO:-0500
TZNAME:America/Toronto EST
END:STANDARD
BEGIN:STANDARD
DTSTART:20301103T010000
RDATE:20310309T030000
TZOFFSETFROM:-0400
TZOFFSETTO:-0500
TZNAME:America/Toronto EST
END:STANDARD
BEGIN:STANDARD
DTSTART:20311102T010000
RDATE:20320314T030000
TZOFFSETFROM:-0400
TZOFFSETTO:-0500
TZNAME:America/Toronto EST
END:STANDARD
BEGIN:DAYLIGHT
DTSTART:20240704T090000
RDATE:20241103T010000
TZOFFSETFROM:-0500
TZOFFSETTO:-0400
TZNAME:America/Toronto EDT
END:DAYLIGHT
BEGIN:DAYLIGHT
DTSTART:20250309T030000
RDATE:20251102T010000
TZOFFSETFROM:-0500
TZOFFSETTO:-0400
TZNAME:America/Toronto EDT
END:DAYLIGHT
BEGIN:DAYLIGHT
DTSTART:20260308T030000
RDATE:20261101T010000
TZOFFSETFROM:-0500
TZOFFSETTO:-0400
TZNAME:America/Toronto EDT
END:DAYLIGHT
BEGIN:DAYLIGHT
DTSTART:20270314T030000
RDATE:20271107T010000
TZOFFSETFROM:-0500
TZOFFSETTO:-0400
TZNAME:America/Toronto EDT
END:DAYLIGHT
BEGIN:DAYLIGHT
DTSTART:20280312T030000
RDATE:20281105T010000
TZOFFSETFROM:-0500
TZOFFSETTO:-0400
TZNAME:America/Toronto EDT
END:DAYLIGHT
BEGIN:DAYLIGHT
DTSTART:20290311T030000
RDATE:20291104T010000
TZOFFSETFROM:-0500
TZOFFSETTO:-0400
TZNAME:America/Toronto EDT
END:DAYLIGHT
BEGIN:DAYLIGHT
DTSTART:20300310T030000
RDATE:20301103T010000
TZOFFSETFROM:-0500
TZOFFSETTO:-0400
TZNAME:America/Toronto EDT
END:DAYLIGHT
BEGIN:DAYLIGHT
DTSTART:20310309T030000
RDATE:20311102T010000
TZOFFSETFROM:-0500
TZOFFSETTO:-0400
TZNAME:America/Toronto EDT
END:DAYLIGHT
END:VTIMEZONE
BEGIN:VEVENT
UID:e1f51b5978db6913b00587124ba88a58RR38607
CATEGORIES:Durham Events
CREATED:20250617T152946
SUMMARY:Woodworker's Apprentice Workshop: Charcuterie Board
LOCATION:Pickering Museum Village
DESCRIPTION:In this hands-on workshop, you’ll craft your very own charcuterie board, pe
 rfect for hosting or gifting. From selecting and cutting the wood to sandin
 g, wood-burning, and finishing, this experience is designed to teach you th
 e fundamentals of woodworking while crafting a beautiful and practical piec
 e for your kitchen. \nThere is also a 1:00 to 4:00pm time slot for this wor
 kshop. \n
X-ALT-DESC;FMTTYPE=text/html:<p><span class="TextRun SCXW165541972 BCX0" lang="EN-US" xmllang="EN-US" da
 ta-contrast="auto"><span class="NormalTextRun SCXW165541972 BCX0">In this h
 ands-on workshop, </span><span class="NormalTextRun SCXW165541972 BCX0">you
 ’ll</span><span class="NormalTextRun SCXW165541972 BCX0"> craft your very o
 wn charcuterie board, perfect for hosting or gifting. From selecting and cu
 tting the wood to sanding, wood-burning, and finishing, this experience is 
 designed to teach you the fundamentals of woodworking while crafting a beau
 tiful and practical piece for your </span><span class="NormalTextRun Commen
 tStart SCXW165541972 BCX0">kitchen.</span></span><span class="EOP SCXW16554
 1972 BCX0" data-ccp-props="{}"> </span></p><p>There is also a 1:00 to 4:00p
 m time slot for this workshop. </p>
CONTACT:Phone 905-683-8401 for any questions!
X-EXTRAINFO:https://anc.ca.apm.activecommunities.com/cityofpickering/activity/search?on
 lineSiteId=0&amp;activity_select_param=2&amp;activity_keyword=charcuterie%2
 0board&amp;viewMode=list
DTSTAMP:20260420T171739
DTSTART;TZID=America/Toronto:20250705T090000
DTEND;TZID=America/Toronto:20250705T120000
SEQUENCE:0
TRANSP:OPAQUE
END:VEVENT
END:VCALENDAR