BEGIN:VCALENDAR
VERSION:2.0
PRODID:-//jEvents 2.0 for Joomla//EN
CALSCALE:GREGORIAN
METHOD:PUBLISH
BEGIN:VTIMEZONE
TZID:America/Toronto
BEGIN:STANDARD
DTSTART:20241103T010000
RDATE:20250309T030000
TZOFFSETFROM:-0400
TZOFFSETTO:-0500
TZNAME:America/Toronto EST
END:STANDARD
BEGIN:STANDARD
DTSTART:20251102T010000
RDATE:20260308T030000
TZOFFSETFROM:-0400
TZOFFSETTO:-0500
TZNAME:America/Toronto EST
END:STANDARD
BEGIN:STANDARD
DTSTART:20261101T010000
RDATE:20270314T030000
TZOFFSETFROM:-0400
TZOFFSETTO:-0500
TZNAME:America/Toronto EST
END:STANDARD
BEGIN:STANDARD
DTSTART:20271107T010000
RDATE:20280312T030000
TZOFFSETFROM:-0400
TZOFFSETTO:-0500
TZNAME:America/Toronto EST
END:STANDARD
BEGIN:STANDARD
DTSTART:20281105T010000
RDATE:20290311T030000
TZOFFSETFROM:-0400
TZOFFSETTO:-0500
TZNAME:America/Toronto EST
END:STANDARD
BEGIN:STANDARD
DTSTART:20291104T010000
RDATE:20300310T030000
TZOFFSETFROM:-0400
TZOFFSETTO:-0500
TZNAME:America/Toronto EST
END:STANDARD
BEGIN:STANDARD
DTSTART:20301103T010000
RDATE:20310309T030000
TZOFFSETFROM:-0400
TZOFFSETTO:-0500
TZNAME:America/Toronto EST
END:STANDARD
BEGIN:STANDARD
DTSTART:20311102T010000
RDATE:20320314T030000
TZOFFSETFROM:-0400
TZOFFSETTO:-0500
TZNAME:America/Toronto EST
END:STANDARD
BEGIN:DAYLIGHT
DTSTART:20240620T090000
RDATE:20241103T010000
TZOFFSETFROM:-0500
TZOFFSETTO:-0400
TZNAME:America/Toronto EDT
END:DAYLIGHT
BEGIN:DAYLIGHT
DTSTART:20250309T030000
RDATE:20251102T010000
TZOFFSETFROM:-0500
TZOFFSETTO:-0400
TZNAME:America/Toronto EDT
END:DAYLIGHT
BEGIN:DAYLIGHT
DTSTART:20260308T030000
RDATE:20261101T010000
TZOFFSETFROM:-0500
TZOFFSETTO:-0400
TZNAME:America/Toronto EDT
END:DAYLIGHT
BEGIN:DAYLIGHT
DTSTART:20270314T030000
RDATE:20271107T010000
TZOFFSETFROM:-0500
TZOFFSETTO:-0400
TZNAME:America/Toronto EDT
END:DAYLIGHT
BEGIN:DAYLIGHT
DTSTART:20280312T030000
RDATE:20281105T010000
TZOFFSETFROM:-0500
TZOFFSETTO:-0400
TZNAME:America/Toronto EDT
END:DAYLIGHT
BEGIN:DAYLIGHT
DTSTART:20290311T030000
RDATE:20291104T010000
TZOFFSETFROM:-0500
TZOFFSETTO:-0400
TZNAME:America/Toronto EDT
END:DAYLIGHT
BEGIN:DAYLIGHT
DTSTART:20300310T030000
RDATE:20301103T010000
TZOFFSETFROM:-0500
TZOFFSETTO:-0400
TZNAME:America/Toronto EDT
END:DAYLIGHT
BEGIN:DAYLIGHT
DTSTART:20310309T030000
RDATE:20311102T010000
TZOFFSETFROM:-0500
TZOFFSETTO:-0400
TZNAME:America/Toronto EDT
END:DAYLIGHT
END:VTIMEZONE
BEGIN:VEVENT
UID:c14cc98c5acc7ca4fe84729253e64d55
CATEGORIES:Durham Events
CREATED:20250611T143818
SUMMARY:Woodworker's Apprentice Workshop: Jar Vase Holder
LOCATION:Pickering Museum Village
DESCRIPTION:Build your own custom jar vase holder. Add a personal touch by wood-burning
  a design or applying a chalk paint wash before sealing it with wax. Perfec
 t for showcasing your favorite flowers; this functional piece combines crea
 tivity and craftsmanship for a truly special project. \n
X-ALT-DESC;FMTTYPE=text/html:<p><span class="TextRun SCXW51327863 BCX0" lang="EN-CA" xmllang="EN-CA" dat
 a-contrast="auto"><span class="NormalTextRun SCXW51327863 BCX0">B</span><sp
 an class="NormalTextRun SCXW51327863 BCX0">uild your own </span><span class
 ="NormalTextRun SCXW51327863 BCX0">custom </span><span class="NormalTextRun
  SCXW51327863 BCX0">jar </span><span class="NormalTextRun SCXW51327863 BCX0
 ">vase holder. Add </span><span class="NormalTextRun SCXW51327863 BCX0">a <
 /span><span class="NormalTextRun SCXW51327863 BCX0">personal </span><span c
 lass="NormalTextRun SCXW51327863 BCX0">touch</span><span class="NormalTextR
 un SCXW51327863 BCX0"> by </span><span class="NormalTextRun SCXW51327863 BC
 X0">wood-</span><span class="NormalTextRun SCXW51327863 BCX0">burning</span
 ><span class="NormalTextRun SCXW51327863 BCX0"> a</span> <span class="Norma
 lTextRun SCXW51327863 BCX0">design</span> <span class="NormalTextRun SCXW51
 327863 BCX0">or</span><span class="NormalTextRun SCXW51327863 BCX0"> applyi
 ng a chalk paint wash before sealing it with wax. Perfect for </span><span 
 class="NormalTextRun SCXW51327863 BCX0">showcasing</span><span class="Norma
 lTextRun SCXW51327863 BCX0"> your </span><span class="NormalTextRun SCXW513
 27863 BCX0">favorite flowers</span><span class="NormalTextRun SCXW51327863 
 BCX0">;</span><span class="NormalTextRun SCXW51327863 BCX0"> this functiona
 l piece combines creativity and craftsmanship for a truly special project.<
 /span></span><span class="EOP SCXW51327863 BCX0" data-ccp-props="{&quot;201
 341983&quot;:0,&quot;335559740&quot;:257}"> </span></p>
CONTACT:phone 905-683-8401 for any questions!
X-EXTRAINFO:Tickets are $72.99 +tax each, including Supplies
DTSTAMP:20260420T210351
DTSTART;TZID=America/Toronto:20250621T090000
DTEND;TZID=America/Toronto:20250621T120000
SEQUENCE:0
TRANSP:OPAQUE
END:VEVENT
END:VCALENDAR