BEGIN:VCALENDAR
VERSION:2.0
PRODID:-//jEvents 2.0 for Joomla//EN
CALSCALE:GREGORIAN
METHOD:PUBLISH
BEGIN:VTIMEZONE
TZID:America/Toronto
BEGIN:STANDARD
DTSTART:20241103T010000
RDATE:20250309T030000
TZOFFSETFROM:-0400
TZOFFSETTO:-0500
TZNAME:America/Toronto EST
END:STANDARD
BEGIN:STANDARD
DTSTART:20251102T010000
RDATE:20260308T030000
TZOFFSETFROM:-0400
TZOFFSETTO:-0500
TZNAME:America/Toronto EST
END:STANDARD
BEGIN:STANDARD
DTSTART:20261101T010000
RDATE:20270314T030000
TZOFFSETFROM:-0400
TZOFFSETTO:-0500
TZNAME:America/Toronto EST
END:STANDARD
BEGIN:STANDARD
DTSTART:20271107T010000
RDATE:20280312T030000
TZOFFSETFROM:-0400
TZOFFSETTO:-0500
TZNAME:America/Toronto EST
END:STANDARD
BEGIN:STANDARD
DTSTART:20281105T010000
RDATE:20290311T030000
TZOFFSETFROM:-0400
TZOFFSETTO:-0500
TZNAME:America/Toronto EST
END:STANDARD
BEGIN:STANDARD
DTSTART:20291104T010000
RDATE:20300310T030000
TZOFFSETFROM:-0400
TZOFFSETTO:-0500
TZNAME:America/Toronto EST
END:STANDARD
BEGIN:STANDARD
DTSTART:20301103T010000
RDATE:20310309T030000
TZOFFSETFROM:-0400
TZOFFSETTO:-0500
TZNAME:America/Toronto EST
END:STANDARD
BEGIN:STANDARD
DTSTART:20311102T010000
RDATE:20320314T030000
TZOFFSETFROM:-0400
TZOFFSETTO:-0500
TZNAME:America/Toronto EST
END:STANDARD
BEGIN:DAYLIGHT
DTSTART:20240620T100000
RDATE:20241103T010000
TZOFFSETFROM:-0500
TZOFFSETTO:-0400
TZNAME:America/Toronto EDT
END:DAYLIGHT
BEGIN:DAYLIGHT
DTSTART:20250309T030000
RDATE:20251102T010000
TZOFFSETFROM:-0500
TZOFFSETTO:-0400
TZNAME:America/Toronto EDT
END:DAYLIGHT
BEGIN:DAYLIGHT
DTSTART:20260308T030000
RDATE:20261101T010000
TZOFFSETFROM:-0500
TZOFFSETTO:-0400
TZNAME:America/Toronto EDT
END:DAYLIGHT
BEGIN:DAYLIGHT
DTSTART:20270314T030000
RDATE:20271107T010000
TZOFFSETFROM:-0500
TZOFFSETTO:-0400
TZNAME:America/Toronto EDT
END:DAYLIGHT
BEGIN:DAYLIGHT
DTSTART:20280312T030000
RDATE:20281105T010000
TZOFFSETFROM:-0500
TZOFFSETTO:-0400
TZNAME:America/Toronto EDT
END:DAYLIGHT
BEGIN:DAYLIGHT
DTSTART:20290311T030000
RDATE:20291104T010000
TZOFFSETFROM:-0500
TZOFFSETTO:-0400
TZNAME:America/Toronto EDT
END:DAYLIGHT
BEGIN:DAYLIGHT
DTSTART:20300310T030000
RDATE:20301103T010000
TZOFFSETFROM:-0500
TZOFFSETTO:-0400
TZNAME:America/Toronto EDT
END:DAYLIGHT
BEGIN:DAYLIGHT
DTSTART:20310309T030000
RDATE:20311102T010000
TZOFFSETFROM:-0500
TZOFFSETTO:-0400
TZNAME:America/Toronto EDT
END:DAYLIGHT
END:VTIMEZONE
BEGIN:VEVENT
UID:f29e95456cfcbde8421539caadab23f4
CATEGORIES:Durham Events
CREATED:20250506T131458
SUMMARY:Bethesda House's Walk A Mile
LOCATION:Rotary Park - 192 Queen Street\, Bowmanville
DESCRIPTION:Saturday, June 21st • 10:00 AM – 1:00 PM\nRotary Park – 192 Queen St, Bowma
 nville\nJoin us for Walk A Mile, Bethesda House’s fundraising event where w
 e come together as a community to walk in support of survivors of gender-ba
 sed violence. This powerful and family-friendly event is a chance to raise 
 awareness, show solidarity, and help us raise vital funds that support the 
 life-changing programs and services at Bethesda House.\nEvent Schedule\n\n 
 - 10:00 AM – Opening remarks and welcome\n - 10:30 AM – Walk begins\n - 11:
 15 AM – 1:00 PM – Free pizza, snacks, refreshments &amp; fun activitiesWhy 
 We Walk?\nEvery step we take represents our commitment to building a safer,
  more supportive community for survivors of gender-based violence. Your par
 ticipation helps ensure that Bethesda House can continue to provide emergen
 cy shelter, outreach, and advocacy to those who need it most.\nWhat to Expe
 ct\nAfter the walk, stick around for:\n\n - Free pizza, snacks, and water\n
  - Face painting and games\n - Amazing prizes to be won\n - Fun, community 
 spirit, and plenty of purple!Bring your friends, family, and co-workers—let
 ’s make this a day to remember!\nTickets are $20/each – children under 12 a
 re free! Register NOW: https://www.canadahelps.org/en/charities/bethesda-ho
 use/p2p/walk-a-mile/ (https://www.canadahelps.org/en/charities/bethesda-hou
 se/p2p/walk-a-mile/)\nThe Red Shoes are back!\nIf you’ve joined us in the p
 ast, you may remember the powerful image of the red heels. This year, we’re
  bringing that symbol back- this time in a more personal way. We invite eve
 ry participant to wear red shoes during the walk, in any style that speaks 
 to you. Whether they’re sneakers, flats, boots, or heels, your red shoes wi
 ll help amplify the message: we walk in solidarity with survivors and stand
  against gender-based violence.\nWhy Red Shoes?\nRed shoes have become a po
 werful global symbol in the fight to end gender-based violence. Inspired by
  artist Elina Chauvet’s installation “Zapatos Rojos” (Red Shoes), which beg
 an in Mexico to honor the memory of women lost to femicide, these striking 
 red shoes represent both the absence and the voice of those who have suffer
 ed. Each pair stands as a silent witness to pain, loss, and injustice—but a
 lso to resilience, resistance, and the demand for change.\nBy wearing or di
 splaying red shoes today, we walk in solidarity with survivors. We acknowle
 dge their stories, we honor their courage, and we commit ourselves to a wor
 ld free from violence, where safety, dignity, and justice are rights for al
 l.\nLet’s Walk Together\nSupport a great cause. Celebrate resilience. Take 
 a stand against gender-based violence.\n
X-ALT-DESC;FMTTYPE=text/html:<p><b>Saturday, June 21st • 10:00 AM – 1:00 PM</b></p><p><b>Rotary Park</b>
  – 192 Queen St, Bowmanville</p><p>Join us for <b>Walk A Mile</b>, Bethesda
  House’s fundraising event where we come together as a community to walk in
  support of survivors of gender-based violence. This powerful and family-fr
 iendly event is a chance to raise awareness, show solidarity, and help us r
 aise vital funds that support the life-changing programs and services at Be
 thesda House.</p><p><b>Event Schedule</b></p><ul><li><b>10:00 AM</b> – Open
 ing remarks and welcome</li><li><b>10:30 AM</b> – Walk begins</li><li><b>11
 :15 AM – 1:00 PM</b> – Free pizza, snacks, refreshments &amp; fun activitie
 s</li></ul><p><b>Why We Walk?</b></p><p>Every step we take represents our c
 ommitment to building a safer, more supportive community for survivors of g
 ender-based violence. Your participation helps ensure that Bethesda House c
 an continue to provide emergency shelter, outreach, and advocacy to those w
 ho need it most.</p><p><b>What to Expect</b></p><p>After the walk, stick ar
 ound for:</p><ul><li><b>Free pizza, snacks, and water</b></li><li><b>Face p
 ainting and games</b></li><li><b>Amazing prizes to be won</b></li><li><b>Fu
 n, community spirit, and plenty of purple!</b></li></ul><p>Bring your frien
 ds, family, and co-workers—let’s make this a day to remember!</p><p>Tickets
  are $20/each – children under 12 are free! Register NOW: <a href="https://
 www.canadahelps.org/en/charities/bethesda-house/p2p/walk-a-mile/">https://w
 ww.canadahelps.org/en/charities/bethesda-house/p2p/walk-a-mile/</a></p><p><
 strong>The Red Shoes are back!</strong></p><p>If you’ve joined us in the pa
 st, you may remember the powerful image of the red heels. This year, we’re 
 bringing that symbol back- this time in a more personal way. We invite ever
 y participant to wear red shoes during the walk, in any style that speaks t
 o you. Whether they’re sneakers, flats, boots, or heels, your red shoes wil
 l help amplify the message: we walk in solidarity with survivors and stand 
 against gender-based violence.</p><p><strong>Why Red Shoes?</strong></p><p>
 Red shoes have become a powerful global symbol in the fight to end gender-b
 ased violence. Inspired by artist Elina Chauvet’s installation “Zapatos Roj
 os” (Red Shoes), which began in Mexico to honor the memory of women lost to
  femicide, these striking red shoes represent both the absence and the voic
 e of those who have suffered. Each pair stands as a silent witness to pain,
  loss, and injustice—but also to resilience, resistance, and the demand for
  change.</p><p>By wearing or displaying red shoes today, we walk in solidar
 ity with survivors. We acknowledge their stories, we honor their courage, a
 nd we commit ourselves to a world free from violence, where safety, dignity
 , and justice are rights for all.</p><p><b>Let’s Walk Together</b></p><p>Su
 pport a great cause. Celebrate resilience. Take a stand against gender-base
 d violence.</p>
CONTACT:This email address is being protected from spambots. You need JavaScript enabled to view it.
DTSTAMP:20260420T210901
DTSTART;TZID=America/Toronto:20250621T100000
DTEND;TZID=America/Toronto:20250621T130000
SEQUENCE:0
TRANSP:OPAQUE
END:VEVENT
END:VCALENDAR