BEGIN:VCALENDAR
VERSION:2.0
PRODID:-//jEvents 2.0 for Joomla//EN
CALSCALE:GREGORIAN
METHOD:PUBLISH
BEGIN:VTIMEZONE
TZID:America/Toronto
BEGIN:STANDARD
DTSTART:20241103T010000
RDATE:20250309T030000
TZOFFSETFROM:-0400
TZOFFSETTO:-0500
TZNAME:America/Toronto EST
END:STANDARD
BEGIN:STANDARD
DTSTART:20251102T010000
RDATE:20260308T030000
TZOFFSETFROM:-0400
TZOFFSETTO:-0500
TZNAME:America/Toronto EST
END:STANDARD
BEGIN:STANDARD
DTSTART:20261101T010000
RDATE:20270314T030000
TZOFFSETFROM:-0400
TZOFFSETTO:-0500
TZNAME:America/Toronto EST
END:STANDARD
BEGIN:STANDARD
DTSTART:20271107T010000
RDATE:20280312T030000
TZOFFSETFROM:-0400
TZOFFSETTO:-0500
TZNAME:America/Toronto EST
END:STANDARD
BEGIN:STANDARD
DTSTART:20281105T010000
RDATE:20290311T030000
TZOFFSETFROM:-0400
TZOFFSETTO:-0500
TZNAME:America/Toronto EST
END:STANDARD
BEGIN:STANDARD
DTSTART:20291104T010000
RDATE:20300310T030000
TZOFFSETFROM:-0400
TZOFFSETTO:-0500
TZNAME:America/Toronto EST
END:STANDARD
BEGIN:STANDARD
DTSTART:20301103T010000
RDATE:20310309T030000
TZOFFSETFROM:-0400
TZOFFSETTO:-0500
TZNAME:America/Toronto EST
END:STANDARD
BEGIN:STANDARD
DTSTART:20311102T010000
RDATE:20320314T030000
TZOFFSETFROM:-0400
TZOFFSETTO:-0500
TZNAME:America/Toronto EST
END:STANDARD
BEGIN:DAYLIGHT
DTSTART:20240919T100000
RDATE:20241103T010000
TZOFFSETFROM:-0500
TZOFFSETTO:-0400
TZNAME:America/Toronto EDT
END:DAYLIGHT
BEGIN:DAYLIGHT
DTSTART:20250309T030000
RDATE:20251102T010000
TZOFFSETFROM:-0500
TZOFFSETTO:-0400
TZNAME:America/Toronto EDT
END:DAYLIGHT
BEGIN:DAYLIGHT
DTSTART:20260308T030000
RDATE:20261101T010000
TZOFFSETFROM:-0500
TZOFFSETTO:-0400
TZNAME:America/Toronto EDT
END:DAYLIGHT
BEGIN:DAYLIGHT
DTSTART:20270314T030000
RDATE:20271107T010000
TZOFFSETFROM:-0500
TZOFFSETTO:-0400
TZNAME:America/Toronto EDT
END:DAYLIGHT
BEGIN:DAYLIGHT
DTSTART:20280312T030000
RDATE:20281105T010000
TZOFFSETFROM:-0500
TZOFFSETTO:-0400
TZNAME:America/Toronto EDT
END:DAYLIGHT
BEGIN:DAYLIGHT
DTSTART:20290311T030000
RDATE:20291104T010000
TZOFFSETFROM:-0500
TZOFFSETTO:-0400
TZNAME:America/Toronto EDT
END:DAYLIGHT
BEGIN:DAYLIGHT
DTSTART:20300310T030000
RDATE:20301103T010000
TZOFFSETFROM:-0500
TZOFFSETTO:-0400
TZNAME:America/Toronto EDT
END:DAYLIGHT
BEGIN:DAYLIGHT
DTSTART:20310309T030000
RDATE:20311102T010000
TZOFFSETFROM:-0500
TZOFFSETTO:-0400
TZNAME:America/Toronto EDT
END:DAYLIGHT
END:VTIMEZONE
BEGIN:VEVENT
UID:14347cbe193aca070b249b0c20d35b7a
CATEGORIES:Durham Events
CREATED:19691231T190000
SUMMARY:Uxbridge Art on the Fringe Festival
LOCATION:Uxbridge Museum Grounds
DESCRIPTION:Uxbridge Art on the Fringe Festival\nSeptember 20-21, 2025 at the Uxbridge 
 Museum Grounds.  Over 30 artists, live music all day and amazing food – all
  in one place.\nCheck out the amazing lineup of over 30 artists at this yea
 r’s Uxbridge Art on the Fringe Festival plus great food from Gangster Chees
 e, and live music in the Gazebo all day. Come out and enjoy the Museum Grou
 nds and the artists.  \nMore details on artists, musicians and food at: htt
 ps://artistsofuxbridge.com/art-on-the-fringe-festival/ (https://artistsofux
 bridge.com/art-on-the-fringe-festival/)\nAdmission FREE, Exhibits and washr
 ooms accessible.\n
X-ALT-DESC;FMTTYPE=text/html:<p style="font-weight: 400;"><strong>Uxbridge Art on the Fringe Festival</s
 trong></p><p style="font-weight: 400;">September 20-21, 2025 at the Uxbridg
 e Museum Grounds.  Over 30 artists, live music all day and amazing food – a
 ll in one place.</p><p style="font-weight: 400;">Check out the amazing line
 up of <strong>over 30 artists</strong> at this year’s Uxbridge Art on the F
 ringe Festival plus <strong>great food</strong> from Gangster Cheese, and <
 strong>live music</strong> in the Gazebo all day. Come out and enjoy the Mu
 seum Grounds and the artists.  </p><p style="font-weight: 400;">More detail
 s on artists, musicians and food at: <a href="https://artistsofuxbridge.com
 /art-on-the-fringe-festival/">https://artistsofuxbridge.com/art-on-the-frin
 ge-festival/</a></p><p style="font-weight: 400;">Admission FREE, Exhibits a
 nd washrooms accessible.</p>
CONTACT:uxartgroup@gmail.com
X-EXTRAINFO:Uxbridge Museum Historical Centre, 7239 Concession 6, Uxbridge, ON L9P 1N5 
     (905) 852-5854
DTSTAMP:20260420T080734
DTSTART;TZID=America/Toronto:20250920T100000
DTEND;TZID=America/Toronto:20250920T170000
SEQUENCE:0
RRULE:FREQ=DAILY;UNTIL=20250922T000000Z;INTERVAL=1
TRANSP:OPAQUE
END:VEVENT
END:VCALENDAR