BEGIN:VCALENDAR
VERSION:2.0
PRODID:-//jEvents 2.0 for Joomla//EN
CALSCALE:GREGORIAN
METHOD:PUBLISH
BEGIN:VTIMEZONE
TZID:America/Toronto
BEGIN:STANDARD
DTSTART:20241103T010000
RDATE:20250309T030000
TZOFFSETFROM:-0400
TZOFFSETTO:-0500
TZNAME:America/Toronto EST
END:STANDARD
BEGIN:STANDARD
DTSTART:20251102T010000
RDATE:20260308T030000
TZOFFSETFROM:-0400
TZOFFSETTO:-0500
TZNAME:America/Toronto EST
END:STANDARD
BEGIN:STANDARD
DTSTART:20261101T010000
RDATE:20270314T030000
TZOFFSETFROM:-0400
TZOFFSETTO:-0500
TZNAME:America/Toronto EST
END:STANDARD
BEGIN:STANDARD
DTSTART:20271107T010000
RDATE:20280312T030000
TZOFFSETFROM:-0400
TZOFFSETTO:-0500
TZNAME:America/Toronto EST
END:STANDARD
BEGIN:STANDARD
DTSTART:20281105T010000
RDATE:20290311T030000
TZOFFSETFROM:-0400
TZOFFSETTO:-0500
TZNAME:America/Toronto EST
END:STANDARD
BEGIN:STANDARD
DTSTART:20291104T010000
RDATE:20300310T030000
TZOFFSETFROM:-0400
TZOFFSETTO:-0500
TZNAME:America/Toronto EST
END:STANDARD
BEGIN:STANDARD
DTSTART:20301103T010000
RDATE:20310309T030000
TZOFFSETFROM:-0400
TZOFFSETTO:-0500
TZNAME:America/Toronto EST
END:STANDARD
BEGIN:STANDARD
DTSTART:20311102T010000
RDATE:20320314T030000
TZOFFSETFROM:-0400
TZOFFSETTO:-0500
TZNAME:America/Toronto EST
END:STANDARD
BEGIN:DAYLIGHT
DTSTART:20240401T153000
RDATE:20241103T010000
TZOFFSETFROM:-0500
TZOFFSETTO:-0400
TZNAME:America/Toronto EDT
END:DAYLIGHT
BEGIN:DAYLIGHT
DTSTART:20250309T030000
RDATE:20251102T010000
TZOFFSETFROM:-0500
TZOFFSETTO:-0400
TZNAME:America/Toronto EDT
END:DAYLIGHT
BEGIN:DAYLIGHT
DTSTART:20260308T030000
RDATE:20261101T010000
TZOFFSETFROM:-0500
TZOFFSETTO:-0400
TZNAME:America/Toronto EDT
END:DAYLIGHT
BEGIN:DAYLIGHT
DTSTART:20270314T030000
RDATE:20271107T010000
TZOFFSETFROM:-0500
TZOFFSETTO:-0400
TZNAME:America/Toronto EDT
END:DAYLIGHT
BEGIN:DAYLIGHT
DTSTART:20280312T030000
RDATE:20281105T010000
TZOFFSETFROM:-0500
TZOFFSETTO:-0400
TZNAME:America/Toronto EDT
END:DAYLIGHT
BEGIN:DAYLIGHT
DTSTART:20290311T030000
RDATE:20291104T010000
TZOFFSETFROM:-0500
TZOFFSETTO:-0400
TZNAME:America/Toronto EDT
END:DAYLIGHT
BEGIN:DAYLIGHT
DTSTART:20300310T030000
RDATE:20301103T010000
TZOFFSETFROM:-0500
TZOFFSETTO:-0400
TZNAME:America/Toronto EDT
END:DAYLIGHT
BEGIN:DAYLIGHT
DTSTART:20310309T030000
RDATE:20311102T010000
TZOFFSETFROM:-0500
TZOFFSETTO:-0400
TZNAME:America/Toronto EDT
END:DAYLIGHT
END:VTIMEZONE
BEGIN:VEVENT
UID:fb3c7ca9b54712af36412f019e00c977
CATEGORIES:Durham Events
CREATED:20250205T200216
SUMMARY:Farm Connections Open House
LOCATION:67 Winchester Rd. E.\, Brooklin\, Ontario
DESCRIPTION:Durham Farm Connections Open House 2025\nJoin the Durham Farm Connections O
 pen House on Wednesday, April 2, 2025, starting at 3:30 pm until 8:00 pm in
 side at the Luther Vipond Memorial Arena found at 67 Winchester Road East i
 n Brooklin, Ontario. \n\nThis interactive event provides attendees with a c
 hance to experience agriculture in Durham Region through interactive statio
 ns, live farm animals, a chance to touch a tractor and an opportunity to me
 et Durham Region farmers.  See cows, pigs, sheep, goats, chickens, learn ho
 w veggies grow, what crops are grown in the region and learn about making a
 pple cider. This is a wonderful opportunity to explore where your food come
 s from and speak to Durham Region’s farmers.  From kids to grandparents, th
 is event is perfect for the entire family.\n\nDemonstrations will take plac
 e throughout the event including cow milking, sheep shearing, wool spinning
 , and meet a large animal veterinarian. Don’t miss a chance take part in a 
 free draw for a local food basket. Admission is free, food bank donations a
 re appreciated.\nDurham Farm Connections Open House is a free event offered
  by the farmers of Durham Region. There is construction on Winchester Road 
 http://www.durham.ca/WinchesterRoad (http://www.durham.ca/WinchesterRoad) f
 or updates on current traffic conditions.\n \nFor more information visit:\n
 www.durhamfarmconnections.ca (http://www.durhamfarmconnections.ca)\nwww.fac
 ebook.com/durhamfarmconnections (http://www.facebook.com/durhamfarmconnecti
 ons)\n
X-ALT-DESC;FMTTYPE=text/html:<p><strong>Durham Farm Connections Open House 2025</strong></p><p>Join the 
 Durham Farm Connections Open House on Wednesday, April 2, 2025, starting at
  3:30 pm until 8:00 pm inside at the Luther Vipond Memorial Arena found at 
 67 Winchester Road East in Brooklin, Ontario. <br /><br />This interactive 
 event provides attendees with a chance to experience agriculture in Durham 
 Region through interactive stations, live farm animals, a chance to touch a
  tractor and an opportunity to meet Durham Region farmers.  See cows, pigs,
  sheep, goats, chickens, learn how veggies grow, what crops are grown in th
 e region and learn about making apple cider. This is a wonderful opportunit
 y to explore where your food comes from and speak to Durham Region’s farmer
 s.  From kids to grandparents, this event is perfect for the entire family.
 <br /><br />Demonstrations will take place throughout the event including c
 ow milking, sheep shearing, wool spinning, and meet a large animal veterina
 rian. Don’t miss a chance take part in a free draw for a local food basket.
  Admission is free, food bank donations are appreciated.</p><p>Durham Farm 
 Connections Open House is a free event offered by the farmers of Durham Reg
 ion. There is construction on Winchester Road <a href="http://www.durham.ca
 /WinchesterRoad">http://www.durham.ca/WinchesterRoad</a> for updates on cur
 rent traffic conditions.</p><p> </p><p>For more information visit:</p><p><a
  href="http://www.durhamfarmconnections.ca">www.durhamfarmconnections.ca</a
 ></p><p><a href="http://www.facebook.com/durhamfarmconnections">www.faceboo
 k.com/durhamfarmconnections</a></p>
CONTACT:Durham Farm Connections
DTSTAMP:20260420T142549
DTSTART;TZID=America/Toronto:20250402T153000
DTEND;TZID=America/Toronto:20250402T200000
SEQUENCE:0
TRANSP:OPAQUE
END:VEVENT
END:VCALENDAR