BEGIN:VCALENDAR
VERSION:2.0
PRODID:-//jEvents 2.0 for Joomla//EN
CALSCALE:GREGORIAN
METHOD:PUBLISH
BEGIN:VTIMEZONE
TZID:America/Toronto
BEGIN:STANDARD
DTSTART:20241103T010000
RDATE:20250309T030000
TZOFFSETFROM:-0400
TZOFFSETTO:-0500
TZNAME:America/Toronto EST
END:STANDARD
BEGIN:STANDARD
DTSTART:20251102T010000
RDATE:20260308T030000
TZOFFSETFROM:-0400
TZOFFSETTO:-0500
TZNAME:America/Toronto EST
END:STANDARD
BEGIN:STANDARD
DTSTART:20261101T010000
RDATE:20270314T030000
TZOFFSETFROM:-0400
TZOFFSETTO:-0500
TZNAME:America/Toronto EST
END:STANDARD
BEGIN:STANDARD
DTSTART:20271107T010000
RDATE:20280312T030000
TZOFFSETFROM:-0400
TZOFFSETTO:-0500
TZNAME:America/Toronto EST
END:STANDARD
BEGIN:STANDARD
DTSTART:20281105T010000
RDATE:20290311T030000
TZOFFSETFROM:-0400
TZOFFSETTO:-0500
TZNAME:America/Toronto EST
END:STANDARD
BEGIN:STANDARD
DTSTART:20291104T010000
RDATE:20300310T030000
TZOFFSETFROM:-0400
TZOFFSETTO:-0500
TZNAME:America/Toronto EST
END:STANDARD
BEGIN:STANDARD
DTSTART:20301103T010000
RDATE:20310309T030000
TZOFFSETFROM:-0400
TZOFFSETTO:-0500
TZNAME:America/Toronto EST
END:STANDARD
BEGIN:STANDARD
DTSTART:20311102T010000
RDATE:20320314T030000
TZOFFSETFROM:-0400
TZOFFSETTO:-0500
TZNAME:America/Toronto EST
END:STANDARD
BEGIN:DAYLIGHT
DTSTART:20240321T140000
RDATE:20241103T010000
TZOFFSETFROM:-0500
TZOFFSETTO:-0400
TZNAME:America/Toronto EDT
END:DAYLIGHT
BEGIN:DAYLIGHT
DTSTART:20250309T030000
RDATE:20251102T010000
TZOFFSETFROM:-0500
TZOFFSETTO:-0400
TZNAME:America/Toronto EDT
END:DAYLIGHT
BEGIN:DAYLIGHT
DTSTART:20260308T030000
RDATE:20261101T010000
TZOFFSETFROM:-0500
TZOFFSETTO:-0400
TZNAME:America/Toronto EDT
END:DAYLIGHT
BEGIN:DAYLIGHT
DTSTART:20270314T030000
RDATE:20271107T010000
TZOFFSETFROM:-0500
TZOFFSETTO:-0400
TZNAME:America/Toronto EDT
END:DAYLIGHT
BEGIN:DAYLIGHT
DTSTART:20280312T030000
RDATE:20281105T010000
TZOFFSETFROM:-0500
TZOFFSETTO:-0400
TZNAME:America/Toronto EDT
END:DAYLIGHT
BEGIN:DAYLIGHT
DTSTART:20290311T030000
RDATE:20291104T010000
TZOFFSETFROM:-0500
TZOFFSETTO:-0400
TZNAME:America/Toronto EDT
END:DAYLIGHT
BEGIN:DAYLIGHT
DTSTART:20300310T030000
RDATE:20301103T010000
TZOFFSETFROM:-0500
TZOFFSETTO:-0400
TZNAME:America/Toronto EDT
END:DAYLIGHT
BEGIN:DAYLIGHT
DTSTART:20310309T030000
RDATE:20311102T010000
TZOFFSETFROM:-0500
TZOFFSETTO:-0400
TZNAME:America/Toronto EDT
END:DAYLIGHT
END:VTIMEZONE
BEGIN:VEVENT
UID:3ba6871e5e94dac48d9d55120086ace7
CATEGORIES:Durham Events
CREATED:20250116T132417
SUMMARY:Goalies Only Hockey Tournament 
LOCATION:Tribute Communities Center\, Oshawa
DESCRIPTION:Goalies Only Hockey Tournament and Skills Competition sponsored by The Goal
 ie Crease &amp; Brian's Custom Sports.\n$150 per registraion - 2 games and 
 a skills competition for goalies 17 and older. Includes jersey with custom 
 name &amp; #, prizes for top fundraisers, swag, free food truck lunch &amp;
  more!\n \n$120 per registration  - 1 game and a skills competition for goa
 lies age 13 - 16yrs. Includes: jersey with custom name &amp; #, prizes for 
 top fundraisers, swag, free food truck lunch &amp; more!\nThis is a Charity
  Fundraiser Event for Dreams &amp; Wishes Children's Charity - supporting a
 ll children living in shelters in Durham Region and the Kawarthas. For more
  information visit dreams-wisheschildrenscharity.com\n
X-ALT-DESC;FMTTYPE=text/html:<p>Goalies Only Hockey Tournament and Skills Competition sponsored by The G
 oalie Crease &amp; Brian's Custom Sports.</p><p>$150 per registraion - 2 ga
 mes and a skills competition for goalies 17 and older. Includes jersey with
  custom name &amp; #, prizes for top fundraisers, swag, free food truck lun
 ch &amp; more!</p><p> </p><p>$120 per registration  - 1 game and a skills c
 ompetition for goalies age 13 - 16yrs. Includes: jersey with custom name &a
 mp; #, prizes for top fundraisers, swag, free food truck lunch &amp; more!<
 /p><p>This is a Charity Fundraiser Event for Dreams &amp; Wishes Children's
  Charity - supporting all children living in shelters in Durham Region and 
 the Kawarthas. For more information visit dreams-wisheschildrenscharity.com
 </p>
CONTACT:This email address is being protected from spambots. You need JavaScript enabled to view it.
X-EXTRAINFO:There will be a Vendor Expo on the Concourse Level - ** free admission ** c
 ome out and watch a game with the family! 
DTSTAMP:20260420T075205
DTSTART;TZID=America/Toronto:20250322T140000
DTEND;TZID=America/Toronto:20250322T200000
SEQUENCE:0
TRANSP:OPAQUE
END:VEVENT
END:VCALENDAR