BEGIN:VCALENDAR
VERSION:2.0
PRODID:-//jEvents 2.0 for Joomla//EN
CALSCALE:GREGORIAN
METHOD:PUBLISH
BEGIN:VTIMEZONE
TZID:America/Toronto
BEGIN:STANDARD
DTSTART:20241103T010000
RDATE:20250309T030000
TZOFFSETFROM:-0400
TZOFFSETTO:-0500
TZNAME:America/Toronto EST
END:STANDARD
BEGIN:STANDARD
DTSTART:20251102T010000
RDATE:20260308T030000
TZOFFSETFROM:-0400
TZOFFSETTO:-0500
TZNAME:America/Toronto EST
END:STANDARD
BEGIN:STANDARD
DTSTART:20261101T010000
RDATE:20270314T030000
TZOFFSETFROM:-0400
TZOFFSETTO:-0500
TZNAME:America/Toronto EST
END:STANDARD
BEGIN:STANDARD
DTSTART:20271107T010000
RDATE:20280312T030000
TZOFFSETFROM:-0400
TZOFFSETTO:-0500
TZNAME:America/Toronto EST
END:STANDARD
BEGIN:STANDARD
DTSTART:20281105T010000
RDATE:20290311T030000
TZOFFSETFROM:-0400
TZOFFSETTO:-0500
TZNAME:America/Toronto EST
END:STANDARD
BEGIN:STANDARD
DTSTART:20291104T010000
RDATE:20300310T030000
TZOFFSETFROM:-0400
TZOFFSETTO:-0500
TZNAME:America/Toronto EST
END:STANDARD
BEGIN:STANDARD
DTSTART:20301103T010000
RDATE:20310309T030000
TZOFFSETFROM:-0400
TZOFFSETTO:-0500
TZNAME:America/Toronto EST
END:STANDARD
BEGIN:STANDARD
DTSTART:20311102T010000
RDATE:20320314T030000
TZOFFSETFROM:-0400
TZOFFSETTO:-0500
TZNAME:America/Toronto EST
END:STANDARD
BEGIN:DAYLIGHT
DTSTART:20240317T183000
RDATE:20241103T010000
TZOFFSETFROM:-0500
TZOFFSETTO:-0400
TZNAME:America/Toronto EDT
END:DAYLIGHT
BEGIN:DAYLIGHT
DTSTART:20250309T030000
RDATE:20251102T010000
TZOFFSETFROM:-0500
TZOFFSETTO:-0400
TZNAME:America/Toronto EDT
END:DAYLIGHT
BEGIN:DAYLIGHT
DTSTART:20260308T030000
RDATE:20261101T010000
TZOFFSETFROM:-0500
TZOFFSETTO:-0400
TZNAME:America/Toronto EDT
END:DAYLIGHT
BEGIN:DAYLIGHT
DTSTART:20270314T030000
RDATE:20271107T010000
TZOFFSETFROM:-0500
TZOFFSETTO:-0400
TZNAME:America/Toronto EDT
END:DAYLIGHT
BEGIN:DAYLIGHT
DTSTART:20280312T030000
RDATE:20281105T010000
TZOFFSETFROM:-0500
TZOFFSETTO:-0400
TZNAME:America/Toronto EDT
END:DAYLIGHT
BEGIN:DAYLIGHT
DTSTART:20290311T030000
RDATE:20291104T010000
TZOFFSETFROM:-0500
TZOFFSETTO:-0400
TZNAME:America/Toronto EDT
END:DAYLIGHT
BEGIN:DAYLIGHT
DTSTART:20300310T030000
RDATE:20301103T010000
TZOFFSETFROM:-0500
TZOFFSETTO:-0400
TZNAME:America/Toronto EDT
END:DAYLIGHT
BEGIN:DAYLIGHT
DTSTART:20310309T030000
RDATE:20311102T010000
TZOFFSETFROM:-0500
TZOFFSETTO:-0400
TZNAME:America/Toronto EDT
END:DAYLIGHT
END:VTIMEZONE
BEGIN:VEVENT
UID:c381e9a8c347b3a06dec5ce70a7bc3f8
CATEGORIES:Durham Events
CREATED:20241118T154134
SUMMARY:Girls in STEM
LOCATION:8 Vipond Road\, Brooklin\, ON\, L1M 1B3
DESCRIPTION:Things are about to get Nuclear! Learn how we get electricity into our home
 s from a nuclear power plant.\nThis program for Grades 4–6 is designed to e
 mpower girls and non-binary students to explore concepts in STEM in a serie
 s of hands-on and engaging activities. \nBrought to you by AECOM Canada Nuc
 lear Services.  \nThis program is offered at the Brooklin Branch of the Whi
 tby Public Library.\nRegister online at https://whitbylibrary.libcal.com/ca
 lendars?t=d&amp;q=girls%20in%20stem&amp;cid=-1&amp;cal=-1&amp;inc=0\n
X-ALT-DESC;FMTTYPE=text/html:<p lang="EN-US" xmllang="EN-US">Things are about to get Nuclear! Learn how 
 we get electricity into our homes from a nuclear power plant.</p><p lang="E
 N-US" xmllang="EN-US">This program for Grades 4–6 is designed to empower gi
 rls and non-binary students to explore concepts in STEM in a series of hand
 s-on and engaging activities. </p><p>Brought to you by AECOM Canada Nuclear
  Services.  </p><p>This program is offered at the Brooklin Branch of the Wh
 itby Public Library.</p><p>Register online at https://whitbylibrary.libcal.
 com/calendars?t=d&amp;q=girls%20in%20stem&amp;cid=-1&amp;cal=-1&amp;inc=0</
 p>
DTSTAMP:20260420T075032
DTSTART;TZID=America/Toronto:20250318T183000
DTEND;TZID=America/Toronto:20250318T193000
SEQUENCE:0
TRANSP:OPAQUE
END:VEVENT
END:VCALENDAR