BEGIN:VCALENDAR
VERSION:2.0
PRODID:-//jEvents 2.0 for Joomla//EN
CALSCALE:GREGORIAN
METHOD:PUBLISH
BEGIN:VTIMEZONE
TZID:America/Toronto
BEGIN:STANDARD
DTSTART:20231116T110000
RDATE:20240310T030000
TZOFFSETFROM:-0400
TZOFFSETTO:-0500
TZNAME:America/Toronto EST
END:STANDARD
BEGIN:STANDARD
DTSTART:20241103T010000
RDATE:20250309T030000
TZOFFSETFROM:-0400
TZOFFSETTO:-0500
TZNAME:America/Toronto EST
END:STANDARD
BEGIN:STANDARD
DTSTART:20251102T010000
RDATE:20260308T030000
TZOFFSETFROM:-0400
TZOFFSETTO:-0500
TZNAME:America/Toronto EST
END:STANDARD
BEGIN:STANDARD
DTSTART:20261101T010000
RDATE:20270314T030000
TZOFFSETFROM:-0400
TZOFFSETTO:-0500
TZNAME:America/Toronto EST
END:STANDARD
BEGIN:STANDARD
DTSTART:20271107T010000
RDATE:20280312T030000
TZOFFSETFROM:-0400
TZOFFSETTO:-0500
TZNAME:America/Toronto EST
END:STANDARD
BEGIN:STANDARD
DTSTART:20281105T010000
RDATE:20290311T030000
TZOFFSETFROM:-0400
TZOFFSETTO:-0500
TZNAME:America/Toronto EST
END:STANDARD
BEGIN:STANDARD
DTSTART:20291104T010000
RDATE:20300310T030000
TZOFFSETFROM:-0400
TZOFFSETTO:-0500
TZNAME:America/Toronto EST
END:STANDARD
BEGIN:STANDARD
DTSTART:20301103T010000
RDATE:20310309T030000
TZOFFSETFROM:-0400
TZOFFSETTO:-0500
TZNAME:America/Toronto EST
END:STANDARD
BEGIN:STANDARD
DTSTART:20311102T010000
RDATE:20320314T030000
TZOFFSETFROM:-0400
TZOFFSETTO:-0500
TZNAME:America/Toronto EST
END:STANDARD
BEGIN:DAYLIGHT
DTSTART:20240310T030000
RDATE:20241103T010000
TZOFFSETFROM:-0500
TZOFFSETTO:-0400
TZNAME:America/Toronto EDT
END:DAYLIGHT
BEGIN:DAYLIGHT
DTSTART:20250309T030000
RDATE:20251102T010000
TZOFFSETFROM:-0500
TZOFFSETTO:-0400
TZNAME:America/Toronto EDT
END:DAYLIGHT
BEGIN:DAYLIGHT
DTSTART:20260308T030000
RDATE:20261101T010000
TZOFFSETFROM:-0500
TZOFFSETTO:-0400
TZNAME:America/Toronto EDT
END:DAYLIGHT
BEGIN:DAYLIGHT
DTSTART:20270314T030000
RDATE:20271107T010000
TZOFFSETFROM:-0500
TZOFFSETTO:-0400
TZNAME:America/Toronto EDT
END:DAYLIGHT
BEGIN:DAYLIGHT
DTSTART:20280312T030000
RDATE:20281105T010000
TZOFFSETFROM:-0500
TZOFFSETTO:-0400
TZNAME:America/Toronto EDT
END:DAYLIGHT
BEGIN:DAYLIGHT
DTSTART:20290311T030000
RDATE:20291104T010000
TZOFFSETFROM:-0500
TZOFFSETTO:-0400
TZNAME:America/Toronto EDT
END:DAYLIGHT
BEGIN:DAYLIGHT
DTSTART:20300310T030000
RDATE:20301103T010000
TZOFFSETFROM:-0500
TZOFFSETTO:-0400
TZNAME:America/Toronto EDT
END:DAYLIGHT
BEGIN:DAYLIGHT
DTSTART:20310309T030000
RDATE:20311102T010000
TZOFFSETFROM:-0500
TZOFFSETTO:-0400
TZNAME:America/Toronto EDT
END:DAYLIGHT
END:VTIMEZONE
BEGIN:VEVENT
UID:6d365a8003133a1b5e9c4a224c079bfa
CATEGORIES:Durham Events
CREATED:20241016T140127
SUMMARY:Murder Mystery: Ho Ho Ho Horrible
LOCATION:16210 island Rd\, Port Perry
DESCRIPTION:Scugog Shores Museum is hosting one last Murder Mystery of 2024! The elves 
 are already tired and are trying to form a union against Santa. But what's 
 this - someone ends up murdered! Can you help solve the crime and save Chri
 stmas? Murder Mystery events are created by dedicated volunteer Sandra Carr
 ier, and are performed enthusiastically by local volunteers. All proceeds f
 or this event go to the Museum for future programs and events. Light refres
 hments will be provided. Tickets are $35+ tax per person, and are available
  at http://bit.ly/SSMVhohohohorrible
X-ALT-DESC;FMTTYPE=text/html:<div class="xdj266r x11i5rnm xat24cr x1mh8g0r x1vvkbs">Scugog Shores Museum
  is hosting one last Murder Mystery of 2024!</div><div class="xdj266r x11i5
 rnm xat24cr x1mh8g0r x1vvkbs"> </div><div class="x11i5rnm xat24cr x1mh8g0r 
 x1vvkbs xtlvy1s">The elves are already tired and are trying to form a union
  against Santa. But what's this - someone ends up murdered! Can you help so
 lve the crime and save Christmas?</div><div class="x11i5rnm xat24cr x1mh8g0
 r x1vvkbs xtlvy1s"> </div><div class="x11i5rnm xat24cr x1mh8g0r x1vvkbs xtl
 vy1s">Murder Mystery events are created by dedicated volunteer Sandra Carri
 er, and are performed enthusiastically by local volunteers. All proceeds fo
 r this event go to the Museum for future programs and events. Light refresh
 ments will be provided.</div><div class="x11i5rnm xat24cr x1mh8g0r x1vvkbs 
 xtlvy1s"> </div><div class="x11i5rnm xat24cr x1mh8g0r x1vvkbs xtlvy1s">Tick
 ets are $35+ tax per person, and are available at http://bit.ly/SSMVhohohoh
 orrible</div>
CONTACT:This email address is being protected from spambots. You need JavaScript enabled to view it.
DTSTAMP:20260420T183451
DTSTART;TZID=America/Toronto:20241116T110000
DTEND;TZID=America/Toronto:20241116T130000
SEQUENCE:0
TRANSP:OPAQUE
END:VEVENT
END:VCALENDAR