BEGIN:VCALENDAR
VERSION:2.0
PRODID:-//jEvents 2.0 for Joomla//EN
CALSCALE:GREGORIAN
METHOD:PUBLISH
BEGIN:VTIMEZONE
TZID:America/Toronto
BEGIN:STANDARD
DTSTART:20231105T010000
RDATE:20240310T030000
TZOFFSETFROM:-0400
TZOFFSETTO:-0500
TZNAME:America/Toronto EST
END:STANDARD
BEGIN:STANDARD
DTSTART:20241103T010000
RDATE:20250309T030000
TZOFFSETFROM:-0400
TZOFFSETTO:-0500
TZNAME:America/Toronto EST
END:STANDARD
BEGIN:STANDARD
DTSTART:20251102T010000
RDATE:20260308T030000
TZOFFSETFROM:-0400
TZOFFSETTO:-0500
TZNAME:America/Toronto EST
END:STANDARD
BEGIN:STANDARD
DTSTART:20261101T010000
RDATE:20270314T030000
TZOFFSETFROM:-0400
TZOFFSETTO:-0500
TZNAME:America/Toronto EST
END:STANDARD
BEGIN:STANDARD
DTSTART:20271107T010000
RDATE:20280312T030000
TZOFFSETFROM:-0400
TZOFFSETTO:-0500
TZNAME:America/Toronto EST
END:STANDARD
BEGIN:STANDARD
DTSTART:20281105T010000
RDATE:20290311T030000
TZOFFSETFROM:-0400
TZOFFSETTO:-0500
TZNAME:America/Toronto EST
END:STANDARD
BEGIN:STANDARD
DTSTART:20291104T010000
RDATE:20300310T030000
TZOFFSETFROM:-0400
TZOFFSETTO:-0500
TZNAME:America/Toronto EST
END:STANDARD
BEGIN:STANDARD
DTSTART:20301103T010000
RDATE:20310309T030000
TZOFFSETFROM:-0400
TZOFFSETTO:-0500
TZNAME:America/Toronto EST
END:STANDARD
BEGIN:STANDARD
DTSTART:20311102T010000
RDATE:20320314T030000
TZOFFSETFROM:-0400
TZOFFSETTO:-0500
TZNAME:America/Toronto EST
END:STANDARD
BEGIN:DAYLIGHT
DTSTART:20231026T190000
RDATE:20231105T010000
TZOFFSETFROM:-0500
TZOFFSETTO:-0400
TZNAME:America/Toronto EDT
END:DAYLIGHT
BEGIN:DAYLIGHT
DTSTART:20240310T030000
RDATE:20241103T010000
TZOFFSETFROM:-0500
TZOFFSETTO:-0400
TZNAME:America/Toronto EDT
END:DAYLIGHT
BEGIN:DAYLIGHT
DTSTART:20250309T030000
RDATE:20251102T010000
TZOFFSETFROM:-0500
TZOFFSETTO:-0400
TZNAME:America/Toronto EDT
END:DAYLIGHT
BEGIN:DAYLIGHT
DTSTART:20260308T030000
RDATE:20261101T010000
TZOFFSETFROM:-0500
TZOFFSETTO:-0400
TZNAME:America/Toronto EDT
END:DAYLIGHT
BEGIN:DAYLIGHT
DTSTART:20270314T030000
RDATE:20271107T010000
TZOFFSETFROM:-0500
TZOFFSETTO:-0400
TZNAME:America/Toronto EDT
END:DAYLIGHT
BEGIN:DAYLIGHT
DTSTART:20280312T030000
RDATE:20281105T010000
TZOFFSETFROM:-0500
TZOFFSETTO:-0400
TZNAME:America/Toronto EDT
END:DAYLIGHT
BEGIN:DAYLIGHT
DTSTART:20290311T030000
RDATE:20291104T010000
TZOFFSETFROM:-0500
TZOFFSETTO:-0400
TZNAME:America/Toronto EDT
END:DAYLIGHT
BEGIN:DAYLIGHT
DTSTART:20300310T030000
RDATE:20301103T010000
TZOFFSETFROM:-0500
TZOFFSETTO:-0400
TZNAME:America/Toronto EDT
END:DAYLIGHT
BEGIN:DAYLIGHT
DTSTART:20310309T030000
RDATE:20311102T010000
TZOFFSETFROM:-0500
TZOFFSETTO:-0400
TZNAME:America/Toronto EDT
END:DAYLIGHT
END:VTIMEZONE
BEGIN:VEVENT
UID:c9e04aca98d8a53e88f8012009563f9f
CATEGORIES:Durham Events
CREATED:20241003T162013
SUMMARY:Durham Regional Crime Stoppers - Fall Charity Dance 
LOCATION:Heydenshore Pavilion - Whitby
DESCRIPTION:Durham Regional Crime Stoppers is hosting a Fall Charity Dance featuring: T
 wo For The Show\nThe dance will take place on Saturday, October 26, 2024 at
  Heydenshore Pavilion in Whitby.  \nDoors Open: 7:00pm\nTickets: $40/person
  \nPurchase a ticket by contacting This email address is being protected fr
 om spambots. You need JavaScript enabled to view it. \nThere will be a Cash
  Bar, Evening Snacks by The Crooked Uncle, 50/50 Draw as well as Door Prize
 s and Raffles \nPlease take this opportunity and support your local Crime S
 toppers program by purchasing a ticket. \nYour attendance at our fundraisin
 g dance will assist the Crime Stoppers program to continue its efforts in m
 aking Durham Region a safe place to live, work and play.\nThank you,\nThe B
 oard Members of Durham Regional Crime Stoppers \n
X-ALT-DESC;FMTTYPE=text/html:<p><strong>Durham Regional Crime Stoppers is hosting a Fall Charity Dance f
 eaturing: <em>Two For The Show</em></strong></p><p>The dance will take plac
 e on Saturday, October 26, 2024 at Heydenshore Pavilion in Whitby.  </p><p>
 Doors Open: 7:00pm</p><p>Tickets: $40/person </p><p>Purchase a ticket by co
 ntacting <joomla-hidden-mail  is-link="1" is-email="1" first="d2hpcHJvYmVyd
 HM=" last="cm9nZXJzLmNvbQ==" text="d2hpcHJvYmVydHNAcm9nZXJzLmNvbQ==" base="
 " >This email address is being protected from spambots. You need JavaScript
  enabled to view it.</joomla-hidden-mail> </p><p>There will be a Cash Bar, 
 Evening Snacks by The Crooked Uncle, 50/50 Draw as well as Door Prizes and 
 Raffles </p><p>Please take this opportunity and support your local Crime St
 oppers program by purchasing a ticket. </p><p>Your attendance at our fundra
 ising dance will assist the Crime Stoppers program to continue its efforts 
 in making Durham Region a safe place to live, work and play.</p><p>Thank yo
 u,</p><p>The Board Members of Durham Regional Crime Stoppers </p>
CONTACT:This email address is being protected from spambots. You need JavaScript enabled to view it. 
DTSTAMP:20260421T112906
DTSTART;TZID=America/Toronto:20241026T190000
DTEND;TZID=America/Toronto:20241026T235900
SEQUENCE:0
TRANSP:OPAQUE
END:VEVENT
END:VCALENDAR