BEGIN:VCALENDAR
VERSION:2.0
PRODID:-//jEvents 2.0 for Joomla//EN
CALSCALE:GREGORIAN
METHOD:PUBLISH
BEGIN:VTIMEZONE
TZID:America/Toronto
BEGIN:STANDARD
DTSTART:20231115T190000
RDATE:20240310T030000
TZOFFSETFROM:-0400
TZOFFSETTO:-0500
TZNAME:America/Toronto EST
END:STANDARD
BEGIN:STANDARD
DTSTART:20241103T010000
RDATE:20250309T030000
TZOFFSETFROM:-0400
TZOFFSETTO:-0500
TZNAME:America/Toronto EST
END:STANDARD
BEGIN:STANDARD
DTSTART:20251102T010000
RDATE:20260308T030000
TZOFFSETFROM:-0400
TZOFFSETTO:-0500
TZNAME:America/Toronto EST
END:STANDARD
BEGIN:STANDARD
DTSTART:20261101T010000
RDATE:20270314T030000
TZOFFSETFROM:-0400
TZOFFSETTO:-0500
TZNAME:America/Toronto EST
END:STANDARD
BEGIN:STANDARD
DTSTART:20271107T010000
RDATE:20280312T030000
TZOFFSETFROM:-0400
TZOFFSETTO:-0500
TZNAME:America/Toronto EST
END:STANDARD
BEGIN:STANDARD
DTSTART:20281105T010000
RDATE:20290311T030000
TZOFFSETFROM:-0400
TZOFFSETTO:-0500
TZNAME:America/Toronto EST
END:STANDARD
BEGIN:STANDARD
DTSTART:20291104T010000
RDATE:20300310T030000
TZOFFSETFROM:-0400
TZOFFSETTO:-0500
TZNAME:America/Toronto EST
END:STANDARD
BEGIN:STANDARD
DTSTART:20301103T010000
RDATE:20310309T030000
TZOFFSETFROM:-0400
TZOFFSETTO:-0500
TZNAME:America/Toronto EST
END:STANDARD
BEGIN:STANDARD
DTSTART:20311102T010000
RDATE:20320314T030000
TZOFFSETFROM:-0400
TZOFFSETTO:-0500
TZNAME:America/Toronto EST
END:STANDARD
BEGIN:DAYLIGHT
DTSTART:20240310T030000
RDATE:20241103T010000
TZOFFSETFROM:-0500
TZOFFSETTO:-0400
TZNAME:America/Toronto EDT
END:DAYLIGHT
BEGIN:DAYLIGHT
DTSTART:20250309T030000
RDATE:20251102T010000
TZOFFSETFROM:-0500
TZOFFSETTO:-0400
TZNAME:America/Toronto EDT
END:DAYLIGHT
BEGIN:DAYLIGHT
DTSTART:20260308T030000
RDATE:20261101T010000
TZOFFSETFROM:-0500
TZOFFSETTO:-0400
TZNAME:America/Toronto EDT
END:DAYLIGHT
BEGIN:DAYLIGHT
DTSTART:20270314T030000
RDATE:20271107T010000
TZOFFSETFROM:-0500
TZOFFSETTO:-0400
TZNAME:America/Toronto EDT
END:DAYLIGHT
BEGIN:DAYLIGHT
DTSTART:20280312T030000
RDATE:20281105T010000
TZOFFSETFROM:-0500
TZOFFSETTO:-0400
TZNAME:America/Toronto EDT
END:DAYLIGHT
BEGIN:DAYLIGHT
DTSTART:20290311T030000
RDATE:20291104T010000
TZOFFSETFROM:-0500
TZOFFSETTO:-0400
TZNAME:America/Toronto EDT
END:DAYLIGHT
BEGIN:DAYLIGHT
DTSTART:20300310T030000
RDATE:20301103T010000
TZOFFSETFROM:-0500
TZOFFSETTO:-0400
TZNAME:America/Toronto EDT
END:DAYLIGHT
BEGIN:DAYLIGHT
DTSTART:20310309T030000
RDATE:20311102T010000
TZOFFSETFROM:-0500
TZOFFSETTO:-0400
TZNAME:America/Toronto EDT
END:DAYLIGHT
END:VTIMEZONE
BEGIN:VEVENT
UID:1082db7ce715a2a27e8d3461d2dd8ece
CATEGORIES:Durham Events
CREATED:20240929T142835
SUMMARY:Friday Night Live!: A Night at Studio 54
LOCATION:St. Francis Centre for Community\, Arts &amp; Culture - 78 Church St. S.\, 
 Ajax
DESCRIPTION:Tired of lounging around and craving something funkadelic? Looking for a fa
 b night filled with good vibes? Here’s the low down: join us for ‘A Night a
 t Studio 54,’ where you can boogie down to the greatest hits of the '70s. G
 ather up all your cool cats and kittens and groove to the sounds from the d
 ecade that was all about disco, new wave, pop, soul, funk and more. Costume
 s are encouraged, so dig out your retro threads and get ready for a night t
 hat’ll be off the hook! Ready to get down? Concessions and cash bar availab
 le.\nTickets are only $5/ticket and are available online at ajax.ca/sfc or 
 at the Ajax and McLean Community Centres, the Audley Recreation Centre, at 
 the St. Francis Centre Box Office, or by calling 905-619-2529, ext. 2787 (A
 RTS)\n
X-ALT-DESC;FMTTYPE=text/html:<p>Tired of lounging around and craving something funkadelic? Looking for a
  fab night filled with good vibes? Here’s the low down: join us for ‘A Nigh
 t at Studio 54,’ where you can boogie down to the greatest hits of the '70s
 . Gather up all your cool cats and kittens and groove to the sounds from th
 e decade that was all about disco, new wave, pop, soul, funk and more. Cost
 umes are encouraged, so dig out your retro threads and get ready for a nigh
 t that’ll be off the hook! Ready to get down? Concessions and cash bar avai
 lable.</p><p>Tickets are only $5/ticket and are available online at ajax.ca
 /sfc or at the Ajax and McLean Community Centres, the Audley Recreation Cen
 tre, at the St. Francis Centre Box Office, or by calling 905-619-2529, ext.
  2787 (ARTS)</p>
CONTACT:Franco Pang
DTSTAMP:20260421T040614
DTSTART;TZID=America/Toronto:20241115T190000
DTEND;TZID=America/Toronto:20241115T220000
SEQUENCE:0
TRANSP:OPAQUE
END:VEVENT
END:VCALENDAR