BEGIN:VCALENDAR
VERSION:2.0
PRODID:-//jEvents 2.0 for Joomla//EN
CALSCALE:GREGORIAN
METHOD:PUBLISH
BEGIN:VTIMEZONE
TZID:America/Toronto
BEGIN:STANDARD
DTSTART:20231105T010000
RDATE:20240310T030000
TZOFFSETFROM:-0400
TZOFFSETTO:-0500
TZNAME:America/Toronto EST
END:STANDARD
BEGIN:STANDARD
DTSTART:20241103T010000
RDATE:20250309T030000
TZOFFSETFROM:-0400
TZOFFSETTO:-0500
TZNAME:America/Toronto EST
END:STANDARD
BEGIN:STANDARD
DTSTART:20251102T010000
RDATE:20260308T030000
TZOFFSETFROM:-0400
TZOFFSETTO:-0500
TZNAME:America/Toronto EST
END:STANDARD
BEGIN:STANDARD
DTSTART:20261101T010000
RDATE:20270314T030000
TZOFFSETFROM:-0400
TZOFFSETTO:-0500
TZNAME:America/Toronto EST
END:STANDARD
BEGIN:STANDARD
DTSTART:20271107T010000
RDATE:20280312T030000
TZOFFSETFROM:-0400
TZOFFSETTO:-0500
TZNAME:America/Toronto EST
END:STANDARD
BEGIN:STANDARD
DTSTART:20281105T010000
RDATE:20290311T030000
TZOFFSETFROM:-0400
TZOFFSETTO:-0500
TZNAME:America/Toronto EST
END:STANDARD
BEGIN:STANDARD
DTSTART:20291104T010000
RDATE:20300310T030000
TZOFFSETFROM:-0400
TZOFFSETTO:-0500
TZNAME:America/Toronto EST
END:STANDARD
BEGIN:STANDARD
DTSTART:20301103T010000
RDATE:20310309T030000
TZOFFSETFROM:-0400
TZOFFSETTO:-0500
TZNAME:America/Toronto EST
END:STANDARD
BEGIN:STANDARD
DTSTART:20311102T010000
RDATE:20320314T030000
TZOFFSETFROM:-0400
TZOFFSETTO:-0500
TZNAME:America/Toronto EST
END:STANDARD
BEGIN:DAYLIGHT
DTSTART:20231030T190000
RDATE:20231105T010000
TZOFFSETFROM:-0500
TZOFFSETTO:-0400
TZNAME:America/Toronto EDT
END:DAYLIGHT
BEGIN:DAYLIGHT
DTSTART:20240310T030000
RDATE:20241103T010000
TZOFFSETFROM:-0500
TZOFFSETTO:-0400
TZNAME:America/Toronto EDT
END:DAYLIGHT
BEGIN:DAYLIGHT
DTSTART:20250309T030000
RDATE:20251102T010000
TZOFFSETFROM:-0500
TZOFFSETTO:-0400
TZNAME:America/Toronto EDT
END:DAYLIGHT
BEGIN:DAYLIGHT
DTSTART:20260308T030000
RDATE:20261101T010000
TZOFFSETFROM:-0500
TZOFFSETTO:-0400
TZNAME:America/Toronto EDT
END:DAYLIGHT
BEGIN:DAYLIGHT
DTSTART:20270314T030000
RDATE:20271107T010000
TZOFFSETFROM:-0500
TZOFFSETTO:-0400
TZNAME:America/Toronto EDT
END:DAYLIGHT
BEGIN:DAYLIGHT
DTSTART:20280312T030000
RDATE:20281105T010000
TZOFFSETFROM:-0500
TZOFFSETTO:-0400
TZNAME:America/Toronto EDT
END:DAYLIGHT
BEGIN:DAYLIGHT
DTSTART:20290311T030000
RDATE:20291104T010000
TZOFFSETFROM:-0500
TZOFFSETTO:-0400
TZNAME:America/Toronto EDT
END:DAYLIGHT
BEGIN:DAYLIGHT
DTSTART:20300310T030000
RDATE:20301103T010000
TZOFFSETFROM:-0500
TZOFFSETTO:-0400
TZNAME:America/Toronto EDT
END:DAYLIGHT
BEGIN:DAYLIGHT
DTSTART:20310309T030000
RDATE:20311102T010000
TZOFFSETFROM:-0500
TZOFFSETTO:-0400
TZNAME:America/Toronto EDT
END:DAYLIGHT
END:VTIMEZONE
BEGIN:VEVENT
UID:934412d48070350ffb01160784363d0e
CATEGORIES:Durham Events
CREATED:20240929T142246
SUMMARY:Books and Brews: The Girls on the Train
LOCATION:St. Francis Centre for Community\, Arts &amp; Culture - 78 Church St. S.\, 
 Ajax
DESCRIPTION:The St. Francis Centre and the Ajax Public Library proudly present Books an
 d Brews – a book club of a different kind! Pick up a copy of the featured b
 ook at the Ajax Library Main Branch before the movie screening and enjoy a 
 facilitated group discussion after the movie. And don’t forget to enjoy som
 e delicious brews on movie night including coffee, tea, and craft beers, as
  well as a movie-themed cocktail or a variety of other refreshments availab
 le for purchase. It’s stories, screens, and snacks all rolled into one!\nTh
 e Girl on the Train (Book by Paula Hawkins and film directed by Tate Taylor
 ) is a psychological thriller that takes us on a journey of an everyday tra
 in commuter, Rachel Watson, who watches a seemingly perfect couple, until o
 ne day – Rachel sees something shocking that unfolds in the backyard of the
  couple’s home.\nThis is a free event, however, registration is required on
 line at ajax.ca/sfc or by calling 905-619-2529, ext. 2787 (ARTS)\n
X-ALT-DESC;FMTTYPE=text/html:<p>The St. Francis Centre and the Ajax Public Library proudly present Books
  and Brews – a book club of a different kind! Pick up a copy of the feature
 d book at the Ajax Library Main Branch before the movie screening and enjoy
  a facilitated group discussion after the movie. And don’t forget to enjoy 
 some delicious brews on movie night including coffee, tea, and craft beers,
  as well as a movie-themed cocktail or a variety of other refreshments avai
 lable for purchase. It’s stories, screens, and snacks all rolled into one!<
 /p><p><strong><em>The Girl on the Train</em></strong> (Book by Paula Hawkin
 s and film directed by Tate Taylor) is a psychological thriller that takes 
 us on a journey of an everyday train commuter, Rachel Watson, who watches a
  seemingly perfect couple, until one day – Rachel sees something shocking t
 hat unfolds in the backyard of the couple’s home.</p><p>This is a free even
 t, however, registration is required online at ajax.ca/sfc or by calling 90
 5-619-2529, ext. 2787 (ARTS)</p>
CONTACT:Franco Pang
DTSTAMP:20260421T140047
DTSTART;TZID=America/Toronto:20241030T190000
DTEND;TZID=America/Toronto:20241030T213000
SEQUENCE:0
TRANSP:OPAQUE
END:VEVENT
END:VCALENDAR