BEGIN:VCALENDAR
VERSION:2.0
PRODID:-//jEvents 2.0 for Joomla//EN
CALSCALE:GREGORIAN
METHOD:PUBLISH
BEGIN:VTIMEZONE
TZID:America/Toronto
BEGIN:STANDARD
DTSTART:20231105T010000
RDATE:20240310T030000
TZOFFSETFROM:-0400
TZOFFSETTO:-0500
TZNAME:America/Toronto EST
END:STANDARD
BEGIN:STANDARD
DTSTART:20241103T010000
RDATE:20250309T030000
TZOFFSETFROM:-0400
TZOFFSETTO:-0500
TZNAME:America/Toronto EST
END:STANDARD
BEGIN:STANDARD
DTSTART:20251102T010000
RDATE:20260308T030000
TZOFFSETFROM:-0400
TZOFFSETTO:-0500
TZNAME:America/Toronto EST
END:STANDARD
BEGIN:STANDARD
DTSTART:20261101T010000
RDATE:20270314T030000
TZOFFSETFROM:-0400
TZOFFSETTO:-0500
TZNAME:America/Toronto EST
END:STANDARD
BEGIN:STANDARD
DTSTART:20271107T010000
RDATE:20280312T030000
TZOFFSETFROM:-0400
TZOFFSETTO:-0500
TZNAME:America/Toronto EST
END:STANDARD
BEGIN:STANDARD
DTSTART:20281105T010000
RDATE:20290311T030000
TZOFFSETFROM:-0400
TZOFFSETTO:-0500
TZNAME:America/Toronto EST
END:STANDARD
BEGIN:STANDARD
DTSTART:20291104T010000
RDATE:20300310T030000
TZOFFSETFROM:-0400
TZOFFSETTO:-0500
TZNAME:America/Toronto EST
END:STANDARD
BEGIN:STANDARD
DTSTART:20301103T010000
RDATE:20310309T030000
TZOFFSETFROM:-0400
TZOFFSETTO:-0500
TZNAME:America/Toronto EST
END:STANDARD
BEGIN:STANDARD
DTSTART:20311102T010000
RDATE:20320314T030000
TZOFFSETFROM:-0400
TZOFFSETTO:-0500
TZNAME:America/Toronto EST
END:STANDARD
BEGIN:DAYLIGHT
DTSTART:20231026T190000
RDATE:20231105T010000
TZOFFSETFROM:-0500
TZOFFSETTO:-0400
TZNAME:America/Toronto EDT
END:DAYLIGHT
BEGIN:DAYLIGHT
DTSTART:20240310T030000
RDATE:20241103T010000
TZOFFSETFROM:-0500
TZOFFSETTO:-0400
TZNAME:America/Toronto EDT
END:DAYLIGHT
BEGIN:DAYLIGHT
DTSTART:20250309T030000
RDATE:20251102T010000
TZOFFSETFROM:-0500
TZOFFSETTO:-0400
TZNAME:America/Toronto EDT
END:DAYLIGHT
BEGIN:DAYLIGHT
DTSTART:20260308T030000
RDATE:20261101T010000
TZOFFSETFROM:-0500
TZOFFSETTO:-0400
TZNAME:America/Toronto EDT
END:DAYLIGHT
BEGIN:DAYLIGHT
DTSTART:20270314T030000
RDATE:20271107T010000
TZOFFSETFROM:-0500
TZOFFSETTO:-0400
TZNAME:America/Toronto EDT
END:DAYLIGHT
BEGIN:DAYLIGHT
DTSTART:20280312T030000
RDATE:20281105T010000
TZOFFSETFROM:-0500
TZOFFSETTO:-0400
TZNAME:America/Toronto EDT
END:DAYLIGHT
BEGIN:DAYLIGHT
DTSTART:20290311T030000
RDATE:20291104T010000
TZOFFSETFROM:-0500
TZOFFSETTO:-0400
TZNAME:America/Toronto EDT
END:DAYLIGHT
BEGIN:DAYLIGHT
DTSTART:20300310T030000
RDATE:20301103T010000
TZOFFSETFROM:-0500
TZOFFSETTO:-0400
TZNAME:America/Toronto EDT
END:DAYLIGHT
BEGIN:DAYLIGHT
DTSTART:20310309T030000
RDATE:20311102T010000
TZOFFSETFROM:-0500
TZOFFSETTO:-0400
TZNAME:America/Toronto EDT
END:DAYLIGHT
END:VTIMEZONE
BEGIN:VEVENT
UID:0825d87fd4bd7229f8efb527ccca6aad
CATEGORIES:Durham Events
CREATED:20240929T134515
SUMMARY:Mind Kontrol
LOCATION:St. Francis Centre for Community\, Arts &amp; Culture - 78 Church St. S.\, 
 Ajax
DESCRIPTION:Multi-award-winning magician and winner of The Traitors Canada - Season 1, 
 Mike D’Urzo, returns to the St. Francis Centre to “mess with your minds” in
  this highly interactive show that blends comedy, magic, and mentalism into
  an amazing night of entertainment. Mind Kontrol takes a fresh spin to clas
 sic magic with astonishing psychological illusions. Mike is a world class e
 ntertainer who captivates audiences at hundreds of shows annually. Cash bar
  and concessions available.\nTickets are only $38/ticket and are available 
 online at ajax.ca/sfc or at the Ajax and McLean Community Centres, the Audl
 ey Recreation Centre, at the St. Francis Centre Box Office, or by calling 9
 05-619-2529, ext. 2787 (ARTS)\n
X-ALT-DESC;FMTTYPE=text/html:<p>Multi-award-winning magician and winner of The Traitors Canada - Season 
 1, Mike D’Urzo, returns to the St. Francis Centre to “mess with your minds”
  in this highly interactive show that blends comedy, magic, and mentalism i
 nto an amazing night of entertainment. Mind Kontrol takes a fresh spin to c
 lassic magic with astonishing psychological illusions. Mike is a world clas
 s entertainer who captivates audiences at hundreds of shows annually. Cash 
 bar and concessions available.</p><p>Tickets are only $38/ticket and are av
 ailable online at ajax.ca/sfc or at the Ajax and McLean Community Centres, 
 the Audley Recreation Centre, at the St. Francis Centre Box Office, or by c
 alling 905-619-2529, ext. 2787 (ARTS)</p>
CONTACT:Franco Pang
DTSTAMP:20260421T113011
DTSTART;TZID=America/Toronto:20241026T190000
DTEND;TZID=America/Toronto:20241026T210000
SEQUENCE:0
TRANSP:OPAQUE
END:VEVENT
END:VCALENDAR