BEGIN:VCALENDAR
VERSION:2.0
PRODID:-//jEvents 2.0 for Joomla//EN
CALSCALE:GREGORIAN
METHOD:PUBLISH
BEGIN:VTIMEZONE
TZID:America/Toronto
BEGIN:STANDARD
DTSTART:20231105T010000
RDATE:20240310T030000
TZOFFSETFROM:-0400
TZOFFSETTO:-0500
TZNAME:America/Toronto EST
END:STANDARD
BEGIN:STANDARD
DTSTART:20241103T010000
RDATE:20250309T030000
TZOFFSETFROM:-0400
TZOFFSETTO:-0500
TZNAME:America/Toronto EST
END:STANDARD
BEGIN:STANDARD
DTSTART:20251102T010000
RDATE:20260308T030000
TZOFFSETFROM:-0400
TZOFFSETTO:-0500
TZNAME:America/Toronto EST
END:STANDARD
BEGIN:STANDARD
DTSTART:20261101T010000
RDATE:20270314T030000
TZOFFSETFROM:-0400
TZOFFSETTO:-0500
TZNAME:America/Toronto EST
END:STANDARD
BEGIN:STANDARD
DTSTART:20271107T010000
RDATE:20280312T030000
TZOFFSETFROM:-0400
TZOFFSETTO:-0500
TZNAME:America/Toronto EST
END:STANDARD
BEGIN:STANDARD
DTSTART:20281105T010000
RDATE:20290311T030000
TZOFFSETFROM:-0400
TZOFFSETTO:-0500
TZNAME:America/Toronto EST
END:STANDARD
BEGIN:STANDARD
DTSTART:20291104T010000
RDATE:20300310T030000
TZOFFSETFROM:-0400
TZOFFSETTO:-0500
TZNAME:America/Toronto EST
END:STANDARD
BEGIN:STANDARD
DTSTART:20301103T010000
RDATE:20310309T030000
TZOFFSETFROM:-0400
TZOFFSETTO:-0500
TZNAME:America/Toronto EST
END:STANDARD
BEGIN:STANDARD
DTSTART:20311102T010000
RDATE:20320314T030000
TZOFFSETFROM:-0400
TZOFFSETTO:-0500
TZNAME:America/Toronto EST
END:STANDARD
BEGIN:DAYLIGHT
DTSTART:20230601T080000
RDATE:20231105T010000
TZOFFSETFROM:-0500
TZOFFSETTO:-0400
TZNAME:America/Toronto EDT
END:DAYLIGHT
BEGIN:DAYLIGHT
DTSTART:20240310T030000
RDATE:20241103T010000
TZOFFSETFROM:-0500
TZOFFSETTO:-0400
TZNAME:America/Toronto EDT
END:DAYLIGHT
BEGIN:DAYLIGHT
DTSTART:20250309T030000
RDATE:20251102T010000
TZOFFSETFROM:-0500
TZOFFSETTO:-0400
TZNAME:America/Toronto EDT
END:DAYLIGHT
BEGIN:DAYLIGHT
DTSTART:20260308T030000
RDATE:20261101T010000
TZOFFSETFROM:-0500
TZOFFSETTO:-0400
TZNAME:America/Toronto EDT
END:DAYLIGHT
BEGIN:DAYLIGHT
DTSTART:20270314T030000
RDATE:20271107T010000
TZOFFSETFROM:-0500
TZOFFSETTO:-0400
TZNAME:America/Toronto EDT
END:DAYLIGHT
BEGIN:DAYLIGHT
DTSTART:20280312T030000
RDATE:20281105T010000
TZOFFSETFROM:-0500
TZOFFSETTO:-0400
TZNAME:America/Toronto EDT
END:DAYLIGHT
BEGIN:DAYLIGHT
DTSTART:20290311T030000
RDATE:20291104T010000
TZOFFSETFROM:-0500
TZOFFSETTO:-0400
TZNAME:America/Toronto EDT
END:DAYLIGHT
BEGIN:DAYLIGHT
DTSTART:20300310T030000
RDATE:20301103T010000
TZOFFSETFROM:-0500
TZOFFSETTO:-0400
TZNAME:America/Toronto EDT
END:DAYLIGHT
BEGIN:DAYLIGHT
DTSTART:20310309T030000
RDATE:20311102T010000
TZOFFSETFROM:-0500
TZOFFSETTO:-0400
TZNAME:America/Toronto EDT
END:DAYLIGHT
END:VTIMEZONE
BEGIN:VEVENT
UID:500ca1e299c7046e7ddb94ca98298ba2
CATEGORIES:Durham Events
CREATED:20240515T230826
SUMMARY:Second Chance Wildlife Sanctuary Yard and Plant Sale
LOCATION:Second Chance Wildlife Sanctuary 2060 Concession Rd #7\, Pickering\, Ont.
DESCRIPTION:Our Yard Sale is back to support all of our kittens and cats in our Sanctua
 ry and in Foster homes. Please come join us on Sat June 1st 8 a.m. to 3 p.m
 . and Sun June 2nd 10 a.m. to 2 p.m.  Rain or Shine we will be there.  \nIt
 ems include giftware, art/prints, records, dvds, cds, pet items, toys, hous
 ehold items and more.  Our popular home grown plants sale will be back and 
 lots of books in our book tunnel. \nDonations of items in good/working cond
 ition for our sale are appreciated. Please leave in the entrance way. We al
 so collect empty beer and wine bottles.  \nOur goal is to find Loving, Fore
 ver Homes for as many cats as possible.  More info and other ways to help p
 lease visit second-chance.ws\n
X-ALT-DESC;FMTTYPE=text/html:<p>Our Yard Sale is back to support all of our kittens and cats in our Sanc
 tuary and in Foster homes. Please come join us on <strong>Sat June 1st 8 a.
 m. to 3</strong> <strong>p.m. and Sun<span style="font-size: 1rem;"> June 2
 nd</span><span style="font-size: 1rem;"> 10 a.m. to 2 p.m.  Rain or Shine w
 e will be there.  </span></strong></p><p><span style="font-size: 1rem;">Ite
 ms include giftware, art/prints, records, dvds, cds, pet items, toys, house
 hold items and more.  Our popular home grown plants sale will be back and l
 ots of books in our book tunnel. </span></p><p><span style="font-size: 1rem
 ;">Donations of items in good/working condition for our sale are appreciate
 d. Please leave in the entrance way. We also collect empty beer and wine bo
 ttles.  </span></p><p><span style="font-size: 1rem;">Our goal is to find Lo
 ving, Forever Homes for as many cats as possible.  More info and other ways
  to help please visit second-chance.ws</span></p>
CONTACT:905-649-8282
X-EXTRAINFO:Located between Brock Road and Westney Road.
DTSTAMP:20260422T013641
DTSTART;TZID=America/Toronto:20240601T080000
DTEND;TZID=America/Toronto:20240601T150000
SEQUENCE:0
TRANSP:OPAQUE
END:VEVENT
END:VCALENDAR