BEGIN:VCALENDAR
VERSION:2.0
PRODID:-//jEvents 2.0 for Joomla//EN
CALSCALE:GREGORIAN
METHOD:PUBLISH
BEGIN:VTIMEZONE
TZID:America/Toronto
BEGIN:STANDARD
DTSTART:20231105T010000
RDATE:20240310T030000
TZOFFSETFROM:-0400
TZOFFSETTO:-0500
TZNAME:America/Toronto EST
END:STANDARD
BEGIN:STANDARD
DTSTART:20241103T010000
RDATE:20250309T030000
TZOFFSETFROM:-0400
TZOFFSETTO:-0500
TZNAME:America/Toronto EST
END:STANDARD
BEGIN:STANDARD
DTSTART:20251102T010000
RDATE:20260308T030000
TZOFFSETFROM:-0400
TZOFFSETTO:-0500
TZNAME:America/Toronto EST
END:STANDARD
BEGIN:STANDARD
DTSTART:20261101T010000
RDATE:20270314T030000
TZOFFSETFROM:-0400
TZOFFSETTO:-0500
TZNAME:America/Toronto EST
END:STANDARD
BEGIN:STANDARD
DTSTART:20271107T010000
RDATE:20280312T030000
TZOFFSETFROM:-0400
TZOFFSETTO:-0500
TZNAME:America/Toronto EST
END:STANDARD
BEGIN:STANDARD
DTSTART:20281105T010000
RDATE:20290311T030000
TZOFFSETFROM:-0400
TZOFFSETTO:-0500
TZNAME:America/Toronto EST
END:STANDARD
BEGIN:STANDARD
DTSTART:20291104T010000
RDATE:20300310T030000
TZOFFSETFROM:-0400
TZOFFSETTO:-0500
TZNAME:America/Toronto EST
END:STANDARD
BEGIN:STANDARD
DTSTART:20301103T010000
RDATE:20310309T030000
TZOFFSETFROM:-0400
TZOFFSETTO:-0500
TZNAME:America/Toronto EST
END:STANDARD
BEGIN:STANDARD
DTSTART:20311102T010000
RDATE:20320314T030000
TZOFFSETFROM:-0400
TZOFFSETTO:-0500
TZNAME:America/Toronto EST
END:STANDARD
BEGIN:DAYLIGHT
DTSTART:20230530T190000
RDATE:20231105T010000
TZOFFSETFROM:-0500
TZOFFSETTO:-0400
TZNAME:America/Toronto EDT
END:DAYLIGHT
BEGIN:DAYLIGHT
DTSTART:20240310T030000
RDATE:20241103T010000
TZOFFSETFROM:-0500
TZOFFSETTO:-0400
TZNAME:America/Toronto EDT
END:DAYLIGHT
BEGIN:DAYLIGHT
DTSTART:20250309T030000
RDATE:20251102T010000
TZOFFSETFROM:-0500
TZOFFSETTO:-0400
TZNAME:America/Toronto EDT
END:DAYLIGHT
BEGIN:DAYLIGHT
DTSTART:20260308T030000
RDATE:20261101T010000
TZOFFSETFROM:-0500
TZOFFSETTO:-0400
TZNAME:America/Toronto EDT
END:DAYLIGHT
BEGIN:DAYLIGHT
DTSTART:20270314T030000
RDATE:20271107T010000
TZOFFSETFROM:-0500
TZOFFSETTO:-0400
TZNAME:America/Toronto EDT
END:DAYLIGHT
BEGIN:DAYLIGHT
DTSTART:20280312T030000
RDATE:20281105T010000
TZOFFSETFROM:-0500
TZOFFSETTO:-0400
TZNAME:America/Toronto EDT
END:DAYLIGHT
BEGIN:DAYLIGHT
DTSTART:20290311T030000
RDATE:20291104T010000
TZOFFSETFROM:-0500
TZOFFSETTO:-0400
TZNAME:America/Toronto EDT
END:DAYLIGHT
BEGIN:DAYLIGHT
DTSTART:20300310T030000
RDATE:20301103T010000
TZOFFSETFROM:-0500
TZOFFSETTO:-0400
TZNAME:America/Toronto EDT
END:DAYLIGHT
BEGIN:DAYLIGHT
DTSTART:20310309T030000
RDATE:20311102T010000
TZOFFSETFROM:-0500
TZOFFSETTO:-0400
TZNAME:America/Toronto EDT
END:DAYLIGHT
END:VTIMEZONE
BEGIN:VEVENT
UID:7f8e5fb00df0b1d19cb6517fe797de15
CATEGORIES:Durham Events
CREATED:20240513T230249
SUMMARY:Daniel Raymond EP Release Show
LOCATION:The Biltmore Theatre\, Oshawa
DESCRIPTION:<div class="event-performances-description"><p>Join us in the magical mezza
 nine of the Biltmore Theatre on Thursday, May 30 at 7pm for an intimate nig
 ht of songs and storytelling with Oshawa singer-songwriter <strong>Daniel R
 aymond</strong>.  Raymond will be playing all of the songs from his new EP,
  ‘What We Are Trying to Become’ in a stripped-down musical duo with J.G. Fo
 lsky – with a focus on describing stories about the writing and recording o
 f each song. This will be followed by performances of a range of songs from
  his other releases. <br /><br />The new EP – which was recorded and produc
 ed by Ottawa’s Jim Bryson – has been receiving positive recognition since i
 ts release.  Canadian Beats states, “The EP is a testament to Raymond’s ded
 ication to growth, both musically and lyrically. Collaborating with new mus
 icians and producer Jim Bryson, Raymond embarked on a journey to craft a so
 und that resonates with hope while retaining the raw honesty of his previou
 s works.” Cactus Cottage adds, “Daniel delivers complex feelings and insigh
 t with great musical accessibility. Sometimes things are hard, and the righ
 t artistic expression of those things makes them relatable. This EP is a ro
 ad trip to find our true selves, and it's happening on a beautiful sunny da
 y in a cherry red convertible with the top down and the wind just right.”<b
 r /><br />25% of the proceeds from the night will go to Feed the Need in Du
 rham and the Downie-Wenjack Foundation.<br /><br />Thursday May 30th 2024<b
 r />Biltmore Theatre Mezzanine Level Performance<br />Fully Seated (General
  Admission non-reserved seating)<br />7PM Doors<br />All Ages</p></div><div
  class="event-performances-lower-left">This is Raymond’s 3rd solo release s
 ince 2020.  His 2020 EP ‘Soft’ garnered him a nomination for ‘Durham Song o
 f Year’ at the Oshawa Music Awards while his 2022 album ‘Suspension’ earned
  him nominations for both ‘Songwriter of the Year’ and ‘Album of the Year’ 
 at the Oshawa Music Awards.  His single ‘Waiting’ from the ‘Suspension’ alb
 um has also performed well on Spotify with over 55,000 steams since its rel
 ease in 2022.</div><div class="event-performances-lower-left"> </div><div c
 lass="event-performances-lower-left"> </div>
CONTACT:This email address is being protected from spambots. You need JavaScript enabled to view it.
X-EXTRAINFO:Ticket link: https://tickets.biltmoretheatre.com/eventperformances.asp?evt=
 30
DTSTAMP:20260421T235104
DTSTART;TZID=America/Toronto:20240530T190000
DTEND;TZID=America/Toronto:20240530T220000
SEQUENCE:0
TRANSP:OPAQUE
END:VEVENT
END:VCALENDAR