BEGIN:VCALENDAR
VERSION:2.0
PRODID:-//jEvents 2.0 for Joomla//EN
CALSCALE:GREGORIAN
METHOD:PUBLISH
BEGIN:VTIMEZONE
TZID:America/Toronto
BEGIN:STANDARD
DTSTART:20231105T010000
RDATE:20240310T030000
TZOFFSETFROM:-0400
TZOFFSETTO:-0500
TZNAME:America/Toronto EST
END:STANDARD
BEGIN:STANDARD
DTSTART:20241103T010000
RDATE:20250309T030000
TZOFFSETFROM:-0400
TZOFFSETTO:-0500
TZNAME:America/Toronto EST
END:STANDARD
BEGIN:STANDARD
DTSTART:20251102T010000
RDATE:20260308T030000
TZOFFSETFROM:-0400
TZOFFSETTO:-0500
TZNAME:America/Toronto EST
END:STANDARD
BEGIN:STANDARD
DTSTART:20261101T010000
RDATE:20270314T030000
TZOFFSETFROM:-0400
TZOFFSETTO:-0500
TZNAME:America/Toronto EST
END:STANDARD
BEGIN:STANDARD
DTSTART:20271107T010000
RDATE:20280312T030000
TZOFFSETFROM:-0400
TZOFFSETTO:-0500
TZNAME:America/Toronto EST
END:STANDARD
BEGIN:STANDARD
DTSTART:20281105T010000
RDATE:20290311T030000
TZOFFSETFROM:-0400
TZOFFSETTO:-0500
TZNAME:America/Toronto EST
END:STANDARD
BEGIN:STANDARD
DTSTART:20291104T010000
RDATE:20300310T030000
TZOFFSETFROM:-0400
TZOFFSETTO:-0500
TZNAME:America/Toronto EST
END:STANDARD
BEGIN:STANDARD
DTSTART:20301103T010000
RDATE:20310309T030000
TZOFFSETFROM:-0400
TZOFFSETTO:-0500
TZNAME:America/Toronto EST
END:STANDARD
BEGIN:STANDARD
DTSTART:20311102T010000
RDATE:20320314T030000
TZOFFSETFROM:-0400
TZOFFSETTO:-0500
TZNAME:America/Toronto EST
END:STANDARD
BEGIN:DAYLIGHT
DTSTART:20230530T080000
RDATE:20231105T010000
TZOFFSETFROM:-0500
TZOFFSETTO:-0400
TZNAME:America/Toronto EDT
END:DAYLIGHT
BEGIN:DAYLIGHT
DTSTART:20240310T030000
RDATE:20241103T010000
TZOFFSETFROM:-0500
TZOFFSETTO:-0400
TZNAME:America/Toronto EDT
END:DAYLIGHT
BEGIN:DAYLIGHT
DTSTART:20250309T030000
RDATE:20251102T010000
TZOFFSETFROM:-0500
TZOFFSETTO:-0400
TZNAME:America/Toronto EDT
END:DAYLIGHT
BEGIN:DAYLIGHT
DTSTART:20260308T030000
RDATE:20261101T010000
TZOFFSETFROM:-0500
TZOFFSETTO:-0400
TZNAME:America/Toronto EDT
END:DAYLIGHT
BEGIN:DAYLIGHT
DTSTART:20270314T030000
RDATE:20271107T010000
TZOFFSETFROM:-0500
TZOFFSETTO:-0400
TZNAME:America/Toronto EDT
END:DAYLIGHT
BEGIN:DAYLIGHT
DTSTART:20280312T030000
RDATE:20281105T010000
TZOFFSETFROM:-0500
TZOFFSETTO:-0400
TZNAME:America/Toronto EDT
END:DAYLIGHT
BEGIN:DAYLIGHT
DTSTART:20290311T030000
RDATE:20291104T010000
TZOFFSETFROM:-0500
TZOFFSETTO:-0400
TZNAME:America/Toronto EDT
END:DAYLIGHT
BEGIN:DAYLIGHT
DTSTART:20300310T030000
RDATE:20301103T010000
TZOFFSETFROM:-0500
TZOFFSETTO:-0400
TZNAME:America/Toronto EDT
END:DAYLIGHT
BEGIN:DAYLIGHT
DTSTART:20310309T030000
RDATE:20311102T010000
TZOFFSETFROM:-0500
TZOFFSETTO:-0400
TZNAME:America/Toronto EDT
END:DAYLIGHT
END:VTIMEZONE
BEGIN:VEVENT
UID:49621ffe510bafbd663cbc0e8238b0d3
CATEGORIES:Durham Events
CREATED:20240422T142235
SUMMARY:28th Annual Golf Fore Grandview Kids Charity Golf Classic
LOCATION:Deer Creek Golf &amp; Banquet Facility
DESCRIPTION:Get ready to tee off for a truly spectacular day on May 30th! It's the 28th
  Annual Golf Fore Grandview Kids Charity Golf Classic, and it's going to be
  a blast! Join us for a day packed with excitement, camaraderie, prizing an
 d plenty of laughter, all in support of the children and youth with physica
 l, communication, and developmental needs seeking care at Grandview Kids.\n
 But wait, there's more! We're not just hitting the greens – we're bringing 
 the magic with interactive displays showcasing the incredible work that hap
 pens at Grandview Kids. Plus, indulge in a scrumptious included lunch that'
 ll fuel your game to victory. \nDon't miss out on this unforgettable event.
  For more information about registration or sponsorship opportunities, visi
 t the event website or reach out to our Community Engagement and Donor Rela
 tions Officer today. Let's make a difference together, one swing at a time!
 \n
X-ALT-DESC;FMTTYPE=text/html:<p>Get ready to tee off for a truly spectacular day on May 30th! It's the 2
 8th Annual Golf Fore Grandview Kids Charity Golf Classic, and it's going to
  be a blast! Join us for a day packed with excitement, camaraderie, prizing
  and plenty of laughter, all in support of the children and youth with phys
 ical, communication, and developmental needs seeking care at Grandview Kids
 .</p><p>But wait, there's more! We're not just hitting the greens – we're b
 ringing the magic with interactive displays showcasing the incredible work 
 that happens at Grandview Kids. Plus, indulge in a scrumptious included lun
 ch that'll fuel your game to victory. </p><p>Don't miss out on this unforge
 ttable event. For more information about registration or sponsorship opport
 unities, visit the event website or reach out to our Community Engagement a
 nd Donor Relations Officer today. Let's make a difference together, one swi
 ng at a time!</p>
CONTACT:This email address is being protected from spambots. You need JavaScript enabled to view it.
X-EXTRAINFO:Please check out our website to register: https://grandviewkidsfoundation.a
 karaisin.com/ui/GolfForeGrandviewKids
DTSTAMP:20260422T013608
DTSTART;TZID=America/Toronto:20240530T080000
DTEND;TZID=America/Toronto:20240530T153000
SEQUENCE:0
TRANSP:OPAQUE
END:VEVENT
END:VCALENDAR