BEGIN:VCALENDAR
VERSION:2.0
PRODID:-//jEvents 2.0 for Joomla//EN
CALSCALE:GREGORIAN
METHOD:PUBLISH
BEGIN:VTIMEZONE
TZID:America/Toronto
BEGIN:STANDARD
DTSTART:20231105T010000
RDATE:20240310T030000
TZOFFSETFROM:-0400
TZOFFSETTO:-0500
TZNAME:America/Toronto EST
END:STANDARD
BEGIN:STANDARD
DTSTART:20241103T010000
RDATE:20250309T030000
TZOFFSETFROM:-0400
TZOFFSETTO:-0500
TZNAME:America/Toronto EST
END:STANDARD
BEGIN:STANDARD
DTSTART:20251102T010000
RDATE:20260308T030000
TZOFFSETFROM:-0400
TZOFFSETTO:-0500
TZNAME:America/Toronto EST
END:STANDARD
BEGIN:STANDARD
DTSTART:20261101T010000
RDATE:20270314T030000
TZOFFSETFROM:-0400
TZOFFSETTO:-0500
TZNAME:America/Toronto EST
END:STANDARD
BEGIN:STANDARD
DTSTART:20271107T010000
RDATE:20280312T030000
TZOFFSETFROM:-0400
TZOFFSETTO:-0500
TZNAME:America/Toronto EST
END:STANDARD
BEGIN:STANDARD
DTSTART:20281105T010000
RDATE:20290311T030000
TZOFFSETFROM:-0400
TZOFFSETTO:-0500
TZNAME:America/Toronto EST
END:STANDARD
BEGIN:STANDARD
DTSTART:20291104T010000
RDATE:20300310T030000
TZOFFSETFROM:-0400
TZOFFSETTO:-0500
TZNAME:America/Toronto EST
END:STANDARD
BEGIN:STANDARD
DTSTART:20301103T010000
RDATE:20310309T030000
TZOFFSETFROM:-0400
TZOFFSETTO:-0500
TZNAME:America/Toronto EST
END:STANDARD
BEGIN:STANDARD
DTSTART:20311102T010000
RDATE:20320314T030000
TZOFFSETFROM:-0400
TZOFFSETTO:-0500
TZNAME:America/Toronto EST
END:STANDARD
BEGIN:DAYLIGHT
DTSTART:20230427T090000
RDATE:20231105T010000
TZOFFSETFROM:-0500
TZOFFSETTO:-0400
TZNAME:America/Toronto EDT
END:DAYLIGHT
BEGIN:DAYLIGHT
DTSTART:20240310T030000
RDATE:20241103T010000
TZOFFSETFROM:-0500
TZOFFSETTO:-0400
TZNAME:America/Toronto EDT
END:DAYLIGHT
BEGIN:DAYLIGHT
DTSTART:20250309T030000
RDATE:20251102T010000
TZOFFSETFROM:-0500
TZOFFSETTO:-0400
TZNAME:America/Toronto EDT
END:DAYLIGHT
BEGIN:DAYLIGHT
DTSTART:20260308T030000
RDATE:20261101T010000
TZOFFSETFROM:-0500
TZOFFSETTO:-0400
TZNAME:America/Toronto EDT
END:DAYLIGHT
BEGIN:DAYLIGHT
DTSTART:20270314T030000
RDATE:20271107T010000
TZOFFSETFROM:-0500
TZOFFSETTO:-0400
TZNAME:America/Toronto EDT
END:DAYLIGHT
BEGIN:DAYLIGHT
DTSTART:20280312T030000
RDATE:20281105T010000
TZOFFSETFROM:-0500
TZOFFSETTO:-0400
TZNAME:America/Toronto EDT
END:DAYLIGHT
BEGIN:DAYLIGHT
DTSTART:20290311T030000
RDATE:20291104T010000
TZOFFSETFROM:-0500
TZOFFSETTO:-0400
TZNAME:America/Toronto EDT
END:DAYLIGHT
BEGIN:DAYLIGHT
DTSTART:20300310T030000
RDATE:20301103T010000
TZOFFSETFROM:-0500
TZOFFSETTO:-0400
TZNAME:America/Toronto EDT
END:DAYLIGHT
BEGIN:DAYLIGHT
DTSTART:20310309T030000
RDATE:20311102T010000
TZOFFSETFROM:-0500
TZOFFSETTO:-0400
TZNAME:America/Toronto EDT
END:DAYLIGHT
END:VTIMEZONE
BEGIN:VEVENT
UID:43b0e284fd8916863815a15c6724d42c
CATEGORIES:Durham Events
CREATED:20240417T103109
SUMMARY: 21st Annual Pitch-in Brooklin Cleanup Event 
LOCATION:Brooklin\, Ontario
DESCRIPTION:The Brooklin Ashburn Myrtle (BAM) Lions Club are organizing the 21st annual
  Pitch-in Brooklin cleanup event the first Saturday after Earth Day,  April
  27th from 9 – 11 am at all Brooklin parks (rain or shine), excluding Grass
  Park (being renovated).   \n \nPlease arrive at 9 am, to sign in, obtain g
 loves and trash bags.  Students requiring volunteer hours are welcome!  Tha
 nk you for your interest in helping clean up our parks,  as part of the Ear
 th Day celebrations that week.  Tim Hortons beverages and treats to be avai
 lable for participants. \n \nIf you are interested in being park captain, o
 r event sponsor please contact Steve at  (mailto:BAMLions@gmail.com)This em
 ail address is being protected from spambots. You need JavaScript enabled t
 o view it.. \n \nList of Parks:\nPark/SiteCivic AddressBrookvalley East Pha
 se 536 Branthaven CourtCachet140 Cachet BlvdCarson55 Carson AveKinross30 Ki
 nross AveOptimist50 Watford StSelkirk19 Selkirk DrivePinecone250 Cachet Blv
 dVipond100 Vipond RoadDuggan38 Duggan AveSt Thomas123 St Thomas StMemorial6
 7 Winchester Road EastCarnwith180 Carnwith Dr WestBrooklin Kinsmen Parkbehi
 nd Brooklin Community CentreBrooklin Horticulture Gardens111 Carnwith Drive
  West
X-ALT-DESC;FMTTYPE=text/html:<p>The Brooklin Ashburn Myrtle (BAM) Lions Club are organizing the 21<sup>s
 t</sup>&nbsp;annual Pitch-in Brooklin cleanup event the first Saturday afte
 r Earth Day, &nbsp;April 27<sup>th</sup>&nbsp;from 9 – 11 am at all Brookli
 n parks (rain or shine), excluding Grass Park (being renovated).&nbsp; &nbs
 p;</p><p>&nbsp;</p><p>Please arrive at 9 am, to sign in, obtain gloves and 
 trash bags.&nbsp;&nbsp;Students requiring volunteer hours are welcome!&nbsp
 ;&nbsp;Thank you for your interest in helping clean up our parks, &nbsp;as 
 part of the Earth Day celebrations that week.&nbsp; Tim Hortons beverages a
 nd treats to be available for participants.&nbsp;</p><p>&nbsp;</p><p>If you
  are interested in being park captain, or event sponsor please contact Stev
 e at&nbsp;<a href="mailto:BAMLions@gmail.com" id="LPlnk348631" data-linkind
 ex="0"></a><joomla-hidden-mail  is-link="1" is-email="1" first="QkFNTGlvbnM
 =" last="Z21haWwuY29t" text="QkFNTGlvbnNAZ21haWwuY29t" base="" >This email 
 address is being protected from spambots. You need JavaScript enabled to vi
 ew it.</joomla-hidden-mail>.&nbsp;</p><p>&nbsp;</p><p>List of Parks:</p><ta
 ble><tbody><tr><td><strong>Park/Site</strong></td><td><strong>Civic Address
 </strong></td></tr><tr><td>Brookvalley East Phase 5</td><td>36 Branthaven C
 ourt</td></tr><tr><td>Cachet</td><td>140 Cachet Blvd</td></tr><tr><td>Carso
 n</td><td>55 Carson Ave</td></tr><tr><td>Kinross</td><td>30 Kinross Ave</td
 ></tr><tr><td>Optimist</td><td>50 Watford St</td></tr><tr><td>Selkirk</td><
 td>19 Selkirk Drive</td></tr><tr><td>Pinecone</td><td>250 Cachet Blvd</td><
 /tr><tr><td>Vipond</td><td>100 Vipond Road</td></tr><tr><td>Duggan</td><td>
 38 Duggan Ave</td></tr><tr><td>St Thomas</td><td>123 St Thomas St</td></tr>
 <tr><td>Memorial</td><td>67 Winchester Road East</td></tr><tr><td>Carnwith<
 /td><td>180 Carnwith Dr West</td></tr><tr><td>Brooklin Kinsmen Park</td><td
 >behind Brooklin Community Centre</td></tr><tr><td>Brooklin Horticulture Ga
 rdens</td><td>111 Carnwith Drive West</td></tr></tbody></table>
CONTACT:This email address is being protected from spambots. You need JavaScript enabled to view it.. 
DTSTAMP:20260420T213706
DTSTART;TZID=America/Toronto:20240427T090000
DTEND;TZID=America/Toronto:20240427T110000
SEQUENCE:0
TRANSP:OPAQUE
END:VEVENT
END:VCALENDAR