BEGIN:VCALENDAR
VERSION:2.0
PRODID:-//jEvents 2.0 for Joomla//EN
CALSCALE:GREGORIAN
METHOD:PUBLISH
BEGIN:VTIMEZONE
TZID:America/Toronto
BEGIN:STANDARD
DTSTART:20231105T010000
RDATE:20240310T030000
TZOFFSETFROM:-0400
TZOFFSETTO:-0500
TZNAME:America/Toronto EST
END:STANDARD
BEGIN:STANDARD
DTSTART:20241103T010000
RDATE:20250309T030000
TZOFFSETFROM:-0400
TZOFFSETTO:-0500
TZNAME:America/Toronto EST
END:STANDARD
BEGIN:STANDARD
DTSTART:20251102T010000
RDATE:20260308T030000
TZOFFSETFROM:-0400
TZOFFSETTO:-0500
TZNAME:America/Toronto EST
END:STANDARD
BEGIN:STANDARD
DTSTART:20261101T010000
RDATE:20270314T030000
TZOFFSETFROM:-0400
TZOFFSETTO:-0500
TZNAME:America/Toronto EST
END:STANDARD
BEGIN:STANDARD
DTSTART:20271107T010000
RDATE:20280312T030000
TZOFFSETFROM:-0400
TZOFFSETTO:-0500
TZNAME:America/Toronto EST
END:STANDARD
BEGIN:STANDARD
DTSTART:20281105T010000
RDATE:20290311T030000
TZOFFSETFROM:-0400
TZOFFSETTO:-0500
TZNAME:America/Toronto EST
END:STANDARD
BEGIN:STANDARD
DTSTART:20291104T010000
RDATE:20300310T030000
TZOFFSETFROM:-0400
TZOFFSETTO:-0500
TZNAME:America/Toronto EST
END:STANDARD
BEGIN:STANDARD
DTSTART:20301103T010000
RDATE:20310309T030000
TZOFFSETFROM:-0400
TZOFFSETTO:-0500
TZNAME:America/Toronto EST
END:STANDARD
BEGIN:STANDARD
DTSTART:20311102T010000
RDATE:20320314T030000
TZOFFSETFROM:-0400
TZOFFSETTO:-0500
TZNAME:America/Toronto EST
END:STANDARD
BEGIN:DAYLIGHT
DTSTART:20230525T110000
RDATE:20231105T010000
TZOFFSETFROM:-0500
TZOFFSETTO:-0400
TZNAME:America/Toronto EDT
END:DAYLIGHT
BEGIN:DAYLIGHT
DTSTART:20240310T030000
RDATE:20241103T010000
TZOFFSETFROM:-0500
TZOFFSETTO:-0400
TZNAME:America/Toronto EDT
END:DAYLIGHT
BEGIN:DAYLIGHT
DTSTART:20250309T030000
RDATE:20251102T010000
TZOFFSETFROM:-0500
TZOFFSETTO:-0400
TZNAME:America/Toronto EDT
END:DAYLIGHT
BEGIN:DAYLIGHT
DTSTART:20260308T030000
RDATE:20261101T010000
TZOFFSETFROM:-0500
TZOFFSETTO:-0400
TZNAME:America/Toronto EDT
END:DAYLIGHT
BEGIN:DAYLIGHT
DTSTART:20270314T030000
RDATE:20271107T010000
TZOFFSETFROM:-0500
TZOFFSETTO:-0400
TZNAME:America/Toronto EDT
END:DAYLIGHT
BEGIN:DAYLIGHT
DTSTART:20280312T030000
RDATE:20281105T010000
TZOFFSETFROM:-0500
TZOFFSETTO:-0400
TZNAME:America/Toronto EDT
END:DAYLIGHT
BEGIN:DAYLIGHT
DTSTART:20290311T030000
RDATE:20291104T010000
TZOFFSETFROM:-0500
TZOFFSETTO:-0400
TZNAME:America/Toronto EDT
END:DAYLIGHT
BEGIN:DAYLIGHT
DTSTART:20300310T030000
RDATE:20301103T010000
TZOFFSETFROM:-0500
TZOFFSETTO:-0400
TZNAME:America/Toronto EDT
END:DAYLIGHT
BEGIN:DAYLIGHT
DTSTART:20310309T030000
RDATE:20311102T010000
TZOFFSETFROM:-0500
TZOFFSETTO:-0400
TZNAME:America/Toronto EDT
END:DAYLIGHT
END:VTIMEZONE
BEGIN:VEVENT
UID:3f3c2bbd82ec3f3c81a75d970a7bc5eb
CATEGORIES:Durham Events
CREATED:20240411T141910
SUMMARY:4th Semi-Annual Creators and Classics Event
LOCATION:Orono Fairgrounds
DESCRIPTION:The countdown begins!\nCreators and Classics returns on May 25th at Orono F
 airgrounds. Enjoy a huge classic car show, *NEW* craft beer from Boshkung B
 rewing Co, family fun (face painting, child-friendly inflatable axe throwin
 g, etc), tasty local food vendors, jeep show n shine, hand-picked local art
 isans, inflatable ace throwing, live music from Rick Rene and MORE! THIS EV
 ENT IS FREE TO THE PUBLIC.Classic Car Pre-Registrations are live! This year
  we are awarding plaque and gas card prizing.\nPre-Register your classic ca
 r online before April 29th: $10\nPay At The Gate: $20\nSHOW ONLY(not taking
  part in the car show competition): $5***this event is rain or shine, unles
 s drastic weather***For general inquiries, or sponsorship inquiries, please
  email us at This email address is being protected from spambots. You need 
 JavaScript enabled to view it.Please visit www.creatorsandclassicsevent.com
  (http://www.creatorsandclassicsevent.com/?fbclid=IwAR27EKkVUugq52d7sYTefHw
 QKzQGZlLAELTDqRzPNJ_vmbAiVtVoovHr-P4_aem_AZudutgzccChiLqSY5qeZMolfzXkJcXlzF
 H9vhX0ZRGNN0RMlEwj0Iyd-p6k9t0PlqnX6n7h5D0a-GwB-OeOza3t) 
X-ALT-DESC;FMTTYPE=text/html:<div class="xdj266r x11i5rnm xat24cr x1mh8g0r x1vvkbs">The countdown begins
 !<br />Creators and Classics returns on May 25th at Orono Fairgrounds. Enjo
 y a huge classic car show, *NEW* craft beer from Boshkung Brewing Co, famil
 y fun (face painting, child-friendly inflatable axe throwing, etc), tasty l
 ocal food vendors, jeep show n shine, hand-picked local artisans, inflatabl
 e ace throwing, live music from Rick Rene and MORE!</div><div class="x11i5r
 nm xat24cr x1mh8g0r x1vvkbs xtlvy1s"> </div><div class="x11i5rnm xat24cr x1
 mh8g0r x1vvkbs xtlvy1s">THIS EVENT IS FREE TO THE PUBLIC.</div><div class="
 x11i5rnm xat24cr x1mh8g0r x1vvkbs xtlvy1s">Classic Car Pre-Registrations ar
 e live! This year we are awarding plaque and gas card prizing.<br />Pre-Reg
 ister your classic car online before April 29th: $10<br />Pay At The Gate: 
 $20<br />SHOW ONLY(not taking part in the car show competition): $5</div><d
 iv class="x11i5rnm xat24cr x1mh8g0r x1vvkbs xtlvy1s">***this event is rain 
 or shine, unless drastic weather***</div><div class="x11i5rnm xat24cr x1mh8
 g0r x1vvkbs xtlvy1s">For general inquiries, or sponsorship inquiries, pleas
 e email us at <joomla-hidden-mail  is-link="1" is-email="1" first="Y3JlYXRv
 cnNhbmRjbGFzc2ljc2V2ZW50" last="Z21haWwuY29t" text="Y3JlYXRvcnNhbmRjbGFzc2l
 jc2V2ZW50QGdtYWlsLmNvbQ==" base="" >This email address is being protected f
 rom spambots. You need JavaScript enabled to view it.</joomla-hidden-mail><
 /div><div class="x11i5rnm xat24cr x1mh8g0r x1vvkbs xtlvy1s">Please visit <a
  class="x1i10hfl xjbqb8w x1ejq31n xd10rxx x1sy0etr x17r0tee x972fbf xcfux6l
  x1qhh985 xm0m39n x9f619 x1ypdohk xt0psk2 xe8uvvx xdj266r x11i5rnm xat24cr 
 x1mh8g0r xexx8yu x4uap5 x18d9i69 xkhd6sd x16tdsg8 x1hl2dhg xggy1nq x1a2a7pz
  xt0b8zv x1fey0fg" tabindex="0" role="link" href="http://www.creatorsandcla
 ssicsevent.com/?fbclid=IwAR27EKkVUugq52d7sYTefHwQKzQGZlLAELTDqRzPNJ_vmbAiVt
 VoovHr-P4_aem_AZudutgzccChiLqSY5qeZMolfzXkJcXlzFH9vhX0ZRGNN0RMlEwj0Iyd-p6k9
 t0PlqnX6n7h5D0a-GwB-OeOza3t" target="_blank" rel="nofollow noopener norefer
 rer">www.creatorsandclassicsevent.com</a> </div>
CONTACT:This email address is being protected from spambots. You need JavaScript enabled to view it.
DTSTAMP:20260421T183402
DTSTART;TZID=America/Toronto:20240525T110000
DTEND;TZID=America/Toronto:20240525T170000
SEQUENCE:0
TRANSP:OPAQUE
END:VEVENT
END:VCALENDAR