BEGIN:VCALENDAR
VERSION:2.0
PRODID:-//jEvents 2.0 for Joomla//EN
CALSCALE:GREGORIAN
METHOD:PUBLISH
BEGIN:VTIMEZONE
TZID:America/Toronto
BEGIN:STANDARD
DTSTART:20231105T010000
RDATE:20240310T030000
TZOFFSETFROM:-0400
TZOFFSETTO:-0500
TZNAME:America/Toronto EST
END:STANDARD
BEGIN:STANDARD
DTSTART:20241103T010000
RDATE:20250309T030000
TZOFFSETFROM:-0400
TZOFFSETTO:-0500
TZNAME:America/Toronto EST
END:STANDARD
BEGIN:STANDARD
DTSTART:20251102T010000
RDATE:20260308T030000
TZOFFSETFROM:-0400
TZOFFSETTO:-0500
TZNAME:America/Toronto EST
END:STANDARD
BEGIN:STANDARD
DTSTART:20261101T010000
RDATE:20270314T030000
TZOFFSETFROM:-0400
TZOFFSETTO:-0500
TZNAME:America/Toronto EST
END:STANDARD
BEGIN:STANDARD
DTSTART:20271107T010000
RDATE:20280312T030000
TZOFFSETFROM:-0400
TZOFFSETTO:-0500
TZNAME:America/Toronto EST
END:STANDARD
BEGIN:STANDARD
DTSTART:20281105T010000
RDATE:20290311T030000
TZOFFSETFROM:-0400
TZOFFSETTO:-0500
TZNAME:America/Toronto EST
END:STANDARD
BEGIN:STANDARD
DTSTART:20291104T010000
RDATE:20300310T030000
TZOFFSETFROM:-0400
TZOFFSETTO:-0500
TZNAME:America/Toronto EST
END:STANDARD
BEGIN:STANDARD
DTSTART:20301103T010000
RDATE:20310309T030000
TZOFFSETFROM:-0400
TZOFFSETTO:-0500
TZNAME:America/Toronto EST
END:STANDARD
BEGIN:STANDARD
DTSTART:20311102T010000
RDATE:20320314T030000
TZOFFSETFROM:-0400
TZOFFSETTO:-0500
TZNAME:America/Toronto EST
END:STANDARD
BEGIN:DAYLIGHT
DTSTART:20230511T100000
RDATE:20231105T010000
TZOFFSETFROM:-0500
TZOFFSETTO:-0400
TZNAME:America/Toronto EDT
END:DAYLIGHT
BEGIN:DAYLIGHT
DTSTART:20240310T030000
RDATE:20241103T010000
TZOFFSETFROM:-0500
TZOFFSETTO:-0400
TZNAME:America/Toronto EDT
END:DAYLIGHT
BEGIN:DAYLIGHT
DTSTART:20250309T030000
RDATE:20251102T010000
TZOFFSETFROM:-0500
TZOFFSETTO:-0400
TZNAME:America/Toronto EDT
END:DAYLIGHT
BEGIN:DAYLIGHT
DTSTART:20260308T030000
RDATE:20261101T010000
TZOFFSETFROM:-0500
TZOFFSETTO:-0400
TZNAME:America/Toronto EDT
END:DAYLIGHT
BEGIN:DAYLIGHT
DTSTART:20270314T030000
RDATE:20271107T010000
TZOFFSETFROM:-0500
TZOFFSETTO:-0400
TZNAME:America/Toronto EDT
END:DAYLIGHT
BEGIN:DAYLIGHT
DTSTART:20280312T030000
RDATE:20281105T010000
TZOFFSETFROM:-0500
TZOFFSETTO:-0400
TZNAME:America/Toronto EDT
END:DAYLIGHT
BEGIN:DAYLIGHT
DTSTART:20290311T030000
RDATE:20291104T010000
TZOFFSETFROM:-0500
TZOFFSETTO:-0400
TZNAME:America/Toronto EDT
END:DAYLIGHT
BEGIN:DAYLIGHT
DTSTART:20300310T030000
RDATE:20301103T010000
TZOFFSETFROM:-0500
TZOFFSETTO:-0400
TZNAME:America/Toronto EDT
END:DAYLIGHT
BEGIN:DAYLIGHT
DTSTART:20310309T030000
RDATE:20311102T010000
TZOFFSETFROM:-0500
TZOFFSETTO:-0400
TZNAME:America/Toronto EDT
END:DAYLIGHT
END:VTIMEZONE
BEGIN:VEVENT
UID:8948ba67b2d1b9fad8bb77e5e4ce9e8d
CATEGORIES:Durham Events
CREATED:20240411T141808
SUMMARY:Petapolooza - Pickering's Outdoor Pet Festival!
LOCATION:Esplanade Park - 1 The Esplanade\, Pickering\, ON L1V 6K7
DESCRIPTION:Petapolooza brings together pet owners and enthusiasts within our community
 . It gives our community the opportunity to meet industry professionals, re
 scue groups, and others in the pet industry.Over 80+ exhibitors and Rescue 
 Groups, live entertainment by SuperDogs, Bark Art, Tattoos for your pet, pe
 t caricatures, lure course, food trucks, games, giveaways and more! \n \n$5
 .00 voluntary donation, free for children &amp; seniors. All proceeds from 
 Petapolooza go towards helping us build a permanent animal shelter.\n\n \nE
 vent Lineup TimeDetails10:15 amOpening Remarks (at the Gazebo)11:00 am, 1:3
 0 pm, 3:00 pmSuperDogs - Live action show for the whole family12:00 pm, 2:1
 5 pm, 4:00 pmJoin SoperCreek Wildlife and learn how you can become an Anima
 l Ambassador.\nThis show is perfect for everyone but especially children.  
 You will learn about native wildlife, how to protect them and of course hav
 e the opportunity to get up close and personal with a few of them!\n(at the
  Gazebo)12:45 pmJoin Animal Services, High Five Kids Dental and the Pickeri
 ng Public Library as we launch this years Tails of Hope Short Story Contest
 !\nLocal children’s book author Sue Palmer will share with you her story “J
 ust Ben Goes to the Forest”.\nAfterwards, illustrator Lynn Palmer will show
  everyone a few tricks and tips on how to draw your furry friend. Attendees
  will have the opportunity to test out their newfound skills and become bud
 ding artist
X-ALT-DESC;FMTTYPE=text/html:<p><span style="font-size: 14pt;">Petapolooza brings together pet owners an
 d enthusiasts within our community. It gives our community the opportunity 
 to meet industry professionals, rescue groups, and others in the pet indust
 ry.Over 80+ exhibitors and Rescue Groups, live entertainment by SuperDogs,&
 nbsp;Bark Art, Tattoos for your pet, pet caricatures, lure course, food tru
 cks, games, giveaways and more!&nbsp;</span></p><p>&nbsp;</p><p><span style
 ="font-size: 14pt;">$5.00 voluntary donation, free for children &amp; senio
 rs. All proceeds from Petapolooza go towards helping us build a permanent a
 nimal shelter.</span></p><p><span style="font-size: 14pt;"></span></p><p>&n
 bsp;</p><div dir="auto"><span style="font-size: 14pt;"><strong>Event Lineup
 </strong></span></div><div dir="auto">&nbsp;</div><div dir="auto"><table bo
 rder="1" style="width: 826px; height: 437px;"><tbody><tr><td><strong>Time</
 strong></td><td><strong>Details</strong></td></tr><tr><td>10:15 am</td><td>
 <strong>Opening Remarks</strong>&nbsp;(at the Gazebo)</td></tr><tr><td>11:0
 0 am, 1:30 pm, 3:00 pm</td><td><strong>SuperDogs</strong>&nbsp;- Live actio
 n show for the whole family</td></tr><tr><td>12:00 pm, 2:15 pm, 4:00 pm</td
 ><td><p>Join&nbsp;<strong>SoperCreek Wildlife</strong>&nbsp;and learn how y
 ou can become an Animal Ambassador.</p><p>This show is perfect for everyone
  but especially children.&nbsp; You will learn about native wildlife, how t
 o protect them and of course have the opportunity to get up close and perso
 nal with a few of them!</p>(at the Gazebo)</td></tr><tr><td>12:45 pm</td><t
 d><p>Join Animal Services, High Five Kids Dental and the Pickering Public L
 ibrary as we launch this years&nbsp;<strong>Tails of Hope Short Story Conte
 st</strong>!</p><p>Local children’s book author Sue Palmer will share with 
 you her story “Just Ben Goes to the Forest”.</p>Afterwards, illustrator Lyn
 n Palmer will show everyone a few tricks and tips on how to draw your furry
  friend. Attendees will have the opportunity to test out their newfound ski
 lls and become budding artist</td></tr></tbody></table></div>
CONTACT:City of Pickering
X-EXTRAINFO:https://www.pickering.ca/en/living/petapolooza.aspx
DTSTAMP:20260421T154856
DTSTART;TZID=America/Toronto:20240511T100000
DTEND;TZID=America/Toronto:20240511T170000
SEQUENCE:0
TRANSP:OPAQUE
END:VEVENT
END:VCALENDAR