BEGIN:VCALENDAR
VERSION:2.0
PRODID:-//jEvents 2.0 for Joomla//EN
CALSCALE:GREGORIAN
METHOD:PUBLISH
BEGIN:VTIMEZONE
TZID:America/Toronto
BEGIN:STANDARD
DTSTART:20231105T010000
RDATE:20240310T030000
TZOFFSETFROM:-0400
TZOFFSETTO:-0500
TZNAME:America/Toronto EST
END:STANDARD
BEGIN:STANDARD
DTSTART:20241103T010000
RDATE:20250309T030000
TZOFFSETFROM:-0400
TZOFFSETTO:-0500
TZNAME:America/Toronto EST
END:STANDARD
BEGIN:STANDARD
DTSTART:20251102T010000
RDATE:20260308T030000
TZOFFSETFROM:-0400
TZOFFSETTO:-0500
TZNAME:America/Toronto EST
END:STANDARD
BEGIN:STANDARD
DTSTART:20261101T010000
RDATE:20270314T030000
TZOFFSETFROM:-0400
TZOFFSETTO:-0500
TZNAME:America/Toronto EST
END:STANDARD
BEGIN:STANDARD
DTSTART:20271107T010000
RDATE:20280312T030000
TZOFFSETFROM:-0400
TZOFFSETTO:-0500
TZNAME:America/Toronto EST
END:STANDARD
BEGIN:STANDARD
DTSTART:20281105T010000
RDATE:20290311T030000
TZOFFSETFROM:-0400
TZOFFSETTO:-0500
TZNAME:America/Toronto EST
END:STANDARD
BEGIN:STANDARD
DTSTART:20291104T010000
RDATE:20300310T030000
TZOFFSETFROM:-0400
TZOFFSETTO:-0500
TZNAME:America/Toronto EST
END:STANDARD
BEGIN:STANDARD
DTSTART:20301103T010000
RDATE:20310309T030000
TZOFFSETFROM:-0400
TZOFFSETTO:-0500
TZNAME:America/Toronto EST
END:STANDARD
BEGIN:STANDARD
DTSTART:20311102T010000
RDATE:20320314T030000
TZOFFSETFROM:-0400
TZOFFSETTO:-0500
TZNAME:America/Toronto EST
END:STANDARD
BEGIN:DAYLIGHT
DTSTART:20230523T193000
RDATE:20231105T010000
TZOFFSETFROM:-0500
TZOFFSETTO:-0400
TZNAME:America/Toronto EDT
END:DAYLIGHT
BEGIN:DAYLIGHT
DTSTART:20240310T030000
RDATE:20241103T010000
TZOFFSETFROM:-0500
TZOFFSETTO:-0400
TZNAME:America/Toronto EDT
END:DAYLIGHT
BEGIN:DAYLIGHT
DTSTART:20250309T030000
RDATE:20251102T010000
TZOFFSETFROM:-0500
TZOFFSETTO:-0400
TZNAME:America/Toronto EDT
END:DAYLIGHT
BEGIN:DAYLIGHT
DTSTART:20260308T030000
RDATE:20261101T010000
TZOFFSETFROM:-0500
TZOFFSETTO:-0400
TZNAME:America/Toronto EDT
END:DAYLIGHT
BEGIN:DAYLIGHT
DTSTART:20270314T030000
RDATE:20271107T010000
TZOFFSETFROM:-0500
TZOFFSETTO:-0400
TZNAME:America/Toronto EDT
END:DAYLIGHT
BEGIN:DAYLIGHT
DTSTART:20280312T030000
RDATE:20281105T010000
TZOFFSETFROM:-0500
TZOFFSETTO:-0400
TZNAME:America/Toronto EDT
END:DAYLIGHT
BEGIN:DAYLIGHT
DTSTART:20290311T030000
RDATE:20291104T010000
TZOFFSETFROM:-0500
TZOFFSETTO:-0400
TZNAME:America/Toronto EDT
END:DAYLIGHT
BEGIN:DAYLIGHT
DTSTART:20300310T030000
RDATE:20301103T010000
TZOFFSETFROM:-0500
TZOFFSETTO:-0400
TZNAME:America/Toronto EDT
END:DAYLIGHT
BEGIN:DAYLIGHT
DTSTART:20310309T030000
RDATE:20311102T010000
TZOFFSETFROM:-0500
TZOFFSETTO:-0400
TZNAME:America/Toronto EDT
END:DAYLIGHT
END:VTIMEZONE
BEGIN:VEVENT
UID:bf7d7c154544aedcae7c1fb91d658ab2
CATEGORIES:Durham Events
CREATED:19691231T190000
SUMMARY:Legally Blonde, The Musical
LOCATION:Uxbridge Music Hall 
DESCRIPTION:Uxbridge Youth Theatre is thrilled to bring you the fabulously fun award-wi
 nning musical based on the adored movie, Legally Blonde. The musical follow
 s the transformation of Elle Woods as she tackles stereotypes and scandal i
 n pursuit of her dreams. Action-packed and exploding with memorable songs a
 nd dynamic dances - this musical is so much fun, it should be illegal! Tick
 ets are available at www.starticketing.com for $25 each. Show dates: Thursd
 ay, May 23 - 7:30 pm Friday, May 24 - 7:30 pm Saturday, May 25 - 7:30 pm Su
 nday, May 26 - 2:00 pm Thursday, May 30 - 7:30 pm Friday, May 31 - 7:30 pm 
 Saturday, June 1 - 2:00 pm Saturday, June 1 - 7:30 pm\n
X-ALT-DESC;FMTTYPE=text/html:<p>Uxbridge Youth Theatre is thrilled to bring you the fabulously fun award
 -winning musical based on the adored movie, Legally Blonde. The musical fol
 lows the transformation of Elle Woods as she tackles stereotypes and scanda
 l in pursuit of her dreams. Action-packed and exploding with memorable song
 s and dynamic dances - this musical is so much fun, it should be illegal! T
 ickets are available at <strong>www.starticketing.com</strong> for $25 each
 . Show dates: Thursday, May 23 - 7:30 pm Friday, May 24 - 7:30 pm Saturday,
  May 25 - 7:30 pm Sunday, May 26 - 2:00 pm Thursday, May 30 - 7:30 pm Frida
 y, May 31 - 7:30 pm Saturday, June 1 - 2:00 pm Saturday, June 1 - 7:30 pm</
 p>
CONTACT:uxbridgeyouththeatre@gmail.com
X-EXTRAINFO:www.uxbridgeyouththeatre.com
DTSTAMP:20260421T220510
DTSTART;TZID=America/Toronto:20240523T193000
SEQUENCE:0
RRULE:FREQ=DAILY;COUNT=8;INTERVAL=1
TRANSP:OPAQUE
END:VEVENT
END:VCALENDAR