BEGIN:VCALENDAR
VERSION:2.0
PRODID:-//jEvents 2.0 for Joomla//EN
CALSCALE:GREGORIAN
METHOD:PUBLISH
BEGIN:VTIMEZONE
TZID:America/Toronto
BEGIN:STANDARD
DTSTART:20231105T010000
RDATE:20240310T030000
TZOFFSETFROM:-0400
TZOFFSETTO:-0500
TZNAME:America/Toronto EST
END:STANDARD
BEGIN:STANDARD
DTSTART:20241103T010000
RDATE:20250309T030000
TZOFFSETFROM:-0400
TZOFFSETTO:-0500
TZNAME:America/Toronto EST
END:STANDARD
BEGIN:STANDARD
DTSTART:20251102T010000
RDATE:20260308T030000
TZOFFSETFROM:-0400
TZOFFSETTO:-0500
TZNAME:America/Toronto EST
END:STANDARD
BEGIN:STANDARD
DTSTART:20261101T010000
RDATE:20270314T030000
TZOFFSETFROM:-0400
TZOFFSETTO:-0500
TZNAME:America/Toronto EST
END:STANDARD
BEGIN:STANDARD
DTSTART:20271107T010000
RDATE:20280312T030000
TZOFFSETFROM:-0400
TZOFFSETTO:-0500
TZNAME:America/Toronto EST
END:STANDARD
BEGIN:STANDARD
DTSTART:20281105T010000
RDATE:20290311T030000
TZOFFSETFROM:-0400
TZOFFSETTO:-0500
TZNAME:America/Toronto EST
END:STANDARD
BEGIN:STANDARD
DTSTART:20291104T010000
RDATE:20300310T030000
TZOFFSETFROM:-0400
TZOFFSETTO:-0500
TZNAME:America/Toronto EST
END:STANDARD
BEGIN:STANDARD
DTSTART:20301103T010000
RDATE:20310309T030000
TZOFFSETFROM:-0400
TZOFFSETTO:-0500
TZNAME:America/Toronto EST
END:STANDARD
BEGIN:STANDARD
DTSTART:20311102T010000
RDATE:20320314T030000
TZOFFSETFROM:-0400
TZOFFSETTO:-0500
TZNAME:America/Toronto EST
END:STANDARD
BEGIN:DAYLIGHT
DTSTART:20231020T090000
RDATE:20231105T010000
TZOFFSETFROM:-0500
TZOFFSETTO:-0400
TZNAME:America/Toronto EDT
END:DAYLIGHT
BEGIN:DAYLIGHT
DTSTART:20240310T030000
RDATE:20241103T010000
TZOFFSETFROM:-0500
TZOFFSETTO:-0400
TZNAME:America/Toronto EDT
END:DAYLIGHT
BEGIN:DAYLIGHT
DTSTART:20250309T030000
RDATE:20251102T010000
TZOFFSETFROM:-0500
TZOFFSETTO:-0400
TZNAME:America/Toronto EDT
END:DAYLIGHT
BEGIN:DAYLIGHT
DTSTART:20260308T030000
RDATE:20261101T010000
TZOFFSETFROM:-0500
TZOFFSETTO:-0400
TZNAME:America/Toronto EDT
END:DAYLIGHT
BEGIN:DAYLIGHT
DTSTART:20270314T030000
RDATE:20271107T010000
TZOFFSETFROM:-0500
TZOFFSETTO:-0400
TZNAME:America/Toronto EDT
END:DAYLIGHT
BEGIN:DAYLIGHT
DTSTART:20280312T030000
RDATE:20281105T010000
TZOFFSETFROM:-0500
TZOFFSETTO:-0400
TZNAME:America/Toronto EDT
END:DAYLIGHT
BEGIN:DAYLIGHT
DTSTART:20290311T030000
RDATE:20291104T010000
TZOFFSETFROM:-0500
TZOFFSETTO:-0400
TZNAME:America/Toronto EDT
END:DAYLIGHT
BEGIN:DAYLIGHT
DTSTART:20300310T030000
RDATE:20301103T010000
TZOFFSETFROM:-0500
TZOFFSETTO:-0400
TZNAME:America/Toronto EDT
END:DAYLIGHT
BEGIN:DAYLIGHT
DTSTART:20310309T030000
RDATE:20311102T010000
TZOFFSETFROM:-0500
TZOFFSETTO:-0400
TZNAME:America/Toronto EDT
END:DAYLIGHT
END:VTIMEZONE
BEGIN:VEVENT
UID:12f27ca361509ba9d43f36a8fda1c14d
CATEGORIES:Durham Events
CREATED:20240319T102035
SUMMARY:COIN-A-RAMA
LOCATION:Oshawa
DESCRIPTION:COIN-A-RAMA   Feb. 16th 2025  one day only    at LVIV Ukarain Pavillion Hal
 l     38 Lviv Blvd. L1H 3C3 Oshawa\na Numistmatic show of coins, tokens, me
 dals, currency, books an supplies and much more. So come out for a fun afte
 rnoon with the family and search for that piece you are missing. free parki
 ng, free entry, free public draw an mini auction. contact Sharon at This em
 ail address is being protected from spambots. You need JavaScript enabled t
 o view it.  - 905 728-1352 \n \n
X-ALT-DESC;FMTTYPE=text/html:<p><strong>COIN-A-RAMA   </strong>Feb. 16th 2025  one day only    at <stron
 g>LVIV</strong> Ukarain Pavillion Hall     38 Lviv Blvd. L1H 3C3 Oshawa</p>
 <p>a Numistmatic show of coins, tokens, medals, currency, books an supplies
  and much more. So come out for a fun afternoon with the family and search 
 for that piece you are missing. free parking, free entry, free public draw 
 an mini auction. contact Sharon at <joomla-hidden-mail  is-link="1" is-emai
 l="1" first="cGFwbWFu" last="YmVsbC5uZXQ=" text="cGFwbWFuQGJlbGwubmV0" base
 ="" >This email address is being protected from spambots. You need JavaScri
 pt enabled to view it.</joomla-hidden-mail>  - 905 728-1352 </p><p> </p>
CONTACT:Sharon     This email address is being protected from spambots. You need JavaScript enabled to view it.
X-EXTRAINFO:web www.oshawacoinclub.com
DTSTAMP:20260421T014903
DTSTART;TZID=America/Toronto:20241020T090000
DTEND;TZID=America/Toronto:20241020T160000
SEQUENCE:0
TRANSP:OPAQUE
END:VEVENT
END:VCALENDAR